Workbook
Name B.Aparatur: #REF!
Name B.Aparatur: #REF!
Name B.Aparatur: #REF!
Name B.Aparatur: #REF!
Name B.Aparatur: #REF!
Name B.Publik: #REF!
Name B.Publik: #REF!
Name B.Publik: #REF!
Name B.Publik: #REF!
Name B.Publik: #REF!
Name BAHAN: #REF!
Name BAHAN: #REF!
Name BAHAN: #REF!
Name BAHAN: #REF!
Name BAHAN: #REF!
Name bedo: #REF!
Name bedo: #REF!
Name bedo: #REF!
Name bedo: #REF!
Name bedo: #REF!
Name KETEPPA: #REF!
Name KETEPPA: #REF!
Name KETEPPA: #REF!
Name KETEPPA: #REF!
Name nnnn: #REF!
Name nnnn: #REF!
Name nnnn: #REF!
Name nnnn: #REF!
Name re: #REF!
Name re: #REF!
Name re: #REF!
Name re: #REF!
Name rekapan: #REF!
Name rekapan: #REF!
Name rekapan: #REF!
Name rekapan: #REF!
Name rekapan: #REF!
Name rrrr: #REF!
Name rrrr: #REF!
Name rrrr: #REF!
Name rrrr: #REF!
Name TEPPA: #REF!
Name TEPPA: #REF!
Name TEPPA: #REF!
Name TEPPA: #REF!
Name TEPPA: #REF!

Sheet 000000000

Sheet 29 DAN 18 TOK
A1: PERBANDINGAN ANGGARAN TAHUN 2019 DENGAN TAHUN 2018
A2: DINAS PERINNAKER KAB. MAGELANG
A5: NO | B5: Kode Rekening | C5: Uraian | D5: Anggaran Tahun 2019 | E5: Anggaran Tahun 2018 yang ada di Tahun 2019 | F5: Tambah / ( Kurang ) | G5: TAHUN 2018
A6: 1 | B6: 2 | C6: 3 | D6: 4 | E6: 5 | F6: 6 = 4 - 5 | G6: Realisasi yang sudah ada SPJ Tahun 2018 | H6: % | I6: Belum Terealisasi | J6: %
G7: 7 | H7: 8 =( 7/5x100) | I7: 9 = 5 - 7 | J7: 10 =( 9/5x100)
A8: A | B8: 201.2010101.00.000.4 | C8: PENDAPATAN | D8: 33000000 | E8: =E9 -> 170500000 | F8: =D8-E8 -> -137500000 | G8: =G9 -> 56745500 | H8: =G8/E8*100 -> 33.281818 | I8: =E8-G8 -> 113754500 | J8: =I8/E8*100 -> 66.718182
B9: 201.2010101.00.000.4.1 | C9: PENDAPATAN ASLI DAERAH | D9: =D10 -> 33000000 | E9: =E10+E13 -> 170500000 | F9: =D9-E9 -> -137500000 | G9: ='rekap REALISASI REKO '!AQ11 -> 56745500 | H9: =G9/E9*100 -> 33.281818 | I9: =E9-G9 -> 113754500 | J9: =I9/E9*100 -> 66.718182
B10: 201.2010101.00.000.4.1.2 | C10: Hasil Retribusi Daerah | D10: 33000000 | E10: 33000000 | F10: =D10-E10 -> 0 | G10: =E10-F10 -> 33000000 | H10: =G10/C10*100 -> #VALUE! | I10: =F10-G10 -> -33000000 | J10: =I10/E10*100 -> -100
B11: 201.2010101.00.000.4.1.2.02 | C11: Retribusi Jasa Usaha | D11: 33000000 | E11: 33000000 | F11: =D11-E11 -> 0 | G11: =E11-F11 -> 33000000 | H11: =G11/C11*100 -> #VALUE! | I11: =F11-G11 -> -33000000 | J11: =I11/E11*100 -> -100
B12: 201.2010101.00.000.4.1.2.02.01 | C12: Retribusi Pemakaian Kekayaan Daerah | D12: 33000000 | E12: 33000000 | F12: =D12-E12 -> 0 | G12: =E12-F12 -> 33000000 | H12: =G12/C12*100 -> #VALUE! | I12: =F12-G12 -> -33000000 | J12: =I12/E12*100 -> -100
B13: 201.2010101.00.000.4.1.2.03.12 | C13: Pemberian Pinjaman IMTA Kepada Pemberi Kerja Tenaga Kerja Asing | D13: 0 | E13: 137500000 | F13: =D13-E13 -> -137500000 | G13: =E13-F13 -> 275000000 | H13: =G13/C13*100 -> #VALUE! | I13: =F13-G13 -> -412500000 | J13: =I13/E13*100 -> -300
A15: B | B15: 201.2010101.00.000.5.1 | C15: BELANJA TIDAK LANGSUNG | D15: 6341834000 | E15: 6048349000 | F15: =D15-E15 -> 293485000 | G15: ='rekap REALISASI REKO '!AQ15 -> 5537071836 | H15: =G15/E15*100 -> 91.546831 | I15: =E15-G15 -> 511277164 | J15: =I15/E15*100 -> 8.453169
B16: 201.2010101.00.000.5.1.1 | C16: BELANJA PEGAWAI | D16: =D17+D28+D30 -> 6341834000 | E16: 6341834000 | F16: =D16-E16 -> 0 | G16: =E16-F16 -> 6341834000 | H16: =G16/C16*100 -> #VALUE! | I16: =F16-G16 -> -6341834000 | J16: =I16/E16*100 -> -100
B17: 201.2010101.00.000.5.1.1.01 | C17: Gaji dan Tunjangan | D17: =SUM(D18:D27) -> 5314124000 | E17: 5314124000 | F17: =D17-E17 -> 0 | G17: =E17-F17 -> 5314124000 | H17: =G17/C17*100 -> #VALUE! | I17: =F17-G17 -> -5314124000 | J17: =I17/E17*100 -> -100
B18: 201.2010101.00.000.5.1.1.01.01 | C18: Gaji Pokok PNS/Uang Representasi | D18: 4097850000 | E18: 4097850000 | F18: =D18-E18 -> 0 | G18: =E18-F18 -> 4097850000 | H18: =G18/C18*100 -> #VALUE! | I18: =F18-G18 -> -4097850000 | J18: =I18/E18*100 -> -100
B19: 201.2010101.00.000.5.1.1.01.02 | C19: Tunjangan Keluarga | D19: 400368000 | E19: 400368000 | F19: =D19-E19 -> 0 | G19: =E19-F19 -> 400368000 | H19: =G19/C19*100 -> #VALUE! | I19: =F19-G19 -> -400368000 | J19: =I19/E19*100 -> -100
B20: 201.2010101.00.000.5.1.1.01.03 | C20: Tunjangan Jabatan 2) | D20: 178091000 | E20: 178091000 | F20: =D20-E20 -> 0 | G20: =E20-F20 -> 178091000 | H20: =G20/C20*100 -> #VALUE! | I20: =F20-G20 -> -178091000 | J20: =I20/E20*100 -> -100
B21: 201.2010101.00.000.5.1.1.01.04 | C21: Tunjangan Fungsional | D21: 245299000 | E21: 245299000 | F21: =D21-E21 -> 0 | G21: =E21-F21 -> 245299000 | H21: =G21/C21*100 -> #VALUE! | I21: =F21-G21 -> -245299000 | J21: =I21/E21*100 -> -100
B22: 201.2010101.00.000.5.1.1.01.05 | C22: Tunjangan Fungsional Umum | D22: 52496000 | E22: 52496000 | F22: =D22-E22 -> 0 | G22: =E22-F22 -> 52496000 | H22: =G22/C22*100 -> #VALUE! | I22: =F22-G22 -> -52496000 | J22: =I22/E22*100 -> -100
B23: 201.2010101.00.000.5.1.1.01.06 | C23: Tunjangan Beras 1) | D23: 173808000 | E23: 173808000 | F23: =D23-E23 -> 0 | G23: =E23-F23 -> 173808000 | H23: =G23/C23*100 -> #VALUE! | I23: =F23-G23 -> -173808000 | J23: =I23/E23*100 -> -100
B24: 201.2010101.00.000.5.1.1.01.07 | C24: Tunjangan PPh/Tunjangan Khusus | D24: 22817000 | E24: 22817000 | F24: =D24-E24 -> 0 | G24: =E24-F24 -> 22817000 | H24: =G24/C24*100 -> #VALUE! | I24: =F24-G24 -> -22817000 | J24: =I24/E24*100 -> -100
B25: 201.2010101.00.000.5.1.1.01.08 | C25: Pembulatan Gaji | D25: 70000 | E25: 70000 | F25: =D25-E25 -> 0 | G25: =E25-F25 -> 70000 | H25: =G25/C25*100 -> #VALUE! | I25: =F25-G25 -> -70000 | J25: =I25/E25*100 -> -100
B26: 201.2010101.00.000.5.1.1.01.21 | C26: Tunjangan BPJS Kesehatan | D26: 111998000 | E26: 111998000 | F26: =D26-E26 -> 0 | G26: =E26-F26 -> 111998000 | H26: =G26/C26*100 -> #VALUE! | I26: =F26-G26 -> -111998000 | J26: =I26/E26*100 -> -100
B27: 201.2010101.00.000.5.1.1.01.22 | C27: Iuran Jaminan Kecelakaan Kerja dan Jaminan Kematian ( JKK JK) | D27: 31327000 | E27: 31327000 | F27: =D27-E27 -> 0 | G27: =E27-F27 -> 31327000 | H27: =G27/C27*100 -> #VALUE! | I27: =F27-G27 -> -31327000 | J27: =I27/E27*100 -> -100
B28: 201.2010101.00.000.5.1.1.02 | C28: Tambahan Penghasilan PNS | D28: =D29 -> 1026060000 | E28: 1026060000 | F28: =D28-E28 -> 0 | G28: =E28-F28 -> 1026060000 | H28: =G28/C28*100 -> #VALUE! | I28: =F28-G28 -> -1026060000 | J28: =I28/E28*100 -> -100
B29: 201.2010101.00.000.5.1.1.02.01 | C29: Tambahan Penghasilan berdasarkan beban kerja | D29: 1026060000 | E29: 1026060000 | F29: =D29-E29 -> 0 | G29: =E29-F29 -> 1026060000 | H29: =G29/C29*100 -> #VALUE! | I29: =F29-G29 -> -1026060000 | J29: =I29/E29*100 -> -100
B30: 201.2010101.00.000.5.1.1.06 | C30: Insentif Pemungutan Retribusi Daerah | D30: =D31 -> 1650000 | E30: 1650000 | F30: =D30-E30 -> 0 | G30: =E30-F30 -> 1650000 | H30: =G30/C30*100 -> #VALUE! | I30: =F30-G30 -> -1650000 | J30: =I30/E30*100 -> -100
B31: 201.2010101.00.000.5.1.1.06.16 | C31: Insentif Pemungutan Retribusi Daerah - Pemakaian Kekayaan Daerah | D31: 1650000 | E31: 1650000 | F31: =D31-E31 -> 0 | G31: =E31-F31 -> 1650000 | H31: =G31/C31*100 -> #VALUE! | I31: =F31-G31 -> -1650000 | J31: =I31/E31*100 -> -100
A33: C | B33: 201.2010101.00.000.5.2 | C33: BELANJA LANGSUNG | D33: =D34+D86+D118+D135+D152+D211+D344+D468+D490+D514+D604+D643 -> 5321184000 | E33: ='rekap REALISASI REKO '!AB677 -> 5229995000 | F33: =D33-E33 -> 91189000 | G33: ='rekap REALISASI REKO '!AQ33 -> 4440396483 | H33: =G33/E33*100 -> 84.9025 | I33: =E33-G33 -> 789598517 | J33: =I33/E33*100 -> 15.0975
A34: I | B34: 201.2010101.01 | C34: Program Pelayanan Administrasi Perkantoran | D34: =D35+D43+D52+D66+D75 -> 386568000 | E34: =E35+E43+E52+E66+E75 -> 403500000 | F34: =D34-E34 -> -16932000 | G34: =G35+G43+G52+G66+G75 -> 329339893 | H34: =G34/E34*100 -> 81.620791 | I34: =I35+I43+I52+I66+I75 -> 74160107 | J34: =I34/E34*100 -> 18.379209
A35: 1 | B35: 201.2010101.01.001 | C35: Penyediaan jasa surat menyurat | D35: =SUM(D37:D42) -> 25387000 | E35: ='rekap REALISASI REKO '!AB35 -> 40000000 | F35: =D35-E35 -> -14613000 | G35: ='rekap REALISASI REKO '!AQ35 -> 39979550 | H35: =G35/E35*100 -> 99.948875 | I35: =E35-G35 -> 20450 | J35: =I35/E35*100 -> 0.051125
B37: 201.2010101.01.001.5.2.2 | C37: BELANJA BARANG DAN JASA | E37: 25387000 | F37: =D37-E37 -> -25387000 | G37: =E37-F37 -> 50774000 | H37: =G37/C37*100 -> #VALUE! | I37: =F37-G37 -> -76161000 | J37: =I37/E37*100 -> -300
B38: 201.2010101.01.001.5.2.2.01 | C38: Belanja Bahan Pakai Habis | E38: 12578000 | F38: =D38-E38 -> -12578000 | G38: =E38-F38 -> 25156000 | H38: =G38/C38*100 -> #VALUE! | I38: =F38-G38 -> -37734000 | J38: =I38/E38*100 -> -300
B39: 201.2010101.01.001.5.2.2.01.01 | C39: Belanja alat tulis kantor | D39: 12578000 | E39: 12578000 | F39: =D39-E39 -> 0 | G39: =E39-F39 -> 12578000 | H39: =G39/C39*100 -> #VALUE! | I39: =F39-G39 -> -12578000 | J39: =I39/E39*100 -> -100
B40: 201.2010101.01.001.5.2.2.06 | C40: Belanja Cetak dan Penggandaan | E40: 12809000 | F40: =D40-E40 -> -12809000 | G40: =E40-F40 -> 25618000 | H40: =G40/C40*100 -> #VALUE! | I40: =F40-G40 -> -38427000 | J40: =I40/E40*100 -> -300
B41: 201.2010101.01.001.5.2.2.06.01 | C41: Belanja Cetak | D41: 4759000 | E41: 4759000 | F41: =D41-E41 -> 0 | G41: =E41-F41 -> 4759000 | H41: =G41/C41*100 -> #VALUE! | I41: =F41-G41 -> -4759000 | J41: =I41/E41*100 -> -100
B42: 201.2010101.01.001.5.2.2.06.02 | C42: Belanja Penggandaan | D42: 8050000 | E42: 8050000 | F42: =D42-E42 -> 0 | G42: =E42-F42 -> 8050000 | H42: =G42/C42*100 -> #VALUE! | I42: =F42-G42 -> -8050000 | J42: =I42/E42*100 -> -100
A43: 2 | B43: 201.2010101.01.002 | C43: Penyediaan jasa komunikasi, sumber daya air dan listrik | D43: =SUM(D47:D51) -> 110000000 | E43: ='rekap REALISASI REKO '!AB45 -> 97500000 | F43: =D43-E43 -> 12500000 | G43: ='rekap REALISASI REKO '!AQ45 -> 75145393 | H43: =G43/E43*100 -> 77.072198 | I43: =E43-G43 -> 22354607 | J43: =I43/E43*100 -> 22.927802
B45: 201.2010101.01.002.5.2.2 | C45: BELANJA BARANG DAN JASA | E45: 110000000 | F45: =D45-E45 -> -110000000 | G45: =E45-F45 -> 220000000 | H45: =G45/C45*100 -> #VALUE! | I45: =F45-G45 -> -330000000 | J45: =I45/E45*100 -> -300
B46: 201.2010101.01.002.5.2.2.03 | C46: Belanja Jasa Kantor | E46: 110000000 | F46: =D46-E46 -> -110000000 | G46: =E46-F46 -> 220000000 | H46: =G46/C46*100 -> #VALUE! | I46: =F46-G46 -> -330000000 | J46: =I46/E46*100 -> -300
...

Sheet 2019 DAN 18
A1: PERBANDINGAN ANGGARAN TAHUN 2019 DENGAN TAHUN 2018
A2: DINAS PERINNAKER KAB. MAGELANG
A5: NO | B5: Kode Rekening | C5: Uraian | D5: Anggaran Tahun 2019 | E5: Anggaran Tahun 2018 yang ada di Tahun 2019 | F5: Tambah / ( Kurang ) | G5: TAHUN 2018
A6: 1 | B6: 2 | C6: 3 | D6: 4 | E6: 5 | F6: 6 = 4 - 5 | G6: Realisasi yang sudah ada SPJ Tahun 2018 | H6: % | I6: Belum Terealisasi | J6: %
G7: 7 | H7: 8 =( 7/5x100) | I7: 9 = 5 - 7 | J7: 10 =( 9/5x100)
A8: A | B8: 201.2010101.00.000.4 | C8: PENDAPATAN | D8: 33000000 | E8: =E9 -> 170500000 | F8: =D8-E8 -> -137500000 | G8: =G9 -> 56745500 | H8: =G8/E8*100 -> 33.281818 | I8: =E8-G8 -> 113754500 | J8: =I8/E8*100 -> 66.718182
B9: 201.2010101.00.000.4.1 | C9: PENDAPATAN ASLI DAERAH | D9: =D10 -> 33000000 | E9: =E10+E13 -> 170500000 | F9: =D9-E9 -> -137500000 | G9: ='rekap REALISASI REKO '!AQ11 -> 56745500 | H9: =G9/E9*100 -> 33.281818 | I9: =E9-G9 -> 113754500 | J9: =I9/E9*100 -> 66.718182
B10: 201.2010101.00.000.4.1.2 | C10: Hasil Retribusi Daerah | D10: 33000000 | E10: 33000000 | F10: =D10-E10 -> 0 | G10: =E10-F10 -> 33000000 | H10: =G10/C10*100 -> #VALUE! | I10: =F10-G10 -> -33000000 | J10: =I10/E10*100 -> -100
B11: 201.2010101.00.000.4.1.2.02 | C11: Retribusi Jasa Usaha | D11: 33000000 | E11: 33000000 | F11: =D11-E11 -> 0 | G11: =E11-F11 -> 33000000 | H11: =G11/C11*100 -> #VALUE! | I11: =F11-G11 -> -33000000 | J11: =I11/E11*100 -> -100
B12: 201.2010101.00.000.4.1.2.02.01 | C12: Retribusi Pemakaian Kekayaan Daerah | D12: 33000000 | E12: 33000000 | F12: =D12-E12 -> 0 | G12: =E12-F12 -> 33000000 | H12: =G12/C12*100 -> #VALUE! | I12: =F12-G12 -> -33000000 | J12: =I12/E12*100 -> -100
B13: 201.2010101.00.000.4.1.2.03.12 | C13: Pemberian Pinjaman IMTA Kepada Pemberi Kerja Tenaga Kerja Asing | D13: 0 | E13: 137500000 | F13: =D13-E13 -> -137500000 | G13: =E13-F13 -> 275000000 | H13: =G13/C13*100 -> #VALUE! | I13: =F13-G13 -> -412500000 | J13: =I13/E13*100 -> -300
A15: B | B15: 201.2010101.00.000.5.1 | C15: BELANJA TIDAK LANGSUNG | D15: 6341834000 | E15: 6048349000 | F15: =D15-E15 -> 293485000 | G15: ='rekap REALISASI REKO '!AQ15 -> 5537071836 | H15: =G15/E15*100 -> 91.546831 | I15: =E15-G15 -> 511277164 | J15: =I15/E15*100 -> 8.453169
B16: 201.2010101.00.000.5.1.1 | C16: BELANJA PEGAWAI | D16: =D17+D28+D30 -> 6341834000 | E16: 6341834000 | F16: =D16-E16 -> 0 | G16: =E16-F16 -> 6341834000 | H16: =G16/C16*100 -> #VALUE! | I16: =F16-G16 -> -6341834000 | J16: =I16/E16*100 -> -100
B17: 201.2010101.00.000.5.1.1.01 | C17: Gaji dan Tunjangan | D17: =SUM(D18:D27) -> 5314124000 | E17: 5314124000 | F17: =D17-E17 -> 0 | G17: =E17-F17 -> 5314124000 | H17: =G17/C17*100 -> #VALUE! | I17: =F17-G17 -> -5314124000 | J17: =I17/E17*100 -> -100
B18: 201.2010101.00.000.5.1.1.01.01 | C18: Gaji Pokok PNS/Uang Representasi | D18: 4097850000 | E18: 4097850000 | F18: =D18-E18 -> 0 | G18: =E18-F18 -> 4097850000 | H18: =G18/C18*100 -> #VALUE! | I18: =F18-G18 -> -4097850000 | J18: =I18/E18*100 -> -100
B19: 201.2010101.00.000.5.1.1.01.02 | C19: Tunjangan Keluarga | D19: 400368000 | E19: 400368000 | F19: =D19-E19 -> 0 | G19: =E19-F19 -> 400368000 | H19: =G19/C19*100 -> #VALUE! | I19: =F19-G19 -> -400368000 | J19: =I19/E19*100 -> -100
B20: 201.2010101.00.000.5.1.1.01.03 | C20: Tunjangan Jabatan 2) | D20: 178091000 | E20: 178091000 | F20: =D20-E20 -> 0 | G20: =E20-F20 -> 178091000 | H20: =G20/C20*100 -> #VALUE! | I20: =F20-G20 -> -178091000 | J20: =I20/E20*100 -> -100
B21: 201.2010101.00.000.5.1.1.01.04 | C21: Tunjangan Fungsional | D21: 245299000 | E21: 245299000 | F21: =D21-E21 -> 0 | G21: =E21-F21 -> 245299000 | H21: =G21/C21*100 -> #VALUE! | I21: =F21-G21 -> -245299000 | J21: =I21/E21*100 -> -100
B22: 201.2010101.00.000.5.1.1.01.05 | C22: Tunjangan Fungsional Umum | D22: 52496000 | E22: 52496000 | F22: =D22-E22 -> 0 | G22: =E22-F22 -> 52496000 | H22: =G22/C22*100 -> #VALUE! | I22: =F22-G22 -> -52496000 | J22: =I22/E22*100 -> -100
B23: 201.2010101.00.000.5.1.1.01.06 | C23: Tunjangan Beras 1) | D23: 173808000 | E23: 173808000 | F23: =D23-E23 -> 0 | G23: =E23-F23 -> 173808000 | H23: =G23/C23*100 -> #VALUE! | I23: =F23-G23 -> -173808000 | J23: =I23/E23*100 -> -100
B24: 201.2010101.00.000.5.1.1.01.07 | C24: Tunjangan PPh/Tunjangan Khusus | D24: 22817000 | E24: 22817000 | F24: =D24-E24 -> 0 | G24: =E24-F24 -> 22817000 | H24: =G24/C24*100 -> #VALUE! | I24: =F24-G24 -> -22817000 | J24: =I24/E24*100 -> -100
B25: 201.2010101.00.000.5.1.1.01.08 | C25: Pembulatan Gaji | D25: 70000 | E25: 70000 | F25: =D25-E25 -> 0 | G25: =E25-F25 -> 70000 | H25: =G25/C25*100 -> #VALUE! | I25: =F25-G25 -> -70000 | J25: =I25/E25*100 -> -100
B26: 201.2010101.00.000.5.1.1.01.21 | C26: Tunjangan BPJS Kesehatan | D26: 111998000 | E26: 111998000 | F26: =D26-E26 -> 0 | G26: =E26-F26 -> 111998000 | H26: =G26/C26*100 -> #VALUE! | I26: =F26-G26 -> -111998000 | J26: =I26/E26*100 -> -100
B27: 201.2010101.00.000.5.1.1.01.22 | C27: Iuran Jaminan Kecelakaan Kerja dan Jaminan Kematian ( JKK JK) | D27: 31327000 | E27: 31327000 | F27: =D27-E27 -> 0 | G27: =E27-F27 -> 31327000 | H27: =G27/C27*100 -> #VALUE! | I27: =F27-G27 -> -31327000 | J27: =I27/E27*100 -> -100
B28: 201.2010101.00.000.5.1.1.02 | C28: Tambahan Penghasilan PNS | D28: =D29 -> 1026060000 | E28: 1026060000 | F28: =D28-E28 -> 0 | G28: =E28-F28 -> 1026060000 | H28: =G28/C28*100 -> #VALUE! | I28: =F28-G28 -> -1026060000 | J28: =I28/E28*100 -> -100
B29: 201.2010101.00.000.5.1.1.02.01 | C29: Tambahan Penghasilan berdasarkan beban kerja | D29: 1026060000 | E29: 1026060000 | F29: =D29-E29 -> 0 | G29: =E29-F29 -> 1026060000 | H29: =G29/C29*100 -> #VALUE! | I29: =F29-G29 -> -1026060000 | J29: =I29/E29*100 -> -100
B30: 201.2010101.00.000.5.1.1.06 | C30: Insentif Pemungutan Retribusi Daerah | D30: =D31 -> 1650000 | E30: 1650000 | F30: =D30-E30 -> 0 | G30: =E30-F30 -> 1650000 | H30: =G30/C30*100 -> #VALUE! | I30: =F30-G30 -> -1650000 | J30: =I30/E30*100 -> -100
B31: 201.2010101.00.000.5.1.1.06.16 | C31: Insentif Pemungutan Retribusi Daerah - Pemakaian Kekayaan Daerah | D31: 1650000 | E31: 1650000 | F31: =D31-E31 -> 0 | G31: =E31-F31 -> 1650000 | H31: =G31/C31*100 -> #VALUE! | I31: =F31-G31 -> -1650000 | J31: =I31/E31*100 -> -100
A33: C | B33: 201.2010101.00.000.5.2 | C33: BELANJA LANGSUNG | D33: =D34+D86+D118+D135+D152+D211+D344+D468+D490+D514+D604+D643 -> 5321184000 | E33: ='rekap REALISASI REKO '!AB677 -> 5229995000 | F33: =D33-E33 -> 91189000 | G33: ='rekap REALISASI REKO '!AQ33 -> 4440396483 | H33: =G33/E33*100 -> 84.9025 | I33: =E33-G33 -> 789598517 | J33: =I33/E33*100 -> 15.0975
A34: I | B34: 201.2010101.01 | C34: Program Pelayanan Administrasi Perkantoran | D34: =D35+D43+D52+D66+D75 -> 386568000 | E34: =E35+E43+E52+E66+E75 -> 403500000 | F34: =D34-E34 -> -16932000 | G34: =G35+G43+G52+G66+G75 -> 329339893 | H34: =G34/E34*100 -> 81.620791 | I34: =I35+I43+I52+I66+I75 -> 74160107 | J34: =I34/E34*100 -> 18.379209
A35: 1 | B35: 201.2010101.01.001 | C35: Penyediaan jasa surat menyurat | D35: =SUM(D37:D42) -> 25387000 | E35: ='rekap REALISASI REKO '!AB35 -> 40000000 | F35: =D35-E35 -> -14613000 | G35: ='rekap REALISASI REKO '!AQ35 -> 39979550 | H35: =G35/E35*100 -> 99.948875 | I35: =E35-G35 -> 20450 | J35: =I35/E35*100 -> 0.051125
B37: 201.2010101.01.001.5.2.2 | C37: BELANJA BARANG DAN JASA | E37: 25387000 | F37: =D37-E37 -> -25387000 | G37: =E37-F37 -> 50774000 | H37: =G37/C37*100 -> #VALUE! | I37: =F37-G37 -> -76161000 | J37: =I37/E37*100 -> -300
B38: 201.2010101.01.001.5.2.2.01 | C38: Belanja Bahan Pakai Habis | E38: 12578000 | F38: =D38-E38 -> -12578000 | G38: =E38-F38 -> 25156000 | H38: =G38/C38*100 -> #VALUE! | I38: =F38-G38 -> -37734000 | J38: =I38/E38*100 -> -300
B39: 201.2010101.01.001.5.2.2.01.01 | C39: Belanja alat tulis kantor | D39: 12578000 | E39: 12578000 | F39: =D39-E39 -> 0 | G39: =E39-F39 -> 12578000 | H39: =G39/C39*100 -> #VALUE! | I39: =F39-G39 -> -12578000 | J39: =I39/E39*100 -> -100
B40: 201.2010101.01.001.5.2.2.06 | C40: Belanja Cetak dan Penggandaan | E40: 12809000 | F40: =D40-E40 -> -12809000 | G40: =E40-F40 -> 25618000 | H40: =G40/C40*100 -> #VALUE! | I40: =F40-G40 -> -38427000 | J40: =I40/E40*100 -> -300
B41: 201.2010101.01.001.5.2.2.06.01 | C41: Belanja Cetak | D41: 4759000 | E41: 4759000 | F41: =D41-E41 -> 0 | G41: =E41-F41 -> 4759000 | H41: =G41/C41*100 -> #VALUE! | I41: =F41-G41 -> -4759000 | J41: =I41/E41*100 -> -100
B42: 201.2010101.01.001.5.2.2.06.02 | C42: Belanja Penggandaan | D42: 8050000 | E42: 8050000 | F42: =D42-E42 -> 0 | G42: =E42-F42 -> 8050000 | H42: =G42/C42*100 -> #VALUE! | I42: =F42-G42 -> -8050000 | J42: =I42/E42*100 -> -100
A43: 2 | B43: 201.2010101.01.002 | C43: Penyediaan jasa komunikasi, sumber daya air dan listrik | D43: =SUM(D47:D51) -> 110000000 | E43: ='rekap REALISASI REKO '!AB45 -> 97500000 | F43: =D43-E43 -> 12500000 | G43: ='rekap REALISASI REKO '!AQ45 -> 75145393 | H43: =G43/E43*100 -> 77.072198 | I43: =E43-G43 -> 22354607 | J43: =I43/E43*100 -> 22.927802
B45: 201.2010101.01.002.5.2.2 | C45: BELANJA BARANG DAN JASA | E45: 110000000 | F45: =D45-E45 -> -110000000 | G45: =E45-F45 -> 220000000 | H45: =G45/C45*100 -> #VALUE! | I45: =F45-G45 -> -330000000 | J45: =I45/E45*100 -> -300
B46: 201.2010101.01.002.5.2.2.03 | C46: Belanja Jasa Kantor | E46: 110000000 | F46: =D46-E46 -> -110000000 | G46: =E46-F46 -> 220000000 | H46: =G46/C46*100 -> #VALUE! | I46: =F46-G46 -> -330000000 | J46: =I46/E46*100 -> -300
...

Sheet penetapan 2019
A2: PERHITUNGAN APBD PENETAPAN 2019
A4: 1 | B4: Pendapatan Asli Daerah ( PAD ) Tahun Anggaran 2019
C5: pagu Tahun 2018 | D5: 170500000
C6: Rencana Tahun 2019 | D6: 33000000
C7: Pengurangan | D7: =D6-D5 -> -137500000
B8: Berkurang karena Untuk IMTA di Tahun 2019 di tiadakan, di tahun 2018 sebesar Rp. 137.500.000,-
B9: Realisasi sampai Buan Nopember baru ada 3 TKA yang perpanjangan / (IMTA) rencana 9 TKA
B10: Regulasi Baru : PERPRES NO 20 Th 2018 Tentang Penggunaan Tenaga Kerja Asing
A11: 2 | B11: Adapun untuk belanja tidak langsung atau Gaji PNS berdasarkan Gaji bulan Nopember
B12: 2018 Terdiri dari 176 Jiwa Dengan rincian :
B13: Jumlah Pegawai
C14: pegawai | D14: 66 | E14: Pegawai
C15: Jumlah Isteri/suami | D15: 49 | E15: Jiwa
C16: Jumlah anak | D16: 61 | E16: Jiwa
C17: Jumlah keseluruhan | D17: =SUM(D13:D16) -> 176 | E17: Jiwa
B18: Pagu Belanja Tidak langsung | D18: Tahun 2019 | E18: Tahun 2018 | F18: Penambahan/( - )
B19: (Gaji PNS & Tunjangan) | D19: 6341834000 | E19: 6048349000 | F19: =D19-E19 -> 293485000
A21: 3 | B21: Untuk belanja langsung yang terdiri dari : | D21: Tahun 2019 | E21: Tahun 2018 | F21: Penambahan/( - )
D22: 12 Program | E22: 12 Program | F22: 0
D23: 37 Kegiatan | E23: 38 Kegiatan | F23: -1
C24: Pagu Anggaran | D24: 5321184000 | E24: 5229995000 | F24: =D24-E24 -> 91189000
A25: Keterangan Jumlah Anggaran keseluruhan
B26: Belanja Tidak Langsung dan Langsung Dinas Perindustrian dan Tenaga Kerja | D26: Tahun 2019 | E26: Tahun 2018 | F26: Penambahan/( - )
B27: JUMLAH KESELURUHAN | D27: =D24+D19 -> 11663018000 | E27: =E24+E19 -> 11278344000 | F27: =D27-E27 -> 384674000
B29: KETERANGAN ADA PENAMBAHAN 3 KEGIATAN DAN PENGURANGAN 4 KEGIATAN
B30: Di Tahun 2019 ada kegiatan baru
A31: 1 | B31: Lembaga Kerjasama Tripartite
A32: 2 | B32: Sosialisasi dan Monitoring Pelaksanaan UMK
A33: 3 | B33: Penyusunan Renstra SKPD
B35: Kegiatan Ditahun 2018 ada dan di Tahun 2019 Tidak Ada
A36: 1 | B36: Pemeliharaan rutin / berkala perlengkapan gedung kantor
A37: 2 | B37: Pendidikan dan pelatihan keterampilan bagi pencari kerja ( DBHCHT )
A38: 3 | B38: Penyelesaian PHI dan PHK
A39: 4 | B39: Updating Data Peindustrian dan Ketenagakerjaan

Sheet REALISASI REKO
D3: PEMERINTAH KABUPATEN MAGELANG
D4: PERHITUNGAN SERAPAN TAHUN 2018 PERUBAHAN
D5: S/D TRI WULAN IV
A8: NO | B8: KD. REKENING | F8: URAIAN | L8: ANGGARAN TAHUN INI | M8: TRIWULAN I | N8: YANG LALU | O8: BULAN INI | P8: JUMLAH REALISASI | Q8: SISA | T8: TRIWULAN II | AA8: TRIWULAN III | AB8: ANGGARAN PERUBAHAN | AC8: SELISIH | AD8: TRIWULAN IV | AE8: JUMLAH | AG8: REALISASI | AK8: REALISASI S/D OKTOBER | AL8: SISA OKTOBER | AM8: NOPEMBER | AN8: DESEMBER | AO8: SISA | AP8: % SILPA | AQ8: RENC RAELISASI 1 TAHUN | AR8: %REALISSI | AT8: TRIWULAN III
AZ9: =L9-AM9-AO9 -> 0
C10: 4.1 | L10: =L12+L13 -> 170500000 | M10: =M12+M13 -> 49086250 | N10: =N12+N13 -> 0 | O10: =O12+O13 -> 0 | P10: =P12+P13 -> 0 | Q10: =Q12+Q13 -> 0 | R10: =R12+R13 -> 0 | S10: =S12+S13 -> 0 | ... AB10: =AB12+AB13 -> 170500000 | AC10: =L10-AB10 -> 0 | AD10: =AD12+AD13 -> 24927800 | AE10: =AE12+AE13 -> 341000000 | AT10: 47279650 | AZ10: =L10-AM10-AO10 -> 170500000
C11: 4.1.00.00.2 | F11: Hasil Retribusi Daerah | L11: 170500000 | M11: 49086250 | T11: 49206300 | AA11: 47279650 | AB11: 170500000 | AC11: =L11-AB11 -> 0 | AD11: 47279650 | AE11: =SUM(M11:AD11) -> 363351850 | AT11: 47279650 | AZ11: =L11-AM11-AO11 -> 170500000
C12: 4.1.00.00.2.02.01 | H12: Retribusi Pemakaian Kekayaan Daerah | L12: 33000000 | M12: 9500000 | T12: 9523800 | AA12: 9150900 | AB12: 33000000 | AC12: =L12-AB12 -> 0 | AD12: 4825300 | AE12: =SUM(M12:AD12) -> 66000000 | AT12: 9150900 | AZ12: =L12-AM12-AO12 -> 33000000
C13: 4.1.00.00.2.03.12 | H13: Pemberian Perpanjangan IMTA kepada Pemberi Kerja Tenaga Kerja Asing - LRA | L13: 137500000 | M13: 39586250 | T13: 39682500 | AA13: 38128750 | AB13: 137500000 | AC13: =L13-AB13 -> 0 | AD13: 20102500 | AE13: =SUM(M13:AD13) -> 275000000 | AS13: =AL13/L15*100 -> 0 | AT13: 38128750 | AZ13: =L13-AM13-AO13 -> 137500000
AZ14: =L14-AM14-AO14 -> 0
A15: A | C15: 5.1.00.00.1 | F15: BELANJA PEGAWAI | L15: =L16+L27+L29 -> 6232337000 | M15: =M16+M27+M29 -> 1426763108 | N15: =N16+N27+N29 -> 0 | O15: =O16+O27+O29 -> 0 | P15: =P16+P27+P29 -> 0 | Q15: =Q16+Q27+Q29 -> 0 | R15: =R16+R27+R29 -> 0 | S15: =S16+S27+S29 -> 0 | ... AB15: =AB16+AB27+AB29 -> 6048349000 | AC15: =AB15-L15 -> -183988000 | AD15: =AD16+AD27+AD29 -> 1429688108 | AE15: =AE16+AE27+AE29 -> 0 | AG15: =AG16+AG27+AG29 -> 4389737764 | AK15: =AK16+AK28 -> 4772820928 | AL15: =AB15-AK15 -> 1275528072 | AM15: =AM16+AM28 -> 383083164 | AN15: =AN16+AN28 -> 444161514 | AO15: =AB15-AK15-AM15-AN15 -> 448283394 | AP15: =AO15/AB15*100 -> 7.4116655 | AQ15: =AK15+AM15+AN15 -> 5600065606 | AR15: =AQ15/AB15*100 -> 92.588335 | AZ15: =L15-AM15-AO15 -> 5400970442
C16: 5.1.00.00.1.01 | G16: Gaji dan Tunjangan | L16: =SUM(L17:L26) -> 5227012000 | M16: =SUM(M17:M26) -> 1194993108 | N16: =SUM(N17:N26) -> 0 | O16: =SUM(O17:O26) -> 0 | P16: =SUM(P17:P26) -> 0 | Q16: =SUM(Q17:Q26) -> 0 | R16: =SUM(R17:R26) -> 0 | S16: =SUM(S17:S26) -> 0 | ... AB16: =SUM(AB17:AB26) -> 5124904000 | AC16: =AB16-L16 -> -102108000 | AD16: =SUM(AD17:AD26) -> 1194993108 | AE16: =SUM(AE17:AE26) -> 0 | AG16: =SUM(AG17:AG26) -> 3762227664 | AK16: =SUM(AK17:AK26) -> 4084232478 | AL16: =AB16-AK16 -> 1040671522 | AM16: =SUM(AM17:AM26) -> 322004814 | AN16: =SUM(AN17:AN26) -> 322004814 | AO16: =AB16-AK16-AM16-AN16 -> 396661894 | AP16: =AO16/AB16*100 -> 7.7398893 | AQ16: =AK16+AM16+AN16 -> 4728242106 | AR16: =AQ16/AB16*100 -> 92.260111 | AZ16: =L16-AM16-AO16 -> 4508345292
C17: 5.1.00.00.1.01.01 | H17: Gaji Pokok PNS/Uang Representasi | L17: 4034142000 | M17: 917303358 | T17: 1528838930 | AA17: 917303358 | AB17: 3972577000 | AC17: =AB17-L17 -> -61565000 | AD17: 917303358 | AG17: 2932577088 | AK17: 3181028288 | AL17: =AB17-AK17 -> 791548712 | AM17: 248451200 | AN17: 248451200 | AO17: =AB17-AK17-AM17-AN17 -> 294646312 | AP17: =AO17/AB17*100 -> 7.4170069 | AQ17: =AK17+AM17+AN17 -> 3677930688 | AR17: =AQ17/AB17*100 -> 92.582993 | AZ17: =L17-AM17-AO17 -> 3491044488
C18: 5.1.00.00.1.01.02 | H18: Tunjangan Keluarga | L18: 394486000 | M18: 90090000 | T18: 120121000 | AA18: 90090000 | AB18: 371231000 | AC18: =AB18-L18 -> -23255000 | AD18: 90090000 | AG18: 281568622 | AK18: 305077428 | AL18: =AB18-AK18 -> 66153572 | AM18: 23508806 | AN18: 23508806 | AO18: =AB18-AK18-AM18-AN18 -> 19135960 | AP18: =AO18/AB18*100 -> 5.1547312 | AQ18: =AK18+AM18+AN18 -> 352095040 | AR18: =AQ18/AB18*100 -> 94.845269 | AZ18: =L18-AM18-AO18 -> 351841234
C19: 5.1.00.00.1.01.03 | H19: Tunjangan Jabatan 1) | L19: 160790000 | M19: 38865000 | T19: 51820000 | AA19: 38865000 | AB19: 148050000 | AC19: =AB19-L19 -> -12740000 | AD19: 38865000 | AG19: 111505000 | AK19: 120840000 | AL19: =AB19-AK19 -> 27210000 | AM19: 9335000 | AN19: 9335000 | AO19: =AB19-AK19-AM19-AN19 -> 8540000 | AP19: =AO19/AB19*100 -> 5.7683215 | AQ19: =AK19+AM19+AN19 -> 139510000 | AR19: =AQ19/AB19*100 -> 94.231678 | AZ19: =L19-AM19-AO19 -> 142915000
C20: 5.1.00.00.1.01.04 | H20: Tunjangan Fungsional | L20: 225190000 | M20: 45600000 | T20: 60800000 | AA20: 45600000 | AB20: 225190000 | AC20: =AB20-L20 -> 0 | AD20: 45600000 | AG20: 167530000 | AK20: 182315000 | AL20: =AB20-AK20 -> 42875000 | AM20: 14785000 | AN20: 14785000 | AO20: =AB20-AK20-AM20-AN20 -> 13305000 | AP20: =AO20/AB20*100 -> 5.9083441 | AQ20: =AK20+AM20+AN20 -> 211885000 | AR20: =AQ20/AB20*100 -> 94.091656 | AZ20: =L20-AM20-AO20 -> 197100000
C21: 5.1.00.00.1.01.05 | H21: Tunjangan Fungsional Umum | L21: 54581000 | M21: 15867000 | T21: 21156000 | AA21: 15867000 | AB21: 46733000 | AC21: =AB21-L21 -> -7848000 | AD21: 15867000 | AG21: 36510000 | AK21: 39445000 | AL21: =AB21-AK21 -> 7288000 | AM21: 2935000 | AN21: 2935000 | AO21: =AB21-AK21-AM21-AN21 -> 1418000 | AP21: =AO21/AB21*100 -> 3.0342584 | AQ21: =AK21+AM21+AN21 -> 45315000 | AR21: =AQ21/AB21*100 -> 96.965742 | AZ21: =L21-AM21-AO21 -> 50228000
C22: 5.1.00.00.1.01.06 | H22: Tunjangan Beras 2) | L22: 195734000 | M22: 49660251 | T22: 49660251 | AA22: 49660251 | AB22: 186079000 | AC22: =AB22-L22 -> -9655000 | AD22: 49660251 | AG22: 125865960 | AK22: 138901560 | AL22: =AB22-AK22 -> 47177440 | AM22: 13035600 | AN22: 13035600 | AO22: =AB22-AK22-AM22-AN22 -> 21106240 | AP22: =AO22/AB22*100 -> 11.342623 | AQ22: =AK22+AM22+AN22 -> 164972760 | AR22: =AQ22/AB22*100 -> 88.657377 | AZ22: =L22-AM22-AO22 -> 161592160
C23: 5.1.00.00.1.01.07 | H23: Tunjangan PPh/Tunjangan Khusus | L23: 19897000 | M23: 1537500 | T23: 2562500 | AA23: 1537500 | AB23: 19065000 | AC23: =AB23-L23 -> -832000 | AD23: 1537500 | AG23: 14879584 | AK23: 15329751 | AL23: =AB23-AK23 -> 3735249 | AM23: 450167 | AN23: 450167 | AO23: =AB23-AK23-AM23-AN23 -> 2834915 | AP23: =AO23/AB23*100 -> 14.869735 | AQ23: =AK23+AM23+AN23 -> 16230085 | AR23: =AQ23/AB23*100 -> 85.130265 | AZ23: =L23-AM23-AO23 -> 16611918
C24: 5.1.00.00.1.01.08 | H24: Pembulatan Gaji | L24: 70000 | M24: 15000 | T24: 25000 | AA24: 15000 | AB24: 70000 | AC24: =AB24-L24 -> 0 | AD24: 15000 | AG24: 39861 | AK24: 43458 | AL24: =AB24-AK24 -> 26542 | AM24: 3597 | AN24: 3597 | AO24: =AB24-AK24-AM24-AN24 -> 19348 | AP24: =AO24/AB24*100 -> 27.64 | AQ24: =AK24+AM24+AN24 -> 50652 | AR24: =AQ24/AB24*100 -> 72.36 | AZ24: =L24-AM24-AO24 -> 47055
C25: 5.1.00.00.1.01.21 | H25: Tunjangan BPJS Kesehatan | L25: 122097000 | M25: 30977499 | T25: 30977499 | AA25: 30977499 | AB25: 113080000 | AC25: =AB25-L25 -> -9017000 | AD25: 30977499 | AG25: 78807875 | AK25: 86966675 | AL25: =AB25-AK25 -> 26113325 | AM25: 8158800 | AN25: 8158800 | AO25: =AB25-AK25-AM25-AN25 -> 9795725 | AP25: =AO25/AB25*100 -> 8.6626503 | AQ25: =AK25+AM25+AN25 -> 103284275 | AR25: =AQ25/AB25*100 -> 91.33735 | AZ25: =L25-AM25-AO25 -> 104142475
C26: 5.1.00.00.1.01.22 | H26: Iuran Jaminan Kecelakaan Kerja dan Jaminan Kematian ( JKK JK) | L26: 20025000 | M26: 5077500 | T26: 5077500 | AA26: 5077500 | AB26: 42829000 | AC26: =AB26-L26 -> 22804000 | AD26: 5077500 | AG26: 12943674 | AK26: 14285318 | AL26: =AB26-AK26 -> 28543682 | AM26: 1341644 | AN26: 1341644 | AO26: =AB26-AK26-AM26-AN26 -> 25860394 | AP26: =AO26/AB26*100 -> 60.380569 | AQ26: =AK26+AM26+AN26 -> 16968606 | AR26: =AQ26/AB26*100 -> 39.619431 | AZ26: =L26-AM26-AO26 -> -7177038
C27: 5.1.00.00.1.02 | G27: Tambahan Penghasilan PNS | L27: 996800000 | M27: 230370000 | T27: 230370000 | AA27: 230370000 | AB27: 914920000 | AC27: =AB27-L27 -> -81880000 | AD27: 230370000 | AG27: 627510100 | AK27: =AK28 -> 688588450 | AL27: =AB27-AK27 -> 226331550 | AM27: =AM28 -> 61078350 | AN27: =AN28 -> 122156700 | AO27: =AB27-AK27-AM27-AN27 -> 43096500 | AP27: =AO27/AB27*100 -> 4.7104118 | AQ27: =AK27+AM27+AN27 -> 871823500 | AR27: =AQ27/AB27*100 -> 95.289588 | AZ27: =L27-AM27-AO27 -> 892625150
C28: 5.1.00.00.1.02.01 | H28: Tambahan Penghasilan berdasarkan beban kerja | L28: 996800000 | M28: 230370000 | T28: 230370000 | AA28: 230370000 | AB28: 914920000 | AC28: =AB28-L28 -> -81880000 | AD28: 230370000 | AG28: 627510100 | AK28: 688588450 | AL28: =AB28-AK28 -> 226331550 | AM28: 61078350 | AN28: =61078350*2 -> 122156700 | AO28: =AB28-AK28-AM28-AN28 -> 43096500 | AP28: =AO28/AB28*100 -> 4.7104118 | AQ28: =AK28+AM28+AN28 -> 871823500 | AR28: =AQ28/AB28*100 -> 95.289588 | AZ28: =L28-AM28-AO28 -> 892625150
C29: 5.1.00.00.1.06 | G29: Insentif Pemungutan Retribusi Daerah | L29: 8525000 | M29: 1400000 | T29: 1400000 | AA29: 4325000 | AB29: 8525000 | AC29: =AB29-L29 -> 0 | AD29: 4325000 | AG29: 0 | AK29: 0 | AL29: =AB29-AK29 -> 8525000 | AM29: 0 | AN29: 0 | AO29: =AB29-AK29-AM29-AN29 -> 8525000 | AP29: =AO29/AB29*100 -> 100 | AQ29: =AK29+AM29+AN29 -> 0 | AR29: =AQ29/AB29*100 -> 0 | AZ29: =L29-AM29-AO29 -> 0
C30: 5.1.00.00.1.06.01 | H30: Insentif Pemungutan Retribusi Daerah. | L30: 8525000 | M30: 1400000 | T30: 1400000 | Z30: =322575000-Z351 -> 4809025 | AA30: 4325000 | AB30: 8525000 | AC30: =AB30-L30 -> 0 | AD30: 4325000 | AG30: 0 | AK30: 0 | AL30: =AB30-AK30 -> 8525000 | AM30: 0 | AN30: 0 | AO30: =AB30-AK30-AM30-AN30 -> 8525000 | AP30: =AO30/AB30*100 -> 100 | AQ30: =AK30+AM30+AN30 -> 0 | AR30: =AQ30/AB30*100 -> 0 | AZ30: =L30-AM30-AO30 -> 0
AG31: =AG33 -> 284145622 | AZ31: =L31-AM31-AO31 -> 0
A32: NOMOR | C32: REKENING | H32: URAIAN | L32: PAGU ANGGARAN | M32: TRIWULAN I | N32: GU I | O32: RENC II | P32: TU | Q32: JUMLAH | R32: Serapan % | S32: SISA TRI I | T32: ANNGARAN TRI II | U32: JUMLAH ANGGRN SEMUA S/D TRI II | V32: JUMLAH ANGGARAN SISA S/D TRI II | W32: GU II | X32: LS | Y32: TU I spj | Z32: TU II | AA32: TRIWULAN III | AB32: PAGU ANGGARAN PERUBAHAN | AC32: Tambah / ( kurang) | AD32: JUMLAH ANGGARAN S/D TRI III | AE32: LS TRI II | AF32: LS TRI III | AG32: GU III AGUSTUS | AH32: TU AGUSTUS | AI32: TU SEPTEMBER | AJ32: GU IV september | AK32: JUMLAH REALISASI S/D TRI III | AL32: Serapan % | AM32: LS TRI IV | AN32: TU OKTOBER | AO32: GU V | AP32: TU II | AQ32: JUMLAH REALISASI | AR32: Serapan % | AS32: SISA BELUM DIREALISASI | AT32: TRIWULAN III | AU32: JUMLAH ANGGR S/D TRI III | AV32: JMLH REALISASI | AW32: % Serapan | AX32: SISA ANGGARAN | AY32: % | AZ32: =L32-AM32-AO32 -> #VALUE!
A33: B | C33: 5.2 | L33: =L34+L87+L122+L136+L154+L192+L270+L290+L416+L443+L548+L635 -> 5320434000 | M33: =M34+M87+M122+M136+M154+M192+M270+M290+M416+M443+M548+M635 -> 811748150 | N33: =N34+N87+N122+N136+N154+N192+N270+N290+N416+N443+N548+N635 -> 279597741 | O33: =O34+O87+O122+O136+O154+O192+O270+O290+O416+O443+O548+O635 -> 0 | P33: =P34+P87+P122+P136+P154+P192+P270+P290+P416+P443+P548+P635 -> 0 | Q33: =SUM(N33:P33) -> 279597741 | R33: =Q33/M33*100 -> 34.443902 | S33: =M33-Q33 -> 532150409 | T33: =T34+T87+T122+T136+T154+T192+T270+T290+T416+T443+T548+T635 -> 1555015250 | U33: =T33+M33 -> 2366763400 | V33: =S33+T33 -> 2087165659 | W33: =W34+W87+W122+W136+W154+W192+W270+W290+W416+W443+W548+W635 -> 314563491 | X33: =X34+X87+X122+X136+X154+X192+X270+X290+X416+X443+X548+X635 -> 242114180 | Y33: =Y34+Y87+Y122+Y136+Y154+Y192+Y270+Y290+Y416+Y443+Y548+Y635 -> 141408250 | Z33: =Z34+Z87+Z122+Z136+Z154+Z192+Z270+Z290+Z416+Z443+Z548+Z635 -> 475953975 | AA33: =AA34+AA87+AA122+AA136+AA154+AA192+AA270+AA290+AA416+AA443+AA548+AA635 -> 1821270600 | AB33: =AB34+AB87+AB122+AB136+AB154+AB192+AB270+AB290+AB416+AB443+AB548+AB635 -> 5229995000 | AC33: =L33-AB33 -> 90439000 | AD33: =M33+T33+AA33 -> 4188034000 | AE33: =AE34+AE87+AE122+AE136+AE154+AE192+AE270+AE290+AE416+AE443+AE548+AE635 -> 199628400 | AF33: =AF34+AF87+AF122+AF136+AF154+AF192+AF270+AF290+AF416+AF443+AF548+AF635 -> 265923400 | AG33: =AG34+AG87+AG122+AG136+AG154+AG192+AG270+AG290+AG416+AG443+AG548+AG635 -> 284145622 | AH33: =AH34+AH87+AH122+AH136+AH154+AH192+AH270+AH290+AH416+AH443+AH548+AH635 -> 388838175 | AI33: =AI34+AI87+AI122+AI136+AI154+AI192+AI270+AI290+AI416+AI443+AI548+AI635 -> 0 | AJ33: =AJ34+AJ87+AJ122+AJ136+AJ154+AJ192+AJ270+AJ290+AJ416+AJ443+AJ548+AJ635 -> 320151262 | AK33: =AK34+AK87+AK122+AK136+AK154+AK192+AK270+AK290+AK416+AK443+AK548+AK635 -> 2910950496 | AL33: =AK33/AB33*100 -> 55.658763 | AM33: =AM34+AM87+AM122+AM136+AM154+AM192+AM270+AM290+AM416+AM443+AM548+AM635 -> 757631400 | AN33: =AN34+AN87+AN122+AN136+AN154+AN192+AN270+AN290+AN416+AN443+AN548+AN635 -> 195851725 | AO33: =AO34+AO87+AO122+AO136+AO154+AO192+AO270+AO290+AO416+AO443+AO548+AO635 -> 239689962 | AP33: =AP34+AP87+AP122+AP136+AP154+AP192+AP270+AP290+AP416+AP443+AP548+AP635 -> 336272900 | AQ33: =AK33+AM33+AN33+AO33+AP33 -> 4440396483 | AR33: =AQ33/AB33*100 -> 84.9025 | AS33: =AB33-AQ33 -> 789598517 | AT33: =AT34+AT87+AT122+AT136+AT154+AT192+AT270+AT290+AT416+AT443+AT548+AT635 -> 1449210000 | AU33: =AT33+U33 -> 3815973400 | AV33: =AK33 -> 2910950496 | AW33: =AV33/AU33*100 -> 76.283302 | AX33: =AU33-AV33 -> 905022904 | AY33: =AS33/AB33*100 -> 15.0975 | AZ33: =L33-AM33-AO33 -> 4323112638
A34: I | C34: 5.2.01 | F34: Program Pelayanan Administrasi Perkantoran | L34: =L35+L45+L53+L69+L77 -> 410000000 | M34: =M35+M45+M53+M69+M77 -> 107725000 | N34: =N35+N45+N53+N69+N77 -> 62203336 | O34: =O35+O45+O53+O69+O77 -> 0 | P34: =P35+P45+P53+P69+P77 -> 0 | Q34: =SUM(N34:P34) -> 62203336 | R34: =Q34/M34*100 -> 57.742712 | S34: =M34-Q34 -> 45521664 | T34: =T35+T45+T53+T69+T77 -> 113114500 | U34: =T34+M34 -> 220839500 | V34: =T34+S34 -> 158636164 | W34: =W35+W45+W53+W69+W77 -> 52002991 | X34: =X35+X45+X53+X69+X77 -> 43427980 | Y34: =Y35+Y45+Y53+Y69+Y77 -> 0 | Z34: =Z35+Z45+Z53+Z69+Z77 -> 0 | AA34: 120767500 | AB34: =AB35+AB45+AB53+AB69+AB77 -> 403500000 | AC34: =AB34-L34 -> -6500000 | AD34: =AA34+T34+M34 -> 341607000 | AE34: =AE35+AE45+AE53+AE69+AE77 -> 9842400 | AF34: =AF35+AF45+AF53+AF69+AF77 -> 0 | AG34: =AG35+AG45+AG53+AG69+AG77 -> 59899897 | AH34: =AH35+AH45+AH53+AH69+AH77 -> 0 | AI34: =AI35+AI45+AI53+AI69+AI77 -> 0 | AJ34: =AJ35+AJ45+AJ53+AJ69+AJ77 -> 41523827 | AK34: =AK35+AK45+AK53+AK69+AK77 -> 268900431 | AL34: =AK34/AB34*100 -> 66.64199 | AM34: =AM35+AM45+AM53+AM69+AM77 -> 0 | AN34: =AN35+AN45+AN53+AN69+AN77 -> 0 | AO34: =AO35+AO45+AO53+AO69+AO77 -> 60439462 | AP34: =AP35+AP45+AP53+AP69+AP77 -> 0 | AQ34: =AK34+AM34+AN34+AO34+AP34 -> 329339893 | AR34: =AQ34/AB34*100 -> 81.620791 | AS34: =AB34-AQ34 -> 74160107 | AT34: 120767500 | AU34: =AT34+U34 -> 341607000 | AV34: =AK34 -> 268900431 | AW34: =AV34/AU34*100 -> 78.716312 | AX34: =AU34-AV34 -> 72706569 | AY34: =AS34/AB34*100 -> 18.379209 | AZ34: =L34-AM34-AO34 -> 349560538
A35: 1 | C35: 5.2.01.01 | G35: Penyediaan jasa surat menyurat | L35: =SUM(L38:L44) -> 40000000 | M35: =SUM(M38:M44) -> 20558000 | N35: =SUM(N38:N44) -> 7140925 | O35: =SUM(O38:O44) -> 0 | P35: =SUM(P38:P44) -> 0 | Q35: =SUM(N35:P35) -> 7140925 | R35: =Q35/M35*100 -> 34.735504 | S35: =M35-Q35 -> 13417075 | T35: =SUM(T38:T44) -> 10011500 | U35: =T35+M35 -> 30569500 | V35: =T35+S35 -> 23428575 | W35: =SUM(W38:W44) -> 15889125 | X35: =SUM(X38:X44) -> 0 | Y35: =SUM(Y38:Y44) -> 0 | AA35: =SUM(AA38:AA44) -> 5761500 | AB35: =SUM(AB38:AB44) -> 40000000 | AC35: =AB35-L35 -> 0 | AD35: =AA35+T35+M35 -> 36331000 | AE35: =SUM(AE38:AE44) -> 1150000 | AF35: =SUM(AF38:AF44) -> 0 | AG35: =SUM(AG38:AG44) -> 6085600 | AH35: =SUM(AH38:AH44) -> 0 | AI35: =SUM(AI38:AI44) -> 0 | AJ35: =SUM(AJ38:AJ44) -> 5614725 | AK35: =SUM(AK38:AK44) -> 35880375 | AL35: =AK35/AB35*100 -> 89.700937 | AM35: =SUM(AM38:AM44) -> 0 | AN35: =SUM(AN38:AN44) -> 0 | AO35: =SUM(AO38:AO44) -> 4099175 | AP35: =SUM(AP38:AP44) -> 0 | AQ35: =AK35+AM35+AN35+AO35+AP35 -> 39979550 | AR35: =AQ35/AB35*100 -> 99.948875 | AS35: =AB35-AQ35 -> 20450 | AT35: =SUM(AT38:AT44) -> 15457500 | AU35: =AT35+U35 -> 46027000 | AV35: =AK35 -> 35880375 | AW35: =AV35/AU35*100 -> 77.955059 | AX35: =AU35-AV35 -> 10146625 | AY35: =AS35/AB35*100 -> 0.051125 | AZ35: =AQ35-AO35 -> 35880375 | BA35: =AS35 -> 20450
C36: 5.2.01.01.2 | H36: BELANJA BARANG DAN JASA | AC36: =AB36-L36 -> 0 | AQ36: =AQ35-AO35 -> 35880375 | AZ36: =AQ36-AO36 -> 35880375
C37: 5.2.01.01.2.01 | I37: Belanja Bahan Pakai Habis | AC37: =AB37-L37 -> 0 | AZ37: =AQ37-AO37 -> 0
C38: 5.2.01.01.2.01.01 | J38: Belanja alat tulis kantor | L38: 16366000 | M38: 6183000 | N38: 4091500 | Q38: =SUM(N38:P38) -> 4091500 | R38: =Q38/M38*100 -> 66.173379 | S38: =M38-Q38 -> 2091500 | T38: 7091500 | U38: =T38+M38 -> 13274500 | V38: =T38+S38 -> 9183000 | W38: 4906700 | AA38: 3091500 | AB38: 16366000 | AC38: =AB38-L38 -> 0 | AD38: =AA38+T38+M38 -> 16366000 | AG38: 4246600 | AJ38: 3120800 | AK38: =Z38+Y38+X38+W38+N38+AG38+AJ38+AI38+AH38 -> 16365600 | AQ38: =AK38+AM38+AN38+AO38+AP38 -> 16365600 | AR38: =AQ38/AB38*100 -> 99.997556 | AS38: =AB38-AQ38 -> 400 | AT38: 3091500 | AU38: =AT38+U38 -> 16366000 | AV38: =AK38 -> 16365600 | AW38: =AV38/AU38*100 -> 99.997556 | AX38: =AU38-AV38 -> 400 | AY38: =AS38/AB38*100 -> 0.0024440914 | AZ38: =AQ38-AO38 -> 16365600
C39: 5.2.01.01.2.01.04 | J39: Belanja perangko, materai dan benda pos lainnya | L39: 840000 | M39: 840000 | N39: =330000+99500 -> 429500 | Q39: =SUM(N39:P39) -> 429500 | R39: =Q39/M39*100 -> 51.130952 | S39: =M39-Q39 -> 410500 | T39: 0 | U39: =T39+M39 -> 840000 | V39: =T39+S39 -> 410500 | W39: 117500 | AA39: 0 | AB39: 840000 | AC39: =AB39-L39 -> 0 | AD39: =AA39+T39+M39 -> 840000 | AG39: 89000 | AJ39: 204000 | AK39: =Z39+Y39+X39+W39+N39+AG39+AJ39+AI39+AH39 -> 840000 | AL39: =AK39/AD39*100 -> 100 | AQ39: =AK39+AM39+AN39+AO39+AP39 -> 840000 | AR39: =AQ39/AB39*100 -> 100 | AS39: =AB39-AQ39 -> 0 | AT39: 3091500 | AU39: =AT39+U39 -> 3931500 | AV39: =AK39 -> 840000 | AW39: =AV39/AU39*100 -> 21.365891 | AX39: =AU39-AV39 -> 3091500 | AY39: =AS39/AB39*100 -> 0 | AZ39: =AQ39-AO39 -> 840000
C40: 5.2.01.01.2.06 | I40: Belanja Cetak dan Penggandaan | AC40: =AB40-L40 -> 0 | AZ40: =AQ40-AO40 -> 0
C41: 5.2.01.01.2.06.01 | J41: Belanja Cetak | L41: 9365000 | M41: 9365000 | Q41: =SUM(N41:P41) -> 0 | R41: =Q41/M41*100 -> 0 | S41: =M41-Q41 -> 9365000 | T41: 0 | U41: =T41+M41 -> 9365000 | V41: =T41+S41 -> 9365000 | W41: 9365000 | AA41: 0 | AB41: 9365000 | AC41: =AB41-L41 -> 0 | AD41: =AA41+T41+M41 -> 9365000 | AG41: 0 | AK41: =Z41+Y41+X41+W41+N41+AG41+AJ41+AI41+AH41 -> 9365000 | AL41: =AK41/AD41*100 -> 100 | AQ41: =AK41+AM41+AN41+AO41+AP41 -> 9365000 | AR41: =AQ41/AB41*100 -> 100 | AS41: =AB41-AQ41 -> 0 | AT41: 3091500 | AU41: =AT41+U41 -> 12456500 | AV41: =AK41 -> 9365000 | AW41: =AV41/AU41*100 -> 75.181632 | AX41: =AU41-AV41 -> 3091500 | AY41: =AS41/AB41*100 -> 0 | AZ41: =AQ41-AO41 -> 9365000
C42: 5.2.01.01.2.06.02 | J42: Belanja Penggandaan | L42: 8749000 | M42: 3000000 | N42: 1499925 | Q42: =SUM(N42:P42) -> 1499925 | R42: =Q42/M42*100 -> 49.9975 | S42: =M42-Q42 -> 1500075 | T42: 1750000 | U42: =T42+M42 -> 4750000 | V42: =T42+S42 -> 3250075 | W42: 1499925 | AA42: 1500000 | AB42: 8749000 | AC42: =AB42-L42 -> 0 | AD42: =AA42+T42+M42 -> 6250000 | AG42: 1750000 | AJ42: 1499925 | AK42: =Z42+Y42+X42+W42+N42+AG42+AJ42+AI42+AH42 -> 6249775 | AL42: =AK42/AD42*100 -> 99.9964 | AO42: =1499225+999950 -> 2499175 | AQ42: =AK42+AM42+AN42+AO42+AP42 -> 8748950 | AR42: =AQ42/AB42*100 -> 99.999429 | AS42: =AB42-AQ42 -> 50 | AT42: 3091500 | AU42: =AT42+U42 -> 7841500 | AV42: =AK42 -> 6249775 | AW42: =AV42/AU42*100 -> 79.701269 | AX42: =AU42-AV42 -> 1591725 | AY42: =AS42/AB42*100 -> 0.00057149389 | AZ42: =AQ42-AO42 -> 6249775
C43: 5.2.01.01.2.15 | I43: Belanja Perjalanan Dinas | AC43: =AB43-L43 -> 0 | AQ43: =AK43+AL43+AM43+AN43+AO43+AP43 -> 0 | AZ43: =AQ43-AO43 -> 0
C44: 5.2.01.01.2.15.01 | J44: Belanja perjalanan dinas dalam daerah | L44: 4680000 | M44: 1170000 | N44: 1120000 | Q44: =SUM(N44:P44) -> 1120000 | R44: =Q44/M44*100 -> 95.726496 | S44: =M44-Q44 -> 50000 | T44: 1170000 | U44: =T44+M44 -> 2340000 | V44: =T44+S44 -> 1220000 | AA44: 1170000 | AB44: 4680000 | AC44: =AB44-L44 -> 0 | AD44: =AA44+T44+M44 -> 3510000 | AE44: 1150000 | AF44: 0 | AG44: 0 | AJ44: 790000 | AK44: =Z44+Y44+X44+W44+N44+AG44+AJ44+AI44+AH44+1150000 -> 3060000 | AL44: =AK44/AD44*100 -> 87.179487 | AO44: 1600000 | AQ44: =AK44+AM44+AN44+AO44+AP44 -> 4660000 | AR44: =AQ44/AB44*100 -> 99.57265 | AS44: =AB44-AQ44 -> 20000 | AT44: 3091500 | AU44: =AT44+U44 -> 5431500 | AV44: =AK44 -> 3060000 | AW44: =AV44/AU44*100 -> 56.338028 | AX44: =AU44-AV44 -> 2371500 | AY44: =AS44/AB44*100 -> 0.42735043 | AZ44: =AQ44-AO44 -> 3060000
...

Sheet rekap REALISASI REKO 
D3: PEMERINTAH KABUPATEN MAGELANG
D4: PERHITUNGAN SERAPAN TAHUN 2018 PERUBAHAN
D5: S/D TRI WULAN IV
A8: NOMOR | C8: REKENING | H8: URAIAN | L8: PAGU ANGGARAN | M8: TRIWULAN I | N8: GU I | O8: RENC II | P8: TU | Q8: JUMLAH | R8: Serapan % | S8: SISA TRI I | T8: ANNGARAN TRI II | U8: JUMLAH ANGGRN SEMUA S/D TRI II | V8: JUMLAH ANGGARAN SISA S/D TRI II | W8: GU II | X8: LS | Y8: TU I spj | Z8: TU II | AA8: TRIWULAN III | AB8: PAGU ANGGARAN PERUBAHAN | AC8: Tambah / ( kurang) | AD8: JUMLAH ANGGARAN S/D TRI III | AE8: LS TRI II | AF8: LS TRI III | AG8: GU III AGUSTUS | AH8: TU AGUSTUS | AI8: TU SEPTEMBER | AJ8: GU IV september | AK8: JUMLAH REALISASI S/D TRI III | AL8: Serapan % | AM8: LS TRI IV | AN8: TU OKTOBER | AO8: GU V | AP8: TU II | AQ8: JUMLAH REALISASI | AR8: Serapan % | AS8: SISA BELUM DIREALISASI | AT8: TRIWULAN III | AU8: JUMLAH ANGGR S/D TRI III | AV8: JMLH REALISASI | AW8: % Serapan | AX8: SISA ANGGARAN | AY8: %
A9: NOMOR | C9: REKENING | H9: URAIAN | L9: PAGU ANGGARAN | M9: TRIWULAN I | N9: GU I | O9: RENC II | P9: TU | Q9: JUMLAH | R9: Serapan % | S9: SISA TRI I | T9: ANNGARAN TRI II | U9: JUMLAH ANGGRN SEMUA S/D TRI II | V9: JUMLAH ANGGARAN SISA S/D TRI II | W9: GU II | X9: LS | Y9: TU I spj | Z9: TU II | AA9: TRIWULAN III | AB9: PAGU ANGGARAN PERUBAHAN | AC9: Tambah / ( kurang) | AD9: JUMLAH ANGGARAN S/D TRI III | AE9: LS TRI II | AF9: LS TRI III | AG9: GU III AGUSTUS | AH9: TU AGUSTUS | AI9: TU SEPTEMBER | AJ9: GU IV september | AK9: JUMLAH REALISASI S/D TRI III | AL9: Serapan % | AM9: LS TRI IV | AN9: TU OKTOBER | AO9: GU V | AP9: TU II | AQ9: JUMLAH REALISASI | AR9: Serapan % | AS9: SISA BELUM DIREALISASI | AT9: TRIWULAN III | AU9: JUMLAH ANGGR S/D TRI III | AV9: JMLH REALISASI | AW9: % Serapan | AX9: SISA ANGGARAN | AY9: % | AZ9: =L9-AM9-AO9 -> #VALUE!
C10: 4.1 | F10: PENDAPATAN | L10: =L12+L13 -> 170500000 | M10: =M12+M13 -> 49086250 | N10: =N12+N13 -> 0 | O10: =O12+O13 -> 0 | P10: =P12+P13 -> 0 | Q10: =Q12+Q13 -> 0 | R10: =R12+R13 -> 0 | S10: =S12+S13 -> 0 | ... AB10: =AB12+AB13 -> 170500000 | AC10: =L10-AB10 -> 0 | AD10: =AD12+AD13 -> 24927800 | AE10: =AE12+AE13 -> 341000000 | AQ10: =AQ11 -> 56745500 | AR10: =AQ10/AB10*100 -> 33.281818 | AS10: =AB10-AQ10 -> 113754500 | AT10: 47279650 | AY10: =AS10/AB10*100 -> 66.718182 | AZ10: =L10-AM10-AO10 -> 170500000
C11: 4.1.00.00.2 | F11: Hasil Retribusi Daerah | L11: 170500000 | M11: 49086250 | T11: 49206300 | AA11: 47279650 | AB11: 170500000 | AC11: =L11-AB11 -> 0 | AD11: 47279650 | AE11: =SUM(M11:AD11) -> 363351850 | AQ11: =AQ12+AQ13 -> 56745500 | AR11: =AQ11/AB11*100 -> 33.281818 | AS11: =AB11-AQ11 -> 113754500 | AT11: 47279650 | AY11: =AS11/AB11*100 -> 66.718182 | AZ11: =L11-AM11-AO11 -> 170500000
C12: 4.1.00.00.2.02.01 | H12: Retribusi Pemakaian Kekayaan Daerah | L12: 33000000 | M12: 9500000 | T12: 9523800 | AA12: 9150900 | AB12: 33000000 | AC12: =L12-AB12 -> 0 | AD12: 4825300 | AE12: =SUM(M12:AD12) -> 66000000 | AQ12: 14277500 | AR12: =AQ12/AB12*100 -> 43.265152 | AS12: =AB12-AQ12 -> 18722500 | AT12: 47279650 | AY12: =AS12/AB12*100 -> 56.734848 | AZ12: =L12-AM12-AO12 -> 33000000
C13: 4.1.00.00.2.03.12 | H13: Pemberian Perpanjangan IMTA kepada Pemberi Kerja Tenaga Kerja Asing - LRA | L13: 137500000 | M13: 39586250 | T13: 39682500 | AA13: 38128750 | AB13: 137500000 | AC13: =L13-AB13 -> 0 | AD13: 20102500 | AE13: =SUM(M13:AD13) -> 275000000 | AQ13: 42468000 | AR13: =AQ13/AB13*100 -> 30.885818 | AS13: =AB13-AQ13 -> 95032000 | AT13: 47279650 | AY13: =AS13/AB13*100 -> 69.114182 | AZ13: =L13-AM13-AO13 -> 137500000
AZ14: =L14-AM14-AO14 -> 0
A15: A | C15: 5.1.00.00.1 | F15: BELANJA PEGAWAI | L15: =L16+L27+L29 -> 6232337000 | M15: =M16+M27+M29 -> 1426763108 | N15: =N16+N27+N29 -> 0 | O15: =O16+O27+O29 -> 0 | P15: =P16+P27+P29 -> 0 | Q15: =Q16+Q27+Q29 -> 0 | R15: =R16+R27+R29 -> 0 | S15: =S16+S27+S29 -> 0 | ... AB15: =AB16+AB27+AB29 -> 6048349000 | AC15: =AB15-L15 -> -183988000 | AD15: =AD16+AD27+AD29 -> 1429688108 | AE15: =AE16+AE27+AE29 -> 0 | AG15: =AG16+AG27+AG29 -> 4389737764 | AK15: =AK16+AK28 -> 4772820928 | AL15: =AB15-AK15 -> 1275528072 | AM15: =AM16+AM28 -> 383083164 | AN15: =AN16+AN28 -> 444161514 | AO15: =AB15-AK15-AM15-AN15 -> 448283394 | AP15: =AO15/AB15*100 -> 7.4116655 | AQ15: =AQ16+AQ27 -> 5537071836 | AR15: =AQ15/AB15*100 -> 91.546831 | AS15: =AB15-AQ15 -> 511277164 | AY15: =AS15/AB15*100 -> 8.453169 | AZ15: =L15-AM15-AO15 -> 5400970442
C16: 5.1.00.00.1.01 | G16: Gaji dan Tunjangan | L16: =SUM(L17:L26) -> 5227012000 | M16: =SUM(M17:M26) -> 1194993108 | N16: =SUM(N17:N26) -> 0 | O16: =SUM(O17:O26) -> 0 | P16: =SUM(P17:P26) -> 0 | Q16: =SUM(Q17:Q26) -> 0 | R16: =SUM(R17:R26) -> 0 | S16: =SUM(S17:S26) -> 0 | ... AB16: =SUM(AB17:AB26) -> 5124904000 | AC16: =AB16-L16 -> -102108000 | AD16: =SUM(AD17:AD26) -> 1194993108 | AE16: =SUM(AE17:AE26) -> 0 | AG16: =SUM(AG17:AG26) -> 3762227664 | AK16: =SUM(AK17:AK26) -> 4084232478 | AL16: =AB16-AK16 -> 1040671522 | AM16: =SUM(AM17:AM26) -> 322004814 | AN16: =SUM(AN17:AN26) -> 322004814 | AO16: =AB16-AK16-AM16-AN16 -> 396661894 | AP16: =AO16/AB16*100 -> 7.7398893 | AQ16: =SUM(AQ17:AQ26) -> 4731821186 | AR16: =AQ16/AB16*100 -> 92.329948 | AS16: =AB16-AQ16 -> 393082814 | AY16: =AS16/AB16*100 -> 7.6700522 | AZ16: =L16-AM16-AO16 -> 4508345292
C17: 5.1.00.00.1.01.01 | H17: Gaji Pokok PNS/Uang Representasi | L17: 4034142000 | M17: 917303358 | T17: 1528838930 | AA17: 917303358 | AB17: 3972577000 | AC17: =AB17-L17 -> -61565000 | AD17: 917303358 | AG17: 2932577088 | AK17: 3181028288 | AL17: =AB17-AK17 -> 791548712 | AM17: 248451200 | AN17: 248451200 | AO17: =AB17-AK17-AM17-AN17 -> 294646312 | AP17: =AO17/AB17*100 -> 7.4170069 | AQ17: 3665442428 | AR17: =AQ17/AB17*100 -> 92.268631 | AS17: =AB17-AQ17 -> 307134572 | AY17: =AS17/AB17*100 -> 7.7313686 | AZ17: =L17-AM17-AO17 -> 3491044488
C18: 5.1.00.00.1.01.02 | H18: Tunjangan Keluarga | L18: 394486000 | M18: 90090000 | T18: 120121000 | AA18: 90090000 | AB18: 371231000 | AC18: =AB18-L18 -> -23255000 | AD18: 90090000 | AG18: 281568622 | AK18: 305077428 | AL18: =AB18-AK18 -> 66153572 | AM18: 23508806 | AN18: 23508806 | AO18: =AB18-AK18-AM18-AN18 -> 19135960 | AP18: =AO18/AB18*100 -> 5.1547312 | AQ18: 349795572 | AR18: =AQ18/AB18*100 -> 94.225852 | AS18: =AB18-AQ18 -> 21435428 | AY18: =AS18/AB18*100 -> 5.7741482 | AZ18: =L18-AM18-AO18 -> 351841234
C19: 5.1.00.00.1.01.03 | H19: Tunjangan Jabatan 1) | L19: 160790000 | M19: 38865000 | T19: 51820000 | AA19: 38865000 | AB19: 148050000 | AC19: =AB19-L19 -> -12740000 | AD19: 38865000 | AG19: 111505000 | AK19: 120840000 | AL19: =AB19-AK19 -> 27210000 | AM19: 9335000 | AN19: 9335000 | AO19: =AB19-AK19-AM19-AN19 -> 8540000 | AP19: =AO19/AB19*100 -> 5.7683215 | AQ19: 139510000 | AR19: =AQ19/AB19*100 -> 94.231678 | AS19: =AB19-AQ19 -> 8540000 | AY19: =AS19/AB19*100 -> 5.7683215 | AZ19: =L19-AM19-AO19 -> 142915000
C20: 5.1.00.00.1.01.04 | H20: Tunjangan Fungsional | L20: 225190000 | M20: 45600000 | T20: 60800000 | AA20: 45600000 | AB20: 225190000 | AC20: =AB20-L20 -> 0 | AD20: 45600000 | AG20: 167530000 | AK20: 182315000 | AL20: =AB20-AK20 -> 42875000 | AM20: 14785000 | AN20: 14785000 | AO20: =AB20-AK20-AM20-AN20 -> 13305000 | AP20: =AO20/AB20*100 -> 5.9083441 | AQ20: 211545000 | AR20: =AQ20/AB20*100 -> 93.940672 | AS20: =AB20-AQ20 -> 13645000 | AY20: =AS20/AB20*100 -> 6.0593277 | AZ20: =L20-AM20-AO20 -> 197100000
C21: 5.1.00.00.1.01.05 | H21: Tunjangan Fungsional Umum | L21: 54581000 | M21: 15867000 | T21: 21156000 | AA21: 15867000 | AB21: 46733000 | AC21: =AB21-L21 -> -7848000 | AD21: 15867000 | AG21: 36510000 | AK21: 39445000 | AL21: =AB21-AK21 -> 7288000 | AM21: 2935000 | AN21: 2935000 | AO21: =AB21-AK21-AM21-AN21 -> 1418000 | AP21: =AO21/AB21*100 -> 3.0342584 | AQ21: 45135000 | AR21: =AQ21/AB21*100 -> 96.580575 | AS21: =AB21-AQ21 -> 1598000 | AY21: =AS21/AB21*100 -> 3.4194252 | AZ21: =L21-AM21-AO21 -> 50228000
C22: 5.1.00.00.1.01.06 | H22: Tunjangan Beras 2) | L22: 195734000 | M22: 49660251 | T22: 49660251 | AA22: 49660251 | AB22: 186079000 | AC22: =AB22-L22 -> -9655000 | AD22: 49660251 | AG22: 125865960 | AK22: 138901560 | AL22: =AB22-AK22 -> 47177440 | AM22: 13035600 | AN22: 13035600 | AO22: =AB22-AK22-AM22-AN22 -> 21106240 | AP22: =AO22/AB22*100 -> 11.342623 | AQ22: 164248560 | AR22: =AQ22/AB22*100 -> 88.268187 | AS22: =AB22-AQ22 -> 21830440 | AY22: =AS22/AB22*100 -> 11.731813 | AZ22: =L22-AM22-AO22 -> 161592160
C23: 5.1.00.00.1.01.07 | H23: Tunjangan PPh/Tunjangan Khusus | L23: 19897000 | M23: 1537500 | T23: 2562500 | AA23: 1537500 | AB23: 19065000 | AC23: =AB23-L23 -> -832000 | AD23: 1537500 | AG23: 14879584 | AK23: 15329751 | AL23: =AB23-AK23 -> 3735249 | AM23: 450167 | AN23: 450167 | AO23: =AB23-AK23-AM23-AN23 -> 2834915 | AP23: =AO23/AB23*100 -> 14.869735 | AQ23: 16154664 | AR23: =AQ23/AB23*100 -> 84.734666 | AS23: =AB23-AQ23 -> 2910336 | AY23: =AS23/AB23*100 -> 15.265334 | AZ23: =L23-AM23-AO23 -> 16611918
C24: 5.1.00.00.1.01.08 | H24: Pembulatan Gaji | L24: 70000 | M24: 15000 | T24: 25000 | AA24: 15000 | AB24: 70000 | AC24: =AB24-L24 -> 0 | AD24: 15000 | AG24: 39861 | AK24: 43458 | AL24: =AB24-AK24 -> 26542 | AM24: 3597 | AN24: 3597 | AO24: =AB24-AK24-AM24-AN24 -> 19348 | AP24: =AO24/AB24*100 -> 27.64 | AQ24: 50472 | AR24: =AQ24/AB24*100 -> 72.102857 | AS24: =AB24-AQ24 -> 19528 | AY24: =AS24/AB24*100 -> 27.897143 | AZ24: =L24-AM24-AO24 -> 47055
C25: 5.1.00.00.1.01.21 | H25: Tunjangan BPJS Kesehatan | L25: 122097000 | M25: 30977499 | T25: 30977499 | AA25: 30977499 | AB25: 113080000 | AC25: =AB25-L25 -> -9017000 | AD25: 30977499 | AG25: 78807875 | AK25: 86966675 | AL25: =AB25-AK25 -> 26113325 | AM25: 8158800 | AN25: 8158800 | AO25: =AB25-AK25-AM25-AN25 -> 9795725 | AP25: =AO25/AB25*100 -> 8.6626503 | AQ25: 102840651 | AR25: =AQ25/AB25*100 -> 90.94504 | AS25: =AB25-AQ25 -> 10239349 | AY25: =AS25/AB25*100 -> 9.0549602 | AZ25: =L25-AM25-AO25 -> 104142475
C26: 5.1.00.00.1.01.22 | H26: Iuran Jaminan Kecelakaan Kerja dan Jaminan Kematian ( JKK JK) | L26: 20025000 | M26: 5077500 | T26: 5077500 | AA26: 5077500 | AB26: 42829000 | AC26: =AB26-L26 -> 22804000 | AD26: 5077500 | AG26: 12943674 | AK26: 14285318 | AL26: =AB26-AK26 -> 28543682 | AM26: 1341644 | AN26: 1341644 | AO26: =AB26-AK26-AM26-AN26 -> 25860394 | AP26: =AO26/AB26*100 -> 60.380569 | AQ26: 37098839 | AR26: =AQ26/AB26*100 -> 86.620839 | AS26: =AB26-AQ26 -> 5730161 | AY26: =AS26/AB26*100 -> 13.379161 | AZ26: =L26-AM26-AO26 -> -7177038
C27: 5.1.00.00.1.02 | G27: Tambahan Penghasilan PNS | L27: 996800000 | M27: 230370000 | T27: 230370000 | AA27: 230370000 | AB27: 914920000 | AC27: =AB27-L27 -> -81880000 | AD27: 230370000 | AG27: 627510100 | AK27: =AK28 -> 688588450 | AL27: =AB27-AK27 -> 226331550 | AM27: =AM28 -> 61078350 | AN27: =AN28 -> 122156700 | AO27: =AB27-AK27-AM27-AN27 -> 43096500 | AP27: =AO27/AB27*100 -> 4.7104118 | AQ27: =AQ28 -> 805250650 | AR27: =AQ27/AB27*100 -> 88.013231 | AS27: =AB27-AQ27 -> 109669350 | AY27: =AS27/AB27*100 -> 11.986769 | AZ27: =L27-AM27-AO27 -> 892625150
C28: 5.1.00.00.1.02.01 | H28: Tambahan Penghasilan berdasarkan beban kerja | L28: 996800000 | M28: 230370000 | T28: 230370000 | AA28: 230370000 | AB28: 914920000 | AC28: =AB28-L28 -> -81880000 | AD28: 230370000 | AG28: 627510100 | AK28: 688588450 | AL28: =AB28-AK28 -> 226331550 | AM28: 61078350 | AN28: =61078350*2 -> 122156700 | AO28: =AB28-AK28-AM28-AN28 -> 43096500 | AP28: =AO28/AB28*100 -> 4.7104118 | AQ28: 805250650 | AR28: =AQ28/AB28*100 -> 88.013231 | AS28: =AB28-AQ28 -> 109669350 | AY28: =AS28/AB28*100 -> 11.986769 | AZ28: =L28-AM28-AO28 -> 892625150
C29: 5.1.00.00.1.06 | G29: Insentif Pemungutan Retribusi Daerah | L29: 8525000 | M29: 1400000 | T29: 1400000 | AA29: 4325000 | AB29: 8525000 | AC29: =AB29-L29 -> 0 | AD29: 4325000 | AG29: 0 | AK29: 0 | AL29: =AB29-AK29 -> 8525000 | AM29: 0 | AN29: 0 | AO29: =AB29-AK29-AM29-AN29 -> 8525000 | AP29: =AO29/AB29*100 -> 100 | AQ29: =AK29+AM29+AN29 -> 0 | AR29: =AQ29/AB29*100 -> 0 | AS29: =AB29-AQ29 -> 8525000 | AY29: =AS29/AB29*100 -> 100 | AZ29: =L29-AM29-AO29 -> 0
C30: 5.1.00.00.1.06.01 | H30: Insentif Pemungutan Retribusi Daerah. | L30: 8525000 | M30: 1400000 | T30: 1400000 | Z30: =322575000-Z351 -> 4809025 | AA30: 4325000 | AB30: 8525000 | AC30: =AB30-L30 -> 0 | AD30: 4325000 | AG30: 0 | AK30: 0 | AL30: =AB30-AK30 -> 8525000 | AM30: 0 | AN30: 0 | AO30: =AB30-AK30-AM30-AN30 -> 8525000 | AP30: =AO30/AB30*100 -> 100 | AQ30: =AK30+AM30+AN30 -> 0 | AR30: =AQ30/AB30*100 -> 0 | AS30: =AB30-AQ30 -> 8525000 | AY30: =AS30/AB30*100 -> 100 | AZ30: =L30-AM30-AO30 -> 0
AG31: =AG33 -> 284145622 | AZ31: =L31-AM31-AO31 -> 0
A32: NOMOR | C32: REKENING | H32: URAIAN | L32: PAGU ANGGARAN | M32: TRIWULAN I | N32: GU I | O32: RENC II | P32: TU | Q32: JUMLAH | R32: Serapan % | S32: SISA TRI I | T32: ANNGARAN TRI II | U32: JUMLAH ANGGRN SEMUA S/D TRI II | V32: JUMLAH ANGGARAN SISA S/D TRI II | W32: GU II | X32: LS | Y32: TU I spj | Z32: TU II | AA32: TRIWULAN III | AB32: PAGU ANGGARAN PERUBAHAN | AC32: Tambah / ( kurang) | AD32: JUMLAH ANGGARAN S/D TRI III | AE32: LS TRI II | AF32: LS TRI III | AG32: GU III AGUSTUS | AH32: TU AGUSTUS | AI32: TU SEPTEMBER | AJ32: GU IV september | AK32: JUMLAH REALISASI S/D TRI III | AL32: Serapan % | AM32: LS TRI IV | AN32: TU OKTOBER | AO32: GU V | AP32: TU II | AQ32: JUMLAH REALISASI | AR32: Serapan % | AS32: SISA BELUM DIREALISASI | AT32: TRIWULAN III | AU32: JUMLAH ANGGR S/D TRI III | AV32: JMLH REALISASI | AW32: % Serapan | AX32: SISA ANGGARAN | AY32: % | AZ32: =L32-AM32-AO32 -> #VALUE!
A33: B | C33: 5.2 | L33: =L34+L87+L122+L136+L154+L192+L270+L290+L416+L443+L548+L635 -> 5320434000 | M33: =M34+M87+M122+M136+M154+M192+M270+M290+M416+M443+M548+M635 -> 811748150 | N33: =N34+N87+N122+N136+N154+N192+N270+N290+N416+N443+N548+N635 -> 279597741 | O33: =O34+O87+O122+O136+O154+O192+O270+O290+O416+O443+O548+O635 -> 0 | P33: =P34+P87+P122+P136+P154+P192+P270+P290+P416+P443+P548+P635 -> 0 | Q33: =SUM(N33:P33) -> 279597741 | R33: =Q33/M33*100 -> 34.443902 | S33: =M33-Q33 -> 532150409 | T33: =T34+T87+T122+T136+T154+T192+T270+T290+T416+T443+T548+T635 -> 1555015250 | U33: =T33+M33 -> 2366763400 | V33: =S33+T33 -> 2087165659 | W33: =W34+W87+W122+W136+W154+W192+W270+W290+W416+W443+W548+W635 -> 314563491 | X33: =X34+X87+X122+X136+X154+X192+X270+X290+X416+X443+X548+X635 -> 242114180 | Y33: =Y34+Y87+Y122+Y136+Y154+Y192+Y270+Y290+Y416+Y443+Y548+Y635 -> 141408250 | Z33: =Z34+Z87+Z122+Z136+Z154+Z192+Z270+Z290+Z416+Z443+Z548+Z635 -> 475953975 | AA33: =AA34+AA87+AA122+AA136+AA154+AA192+AA270+AA290+AA416+AA443+AA548+AA635 -> 1821270600 | AB33: =AB34+AB87+AB122+AB136+AB154+AB192+AB270+AB290+AB416+AB443+AB548+AB635 -> 5229995000 | AC33: =L33-AB33 -> 90439000 | AD33: =M33+T33+AA33 -> 4188034000 | AE33: =AE34+AE87+AE122+AE136+AE154+AE192+AE270+AE290+AE416+AE443+AE548+AE635 -> 199628400 | AF33: =AF34+AF87+AF122+AF136+AF154+AF192+AF270+AF290+AF416+AF443+AF548+AF635 -> 265923400 | AG33: =AG34+AG87+AG122+AG136+AG154+AG192+AG270+AG290+AG416+AG443+AG548+AG635 -> 284145622 | AH33: =AH34+AH87+AH122+AH136+AH154+AH192+AH270+AH290+AH416+AH443+AH548+AH635 -> 388838175 | AI33: =AI34+AI87+AI122+AI136+AI154+AI192+AI270+AI290+AI416+AI443+AI548+AI635 -> 0 | AJ33: =AJ34+AJ87+AJ122+AJ136+AJ154+AJ192+AJ270+AJ290+AJ416+AJ443+AJ548+AJ635 -> 320151262 | AK33: =AK34+AK87+AK122+AK136+AK154+AK192+AK270+AK290+AK416+AK443+AK548+AK635 -> 2910950496 | AL33: =AK33/AB33*100 -> 55.658763 | AM33: =AM34+AM87+AM122+AM136+AM154+AM192+AM270+AM290+AM416+AM443+AM548+AM635 -> 757631400 | AN33: =AN34+AN87+AN122+AN136+AN154+AN192+AN270+AN290+AN416+AN443+AN548+AN635 -> 195851725 | AO33: =AO34+AO87+AO122+AO136+AO154+AO192+AO270+AO290+AO416+AO443+AO548+AO635 -> 239689962 | AP33: =AP34+AP87+AP122+AP136+AP154+AP192+AP270+AP290+AP416+AP443+AP548+AP635 -> 336272900 | AQ33: =AK33+AM33+AN33+AO33+AP33 -> 4440396483 | AR33: =AQ33/AB33*100 -> 84.9025 | AS33: =AB33-AQ33 -> 789598517 | AT33: =AT34+AT87+AT122+AT136+AT154+AT192+AT270+AT290+AT416+AT443+AT548+AT635 -> 1449210000 | AU33: =AT33+U33 -> 3815973400 | AV33: =AK33 -> 2910950496 | AW33: =AV33/AU33*100 -> 76.283302 | AX33: =AU33-AV33 -> 905022904 | AY33: =AS33/AB33*100 -> 15.0975 | AZ33: =L33-AM33-AO33 -> 4323112638
