Workbook
Name B.Aparatur: #REF!
Name B.Aparatur: #REF!
Name B.Aparatur: #REF!
Name B.Aparatur: #REF!
Name B.Aparatur: #REF!
Name B.Publik: #REF!
Name B.Publik: #REF!
Name B.Publik: #REF!
Name B.Publik: #REF!
Name B.Publik: #REF!
Name BAHAN: #REF!
Name BAHAN: #REF!
Name BAHAN: #REF!
Name BAHAN: #REF!
Name BAHAN: #REF!
Name bedo: #REF!
Name bedo: #REF!
Name bedo: #REF!
Name bedo: #REF!
Name bedo: #REF!
Name KETEPPA: #REF!
Name KETEPPA: #REF!
Name KETEPPA: #REF!
Name KETEPPA: #REF!
Name nnnn: #REF!
Name nnnn: #REF!
Name nnnn: #REF!
Name nnnn: #REF!
Name re: #REF!
Name re: #REF!
Name re: #REF!
Name re: #REF!
Name rekapan: #REF!
Name rekapan: #REF!
Name rekapan: #REF!
Name rekapan: #REF!
Name rekapan: #REF!
Name rrrr: #REF!
Name rrrr: #REF!
Name rrrr: #REF!
Name rrrr: #REF!
Name TEPPA: #REF!
Name TEPPA: #REF!
Name TEPPA: #REF!
Name TEPPA: #REF!
Name TEPPA: #REF!

Sheet 000000000

Sheet 29 DAN 18 TOK
A1: PERBANDINGAN ANGGARAN TAHUN 2019 DENGAN TAHUN 2018
A2: DINAS PERINNAKER KAB. MAGELANG
A5: NO | B5: Kode Rekening | C5: Uraian | D5: Anggaran Tahun 2019 | E5: Anggaran Tahun 2018 yang ada di Tahun 2019 | F5: Tambah / ( Kurang ) | G5: TAHUN 2018
A6: 1 | B6: 2 | C6: 3 | D6: 4 | E6: 5 | F6: 6 = 4 - 5 | G6: Realisasi yang sudah ada SPJ Tahun 2018 | H6: % | I6: Belum Terealisasi | J6: %
G7: 7 | H7: 8 =( 7/5x100) | I7: 9 = 5 - 7 | J7: 10 =( 9/5x100)
A8: A | B8: 201.2010101.00.000.4 | C8: PENDAPATAN | D8: 33000000 | E8: =E9 -> 170500000 | F8: =D8-E8 -> -137500000 | G8: =G9 -> 56745500 | H8: =G8/E8*100 -> 33.281818 | I8: =E8-G8 -> 113754500 | J8: =I8/E8*100 -> 66.718182
B9: 201.2010101.00.000.4.1 | C9: PENDAPATAN ASLI DAERAH | D9: =D10 -> 33000000 | E9: =E10+E13 -> 170500000 | F9: =D9-E9 -> -137500000 | G9: ='rekap REALISASI REKO '!AQ11 -> 56745500 | H9: =G9/E9*100 -> 33.281818 | I9: =E9-G9 -> 113754500 | J9: =I9/E9*100 -> 66.718182
B10: 201.2010101.00.000.4.1.2 | C10: Hasil Retribusi Daerah | D10: 33000000 | E10: 33000000 | F10: =D10-E10 -> 0 | G10: =E10-F10 -> 33000000 | H10: =G10/C10*100 -> #VALUE! | I10: =F10-G10 -> -33000000 | J10: =I10/E10*100 -> -100
B11: 201.2010101.00.000.4.1.2.02 | C11: Retribusi Jasa Usaha | D11: 33000000 | E11: 33000000 | F11: =D11-E11 -> 0 | G11: =E11-F11 -> 33000000 | H11: =G11/C11*100 -> #VALUE! | I11: =F11-G11 -> -33000000 | J11: =I11/E11*100 -> -100
B12: 201.2010101.00.000.4.1.2.02.01 | C12: Retribusi Pemakaian Kekayaan Daerah | D12: 33000000 | E12: 33000000 | F12: =D12-E12 -> 0 | G12: =E12-F12 -> 33000000 | H12: =G12/C12*100 -> #VALUE! | I12: =F12-G12 -> -33000000 | J12: =I12/E12*100 -> -100
B13: 201.2010101.00.000.4.1.2.03.12 | C13: Pemberian Pinjaman IMTA Kepada Pemberi Kerja Tenaga Kerja Asing | D13: 0 | E13: 137500000 | F13: =D13-E13 -> -137500000 | G13: =E13-F13 -> 275000000 | H13: =G13/C13*100 -> #VALUE! | I13: =F13-G13 -> -412500000 | J13: =I13/E13*100 -> -300
A15: B | B15: 201.2010101.00.000.5.1 | C15: BELANJA TIDAK LANGSUNG | D15: 6341834000 | E15: 6048349000 | F15: =D15-E15 -> 293485000 | G15: ='rekap REALISASI REKO '!AQ15 -> 5537071836 | H15: =G15/E15*100 -> 91.546831 | I15: =E15-G15 -> 511277164 | J15: =I15/E15*100 -> 8.453169
B16: 201.2010101.00.000.5.1.1 | C16: BELANJA PEGAWAI | D16: =D17+D28+D30 -> 6341834000 | E16: 6341834000 | F16: =D16-E16 -> 0 | G16: =E16-F16 -> 6341834000 | H16: =G16/C16*100 -> #VALUE! | I16: =F16-G16 -> -6341834000 | J16: =I16/E16*100 -> -100
B17: 201.2010101.00.000.5.1.1.01 | C17: Gaji dan Tunjangan | D17: =SUM(D18:D27) -> 5314124000 | E17: 5314124000 | F17: =D17-E17 -> 0 | G17: =E17-F17 -> 5314124000 | H17: =G17/C17*100 -> #VALUE! | I17: =F17-G17 -> -5314124000 | J17: =I17/E17*100 -> -100
B18: 201.2010101.00.000.5.1.1.01.01 | C18: Gaji Pokok PNS/Uang Representasi | D18: 4097850000 | E18: 4097850000 | F18: =D18-E18 -> 0 | G18: =E18-F18 -> 4097850000 | H18: =G18/C18*100 -> #VALUE! | I18: =F18-G18 -> -4097850000 | J18: =I18/E18*100 -> -100
B19: 201.2010101.00.000.5.1.1.01.02 | C19: Tunjangan Keluarga | D19: 400368000 | E19: 400368000 | F19: =D19-E19 -> 0 | G19: =E19-F19 -> 400368000 | H19: =G19/C19*100 -> #VALUE! | I19: =F19-G19 -> -400368000 | J19: =I19/E19*100 -> -100
B20: 201.2010101.00.000.5.1.1.01.03 | C20: Tunjangan Jabatan 2) | D20: 178091000 | E20: 178091000 | F20: =D20-E20 -> 0 | G20: =E20-F20 -> 178091000 | H20: =G20/C20*100 -> #VALUE! | I20: =F20-G20 -> -178091000 | J20: =I20/E20*100 -> -100
B21: 201.2010101.00.000.5.1.1.01.04 | C21: Tunjangan Fungsional | D21: 245299000 | E21: 245299000 | F21: =D21-E21 -> 0 | G21: =E21-F21 -> 245299000 | H21: =G21/C21*100 -> #VALUE! | I21: =F21-G21 -> -245299000 | J21: =I21/E21*100 -> -100
B22: 201.2010101.00.000.5.1.1.01.05 | C22: Tunjangan Fungsional Umum | D22: 52496000 | E22: 52496000 | F22: =D22-E22 -> 0 | G22: =E22-F22 -> 52496000 | H22: =G22/C22*100 -> #VALUE! | I22: =F22-G22 -> -52496000 | J22: =I22/E22*100 -> -100
B23: 201.2010101.00.000.5.1.1.01.06 | C23: Tunjangan Beras 1) | D23: 173808000 | E23: 173808000 | F23: =D23-E23 -> 0 | G23: =E23-F23 -> 173808000 | H23: =G23/C23*100 -> #VALUE! | I23: =F23-G23 -> -173808000 | J23: =I23/E23*100 -> -100
B24: 201.2010101.00.000.5.1.1.01.07 | C24: Tunjangan PPh/Tunjangan Khusus | D24: 22817000 | E24: 22817000 | F24: =D24-E24 -> 0 | G24: =E24-F24 -> 22817000 | H24: =G24/C24*100 -> #VALUE! | I24: =F24-G24 -> -22817000 | J24: =I24/E24*100 -> -100
B25: 201.2010101.00.000.5.1.1.01.08 | C25: Pembulatan Gaji | D25: 70000 | E25: 70000 | F25: =D25-E25 -> 0 | G25: =E25-F25 -> 70000 | H25: =G25/C25*100 -> #VALUE! | I25: =F25-G25 -> -70000 | J25: =I25/E25*100 -> -100
B26: 201.2010101.00.000.5.1.1.01.21 | C26: Tunjangan BPJS Kesehatan | D26: 111998000 | E26: 111998000 | F26: =D26-E26 -> 0 | G26: =E26-F26 -> 111998000 | H26: =G26/C26*100 -> #VALUE! | I26: =F26-G26 -> -111998000 | J26: =I26/E26*100 -> -100
B27: 201.2010101.00.000.5.1.1.01.22 | C27: Iuran Jaminan Kecelakaan Kerja dan Jaminan Kematian ( JKK JK) | D27: 31327000 | E27: 31327000 | F27: =D27-E27 -> 0 | G27: =E27-F27 -> 31327000 | H27: =G27/C27*100 -> #VALUE! | I27: =F27-G27 -> -31327000 | J27: =I27/E27*100 -> -100
B28: 201.2010101.00.000.5.1.1.02 | C28: Tambahan Penghasilan PNS | D28: =D29 -> 1026060000 | E28: 1026060000 | F28: =D28-E28 -> 0 | G28: =E28-F28 -> 1026060000 | H28: =G28/C28*100 -> #VALUE! | I28: =F28-G28 -> -1026060000 | J28: =I28/E28*100 -> -100
B29: 201.2010101.00.000.5.1.1.02.01 | C29: Tambahan Penghasilan berdasarkan beban kerja | D29: 1026060000 | E29: 1026060000 | F29: =D29-E29 -> 0 | G29: =E29-F29 -> 1026060000 | H29: =G29/C29*100 -> #VALUE! | I29: =F29-G29 -> -1026060000 | J29: =I29/E29*100 -> -100
B30: 201.2010101.00.000.5.1.1.06 | C30: Insentif Pemungutan Retribusi Daerah | D30: =D31 -> 1650000 | E30: 1650000 | F30: =D30-E30 -> 0 | G30: =E30-F30 -> 1650000 | H30: =G30/C30*100 -> #VALUE! | I30: =F30-G30 -> -1650000 | J30: =I30/E30*100 -> -100
B31: 201.2010101.00.000.5.1.1.06.16 | C31: Insentif Pemungutan Retribusi Daerah - Pemakaian Kekayaan Daerah | D31: 1650000 | E31: 1650000 | F31: =D31-E31 -> 0 | G31: =E31-F31 -> 1650000 | H31: =G31/C31*100 -> #VALUE! | I31: =F31-G31 -> -1650000 | J31: =I31/E31*100 -> -100
A33: C | B33: 201.2010101.00.000.5.2 | C33: BELANJA LANGSUNG | D33: =D34+D86+D118+D135+D152+D211+D344+D468+D490+D514+D604+D643 -> 5321184000 | E33: ='rekap REALISASI REKO '!AB677 -> 5229995000 | F33: =D33-E33 -> 91189000 | G33: ='rekap REALISASI REKO '!AQ33 -> 4440396483 | H33: =G33/E33*100 -> 84.9025 | I33: =E33-G33 -> 789598517 | J33: =I33/E33*100 -> 15.0975
A34: I | B34: 201.2010101.01 | C34: Program Pelayanan Administrasi Perkantoran | D34: =D35+D43+D52+D66+D75 -> 386568000 | E34: =E35+E43+E52+E66+E75 -> 403500000 | F34: =D34-E34 -> -16932000 | G34: =G35+G43+G52+G66+G75 -> 329339893 | H34: =G34/E34*100 -> 81.620791 | I34: =I35+I43+I52+I66+I75 -> 74160107 | J34: =I34/E34*100 -> 18.379209
A35: 1 | B35: 201.2010101.01.001 | C35: Penyediaan jasa surat menyurat | D35: =SUM(D37:D42) -> 25387000 | E35: ='rekap REALISASI REKO '!AB35 -> 40000000 | F35: =D35-E35 -> -14613000 | G35: ='rekap REALISASI REKO '!AQ35 -> 39979550 | H35: =G35/E35*100 -> 99.948875 | I35: =E35-G35 -> 20450 | J35: =I35/E35*100 -> 0.051125
B37: 201.2010101.01.001.5.2.2 | C37: BELANJA BARANG DAN JASA | E37: 25387000 | F37: =D37-E37 -> -25387000 | G37: =E37-F37 -> 50774000 | H37: =G37/C37*100 -> #VALUE! | I37: =F37-G37 -> -76161000 | J37: =I37/E37*100 -> -300
B38: 201.2010101.01.001.5.2.2.01 | C38: Belanja Bahan Pakai Habis | E38: 12578000 | F38: =D38-E38 -> -12578000 | G38: =E38-F38 -> 25156000 | H38: =G38/C38*100 -> #VALUE! | I38: =F38-G38 -> -37734000 | J38: =I38/E38*100 -> -300
B39: 201.2010101.01.001.5.2.2.01.01 | C39: Belanja alat tulis kantor | D39: 12578000 | E39: 12578000 | F39: =D39-E39 -> 0 | G39: =E39-F39 -> 12578000 | H39: =G39/C39*100 -> #VALUE! | I39: =F39-G39 -> -12578000 | J39: =I39/E39*100 -> -100
B40: 201.2010101.01.001.5.2.2.06 | C40: Belanja Cetak dan Penggandaan | E40: 12809000 | F40: =D40-E40 -> -12809000 | G40: =E40-F40 -> 25618000 | H40: =G40/C40*100 -> #VALUE! | I40: =F40-G40 -> -38427000 | J40: =I40/E40*100 -> -300
B41: 201.2010101.01.001.5.2.2.06.01 | C41: Belanja Cetak | D41: 4759000 | E41: 4759000 | F41: =D41-E41 -> 0 | G41: =E41-F41 -> 4759000 | H41: =G41/C41*100 -> #VALUE! | I41: =F41-G41 -> -4759000 | J41: =I41/E41*100 -> -100
B42: 201.2010101.01.001.5.2.2.06.02 | C42: Belanja Penggandaan | D42: 8050000 | E42: 8050000 | F42: =D42-E42 -> 0 | G42: =E42-F42 -> 8050000 | H42: =G42/C42*100 -> #VALUE! | I42: =F42-G42 -> -8050000 | J42: =I42/E42*100 -> -100
A43: 2 | B43: 201.2010101.01.002 | C43: Penyediaan jasa komunikasi, sumber daya air dan listrik | D43: =SUM(D47:D51) -> 110000000 | E43: ='rekap REALISASI REKO '!AB45 -> 97500000 | F43: =D43-E43 -> 12500000 | G43: ='rekap REALISASI REKO '!AQ45 -> 75145393 | H43: =G43/E43*100 -> 77.072198 | I43: =E43-G43 -> 22354607 | J43: =I43/E43*100 -> 22.927802
B45: 201.2010101.01.002.5.2.2 | C45: BELANJA BARANG DAN JASA | E45: 110000000 | F45: =D45-E45 -> -110000000 | G45: =E45-F45 -> 220000000 | H45: =G45/C45*100 -> #VALUE! | I45: =F45-G45 -> -330000000 | J45: =I45/E45*100 -> -300
B46: 201.2010101.01.002.5.2.2.03 | C46: Belanja Jasa Kantor | E46: 110000000 | F46: =D46-E46 -> -110000000 | G46: =E46-F46 -> 220000000 | H46: =G46/C46*100 -> #VALUE! | I46: =F46-G46 -> -330000000 | J46: =I46/E46*100 -> -300
B47: 201.2010101.01.002.5.2.2.03.01 | C47: Belanja telepon | D47: 14720000 | E47: 14720000 | F47: =D47-E47 -> 0 | G47: =E47-F47 -> 14720000 | H47: =G47/C47*100 -> #VALUE! | I47: =F47-G47 -> -14720000 | J47: =I47/E47*100 -> -100
B48: 201.2010101.01.002.5.2.2.03.02 | C48: Belanja air | D48: 10800000 | E48: 10800000 | F48: =D48-E48 -> 0 | G48: =E48-F48 -> 10800000 | H48: =G48/C48*100 -> #VALUE! | I48: =F48-G48 -> -10800000 | J48: =I48/E48*100 -> -100
B49: 201.2010101.01.002.5.2.2.03.03 | C49: Belanja listrik | D49: 58800000 | E49: 58800000 | F49: =D49-E49 -> 0 | G49: =E49-F49 -> 58800000 | H49: =G49/C49*100 -> #VALUE! | I49: =F49-G49 -> -58800000 | J49: =I49/E49*100 -> -100
B50: 201.2010101.01.002.5.2.2.03.05 | C50: Belanja surat kabar/majalah | D50: 2880000 | E50: 2880000 | F50: =D50-E50 -> 0 | G50: =E50-F50 -> 2880000 | H50: =G50/C50*100 -> #VALUE! | I50: =F50-G50 -> -2880000 | J50: =I50/E50*100 -> -100
B51: 201.2010101.01.002.5.2.2.03.06 | C51: Belanja kawat/faksimili/internet/TV Berbayar | D51: 22800000 | E51: 22800000 | F51: =D51-E51 -> 0 | G51: =E51-F51 -> 22800000 | H51: =G51/C51*100 -> #VALUE! | I51: =F51-G51 -> -22800000 | J51: =I51/E51*100 -> -100
A52: 3 | B52: 201.2010101.01.007 | C52: Penyediaan jasa administrasi keuangan | D52: =SUM(D55:D65) -> 64481000 | E52: ='rekap REALISASI REKO '!AB53 -> 70000000 | F52: =D52-E52 -> -5519000 | G52: ='rekap REALISASI REKO '!AQ53 -> 63961125 | H52: =G52/E52*100 -> 91.373036 | I52: =E52-G52 -> 6038875 | J52: =I52/E52*100 -> 8.6269643
B54: 201.2010101.01.007.5.2.1 | C54: BELANJA PEGAWAI | E54: 35820000 | F54: =D54-E54 -> -35820000 | G54: =E54-F54 -> 71640000 | H54: =G54/C54*100 -> #VALUE! | I54: =F54-G54 -> -107460000 | J54: =I54/E54*100 -> -300
B55: 201.2010101.01.007.5.2.1.01 | C55: Honorarium PNS | E55: 31200000 | F55: =D55-E55 -> -31200000 | G55: =E55-F55 -> 62400000 | H55: =G55/C55*100 -> #VALUE! | I55: =F55-G55 -> -93600000 | J55: =I55/E55*100 -> -300
B56: 201.2010101.01.007.5.2.1.01.03 | C56: Honorarium Pengelola Keuangan SKPD | D56: 31200000 | E56: 31200000 | F56: =D56-E56 -> 0 | G56: =E56-F56 -> 31200000 | H56: =G56/C56*100 -> #VALUE! | I56: =F56-G56 -> -31200000 | J56: =I56/E56*100 -> -100
B57: 201.2010101.01.007.5.2.1.03 | C57: Uang Lembur | E57: 4620000 | F57: =D57-E57 -> -4620000 | G57: =E57-F57 -> 9240000 | H57: =G57/C57*100 -> #VALUE! | I57: =F57-G57 -> -13860000 | J57: =I57/E57*100 -> -300
B58: 201.2010101.01.007.5.2.1.03.01 | C58: Uang Lembur PNS | D58: 4620000 | E58: 4620000 | F58: =D58-E58 -> 0 | G58: =E58-F58 -> 4620000 | H58: =G58/C58*100 -> #VALUE! | I58: =F58-G58 -> -4620000 | J58: =I58/E58*100 -> -100
B59: 201.2010101.01.007.5.2.2 | C59: BELANJA BARANG DAN JASA | E59: 28661000 | F59: =D59-E59 -> -28661000 | G59: =E59-F59 -> 57322000 | H59: =G59/C59*100 -> #VALUE! | I59: =F59-G59 -> -85983000 | J59: =I59/E59*100 -> -300
B60: 201.2010101.01.007.5.2.2.01 | C60: Belanja Bahan Pakai Habis | E60: 7192000 | F60: =D60-E60 -> -7192000 | G60: =E60-F60 -> 14384000 | H60: =G60/C60*100 -> #VALUE! | I60: =F60-G60 -> -21576000 | J60: =I60/E60*100 -> -300
B61: 201.2010101.01.007.5.2.2.01.01 | C61: Belanja alat tulis kantor | D61: 7192000 | E61: 7192000 | F61: =D61-E61 -> 0 | G61: =E61-F61 -> 7192000 | H61: =G61/C61*100 -> #VALUE! | I61: =F61-G61 -> -7192000 | J61: =I61/E61*100 -> -100
B62: 201.2010101.01.007.5.2.2.06 | C62: Belanja Cetak dan Penggandaan | E62: 12549000 | F62: =D62-E62 -> -12549000 | G62: =E62-F62 -> 25098000 | H62: =G62/C62*100 -> #VALUE! | I62: =F62-G62 -> -37647000 | J62: =I62/E62*100 -> -300
B63: 201.2010101.01.007.5.2.2.06.02 | C63: Belanja Penggandaan | D63: 12549000 | E63: 12549000 | F63: =D63-E63 -> 0 | G63: =E63-F63 -> 12549000 | H63: =G63/C63*100 -> #VALUE! | I63: =F63-G63 -> -12549000 | J63: =I63/E63*100 -> -100
B64: 201.2010101.01.007.5.2.2.15 | C64: Belanja Perjalanan Dinas | E64: 8920000 | F64: =D64-E64 -> -8920000 | G64: =E64-F64 -> 17840000 | H64: =G64/C64*100 -> #VALUE! | I64: =F64-G64 -> -26760000 | J64: =I64/E64*100 -> -300
B65: 201.2010101.01.007.5.2.2.15.01 | C65: Belanja perjalanan dinas dalam daerah | D65: 8920000 | E65: 8920000 | F65: =D65-E65 -> 0 | G65: =E65-F65 -> 8920000 | H65: =G65/C65*100 -> #VALUE! | I65: =F65-G65 -> -8920000 | J65: =I65/E65*100 -> -100
A66: 4 | B66: 201.2010101.01.018 | C66: Rapat-rapat koordinasi dan konsultasi ke luar daerah | D66: =SUM(D68:D74) -> 117257000 | E66: ='rekap REALISASI REKO '!AB69 -> 120000000 | F66: =D66-E66 -> -2743000 | G66: ='rekap REALISASI REKO '!AQ69 -> 96509725 | H66: =G66/E66*100 -> 80.424771 | I66: =E66-G66 -> 23490275 | J66: =I66/E66*100 -> 19.575229
B68: 201.2010101.01.018.5.2.2 | C68: BELANJA BARANG DAN JASA | E68: 117257000 | F68: =D68-E68 -> -117257000 | G68: =E68-F68 -> 234514000 | H68: =G68/C68*100 -> #VALUE! | I68: =F68-G68 -> -351771000 | J68: =I68/E68*100 -> -300
B69: 201.2010101.01.018.5.2.2.01 | C69: Belanja Bahan Pakai Habis | E69: 539000 | F69: =D69-E69 -> -539000 | G69: =E69-F69 -> 1078000 | H69: =G69/C69*100 -> #VALUE! | I69: =F69-G69 -> -1617000 | J69: =I69/E69*100 -> -300
B70: 201.2010101.01.018.5.2.2.01.01 | C70: Belanja alat tulis kantor | D70: 539000 | E70: 539000 | F70: =D70-E70 -> 0 | G70: =E70-F70 -> 539000 | H70: =G70/C70*100 -> #VALUE! | I70: =F70-G70 -> -539000 | J70: =I70/E70*100 -> -100
B71: 201.2010101.01.018.5.2.2.06 | C71: Belanja Cetak dan Penggandaan | E71: 1068000 | F71: =D71-E71 -> -1068000 | G71: =E71-F71 -> 2136000 | H71: =G71/C71*100 -> #VALUE! | I71: =F71-G71 -> -3204000 | J71: =I71/E71*100 -> -300
B72: 201.2010101.01.018.5.2.2.06.02 | C72: Belanja Penggandaan | D72: 1068000 | E72: 1068000 | F72: =D72-E72 -> 0 | G72: =E72-F72 -> 1068000 | H72: =G72/C72*100 -> #VALUE! | I72: =F72-G72 -> -1068000 | J72: =I72/E72*100 -> -100
B73: 201.2010101.01.018.5.2.2.15 | C73: Belanja Perjalanan Dinas | E73: 115650000 | F73: =D73-E73 -> -115650000 | G73: =E73-F73 -> 231300000 | H73: =G73/C73*100 -> #VALUE! | I73: =F73-G73 -> -346950000 | J73: =I73/E73*100 -> -300
B74: 201.2010101.01.018.5.2.2.15.02 | C74: Belanja perjalanan dinas luar daerah | D74: 115650000 | E74: 115650000 | F74: =D74-E74 -> 0 | G74: =E74-F74 -> 115650000 | H74: =G74/C74*100 -> #VALUE! | I74: =F74-G74 -> -115650000 | J74: =I74/E74*100 -> -100
A75: 5 | B75: 201.2010101.01.019 | C75: Rapat-rapat koordinasi dan konsultasi dalam daerah | D75: =SUM(D77:D85) -> 69443000 | E75: ='rekap REALISASI REKO '!AB77 -> 76000000 | F75: =D75-E75 -> -6557000 | G75: ='rekap REALISASI REKO '!AQ77 -> 53744100 | H75: =G75/E75*100 -> 70.715921 | I75: =E75-G75 -> 22255900 | J75: =I75/E75*100 -> 29.284079
B77: 201.2010101.01.019.5.2.2 | C77: BELANJA BARANG DAN JASA | E77: 69443000 | F77: =D77-E77 -> -69443000 | G77: =E77-F77 -> 138886000 | H77: =G77/C77*100 -> #VALUE! | I77: =F77-G77 -> -208329000 | J77: =I77/E77*100 -> -300
B78: 201.2010101.01.019.5.2.2.01 | C78: Belanja Bahan Pakai Habis | E78: 2117000 | F78: =D78-E78 -> -2117000 | G78: =E78-F78 -> 4234000 | H78: =G78/C78*100 -> #VALUE! | I78: =F78-G78 -> -6351000 | J78: =I78/E78*100 -> -300
B79: 201.2010101.01.019.5.2.2.01.01 | C79: Belanja alat tulis kantor | D79: 2117000 | E79: 2117000 | F79: =D79-E79 -> 0 | G79: =E79-F79 -> 2117000 | H79: =G79/C79*100 -> #VALUE! | I79: =F79-G79 -> -2117000 | J79: =I79/E79*100 -> -100
B80: 201.2010101.01.019.5.2.2.06 | C80: Belanja Cetak dan Penggandaan | E80: 2366000 | F80: =D80-E80 -> -2366000 | G80: =E80-F80 -> 4732000 | H80: =G80/C80*100 -> #VALUE! | I80: =F80-G80 -> -7098000 | J80: =I80/E80*100 -> -300
B81: 201.2010101.01.019.5.2.2.06.02 | C81: Belanja Penggandaan | D81: 2366000 | E81: 2366000 | F81: =D81-E81 -> 0 | G81: =E81-F81 -> 2366000 | H81: =G81/C81*100 -> #VALUE! | I81: =F81-G81 -> -2366000 | J81: =I81/E81*100 -> -100
B82: 201.2010101.01.019.5.2.2.11 | C82: Belanja Makanan dan Minuman | E82: 24750000 | F82: =D82-E82 -> -24750000 | G82: =E82-F82 -> 49500000 | H82: =G82/C82*100 -> #VALUE! | I82: =F82-G82 -> -74250000 | J82: =I82/E82*100 -> -300
B83: 201.2010101.01.019.5.2.2.11.02 | C83: Belanja makanan dan minuman rapat | D83: 24750000 | E83: 24750000 | F83: =D83-E83 -> 0 | G83: =E83-F83 -> 24750000 | H83: =G83/C83*100 -> #VALUE! | I83: =F83-G83 -> -24750000 | J83: =I83/E83*100 -> -100
B84: 201.2010101.01.019.5.2.2.15 | C84: Belanja Perjalanan Dinas | E84: 40210000 | F84: =D84-E84 -> -40210000 | G84: =E84-F84 -> 80420000 | H84: =G84/C84*100 -> #VALUE! | I84: =F84-G84 -> -120630000 | J84: =I84/E84*100 -> -300
B85: 201.2010101.01.019.5.2.2.15.01 | C85: Belanja perjalanan dinas dalam daerah | D85: 40210000 | E85: 40210000 | F85: =D85-E85 -> 0 | G85: =E85-F85 -> 40210000 | H85: =G85/C85*100 -> #VALUE! | I85: =F85-G85 -> -40210000 | J85: =I85/E85*100 -> -100
A86: II | B86: 201.2010101.02 | C86: Program Peningkatan Sarana dan Prasarana Aparatur | D86: =D87+D99+D108+D113 -> 1010624000 | E86: =E87+E99+E108+E113 -> 720856000 | F86: =D86-E86 -> 289768000 | G86: =G87+G99+G108+G113 -> 362959200 | H86: =G86/E86*100 -> 50.351138 | I86: =I87+I99+I108+I113 -> 357896800 | J86: =I86/E86*100 -> 49.648862
A87: 6 | B87: 201.2010101.02.022 | C87: Pemeliharaan rutin/berkala gedung kantor | D87: =SUM(D91:D98) -> 161880000 | E87: ='rekap REALISASI REKO '!AB88 -> 166200000 | F87: =D87-E87 -> -4320000 | G87: ='rekap REALISASI REKO '!AQ88 -> 140056450 | H87: =G87/E87*100 -> 84.269826 | I87: =E87-G87 -> 26143550 | J87: =I87/E87*100 -> 15.730174
B89: 201.2010101.02.022.5.2.2 | C89: BELANJA BARANG DAN JASA | E89: 161880000 | F89: =D89-E89 -> -161880000 | G89: =E89-F89 -> 323760000 | H89: =G89/C89*100 -> #VALUE! | I89: =F89-G89 -> -485640000 | J89: =I89/E89*100 -> -300
B90: 201.2010101.02.022.5.2.2.01 | C90: Belanja Bahan Pakai Habis | E90: 18008000 | F90: =D90-E90 -> -18008000 | G90: =E90-F90 -> 36016000 | H90: =G90/C90*100 -> #VALUE! | I90: =F90-G90 -> -54024000 | J90: =I90/E90*100 -> -300
B91: 201.2010101.02.022.5.2.2.01.03 | C91: Belanja alat listrik dan elektronik ( lampu pijar, battery kering) | D91: 5480000 | E91: 5480000 | F91: =D91-E91 -> 0 | G91: =E91-F91 -> 5480000 | H91: =G91/C91*100 -> #VALUE! | I91: =F91-G91 -> -5480000 | J91: =I91/E91*100 -> -100
B92: 201.2010101.02.022.5.2.2.01.05 | C92: Belanja peralatan kebersihan dan bahan pembersih | D92: 12528000 | E92: 12528000 | F92: =D92-E92 -> 0 | G92: =E92-F92 -> 12528000 | H92: =G92/C92*100 -> #VALUE! | I92: =F92-G92 -> -12528000 | J92: =I92/E92*100 -> -100
B93: 201.2010101.02.022.5.2.2.03 | C93: Belanja Jasa Kantor | E93: 133000000 | F93: =D93-E93 -> -133000000 | G93: =E93-F93 -> 266000000 | H93: =G93/C93*100 -> #VALUE! | I93: =F93-G93 -> -399000000 | J93: =I93/E93*100 -> -300
B94: 201.2010101.02.022.5.2.2.03.14 | C94: Belanja Jasa Tenaga Kerja Non Pegawai | D94: 133000000 | E94: 133000000 | F94: =D94-E94 -> 0 | G94: =E94-F94 -> 133000000 | H94: =G94/C94*100 -> #VALUE! | I94: =F94-G94 -> -133000000 | J94: =I94/E94*100 -> -100
B95: 201.2010101.02.022.5.2.2.05 | C95: Belanja Perawatan Kendaraan Bermotor | E95: 9792000 | F95: =D95-E95 -> -9792000 | G95: =E95-F95 -> 19584000 | H95: =G95/C95*100 -> #VALUE! | I95: =F95-G95 -> -29376000 | J95: =I95/E95*100 -> -300
B96: 201.2010101.02.022.5.2.2.05.03 | C96: Belanja Bahan Bakar Minyak/Gas | D96: 9792000 | E96: 9792000 | F96: =D96-E96 -> 0 | G96: =E96-F96 -> 9792000 | H96: =G96/C96*100 -> #VALUE! | I96: =F96-G96 -> -9792000 | J96: =I96/E96*100 -> -100
B97: 201.2010101.02.022.5.2.2.25 | C97: Belanja Pajak / Retribusi | E97: 1080000 | F97: =D97-E97 -> -1080000 | G97: =E97-F97 -> 2160000 | H97: =G97/C97*100 -> #VALUE! | I97: =F97-G97 -> -3240000 | J97: =I97/E97*100 -> -300
B98: 201.2010101.02.022.5.2.2.25.03 | C98: Belanja Jasa Retribusi Kebersihan Kantor | D98: 1080000 | E98: 1080000 | F98: =D98-E98 -> 0 | G98: =E98-F98 -> 1080000 | H98: =G98/C98*100 -> #VALUE! | I98: =F98-G98 -> -1080000 | J98: =I98/E98*100 -> -100
A99: 7 | B99: 201.2010101.02.024 | C99: Pemeliharaan rutin/berkala kendaraan dinas/operasional | D99: 344845000 | E99: ='rekap REALISASI REKO '!AB102 -> 312656000 | F99: =D99-E99 -> 32189000 | G99: ='rekap REALISASI REKO '!AQ102 -> 165332750 | H99: =G99/E99*100 -> 52.880082 | I99: =E99-G99 -> 147323250 | J99: =I99/E99*100 -> 47.119918
B101: 201.2010101.02.024.5.2.2 | C101: BELANJA BARANG DAN JASA | E101: 344845000 | F101: =D101-E101 -> -344845000 | G101: =E101-F101 -> 689690000 | H101: =G101/C101*100 -> #VALUE! | I101: =F101-G101 -> -1034535000 | J101: =I101/E101*100 -> -300
B102: 201.2010101.02.024.5.2.2.05 | C102: Belanja Perawatan Kendaraan Bermotor | E102: 344845000 | F102: =D102-E102 -> -344845000 | G102: =E102-F102 -> 689690000 | H102: =G102/C102*100 -> #VALUE! | I102: =F102-G102 -> -1034535000 | J102: =I102/E102*100 -> -300
B103: 201.2010101.02.024.5.2.2.05.01 | C103: Belanja Jasa Service dan Pelumas | D103: 61860000 | E103: 61860000 | F103: =D103-E103 -> 0 | G103: =E103-F103 -> 61860000 | H103: =G103/C103*100 -> #VALUE! | I103: =F103-G103 -> -61860000 | J103: =I103/E103*100 -> -100
B104: 201.2010101.02.024.5.2.2.05.02 | C104: Belanja Penggantian Suku Cadang | D104: 48737000 | E104: 48737000 | F104: =D104-E104 -> 0 | G104: =E104-F104 -> 48737000 | H104: =G104/C104*100 -> #VALUE! | I104: =F104-G104 -> -48737000 | J104: =I104/E104*100 -> -100
B105: 201.2010101.02.024.5.2.2.05.03 | C105: Belanja Bahan Bakar Minyak/Gas | D105: 220292000 | E105: 220292000 | F105: =D105-E105 -> 0 | G105: =E105-F105 -> 220292000 | H105: =G105/C105*100 -> #VALUE! | I105: =F105-G105 -> -220292000 | J105: =I105/E105*100 -> -100
B106: 201.2010101.02.024.5.2.2.05.04 | C106: Belanja Jasa KIR | D106: 1903000 | E106: 1903000 | F106: =D106-E106 -> 0 | G106: =E106-F106 -> 1903000 | H106: =G106/C106*100 -> #VALUE! | I106: =F106-G106 -> -1903000 | J106: =I106/E106*100 -> -100
B107: 201.2010101.02.024.5.2.2.05.05 | C107: Belanja Surat Tanda Nomor Kendaraan | D107: 12053000 | E107: 12053000 | F107: =D107-E107 -> 0 | G107: =E107-F107 -> 12053000 | H107: =G107/C107*100 -> #VALUE! | I107: =F107-G107 -> -12053000 | J107: =I107/E107*100 -> -100
A108: 8 | B108: 201.2010101.02.028 | C108: Pemeliharaan rutin/berkala peralatan gedung kantor | D108: =SUM(D111:D112) -> 43002000 | E108: ='rekap REALISASI REKO '!AB114 -> 42000000 | F108: =D108-E108 -> 1002000 | G108: ='rekap REALISASI REKO '!AQ114 -> 42000000 | H108: =G108/E108*100 -> 100 | I108: =E108-G108 -> 0 | J108: =I108/E108*100 -> 0
B110: 201.2010101.02.028.5.2.2 | C110: BELANJA BARANG DAN JASA | E110: 43002000 | F110: =D110-E110 -> -43002000 | G110: =E110-F110 -> 86004000 | H110: =G110/C110*100 -> #VALUE! | I110: =F110-G110 -> -129006000 | J110: =I110/E110*100 -> -300
B111: 201.2010101.02.028.5.2.2.20 | C111: Belanja Pemeliharaan | E111: 43002000 | F111: =D111-E111 -> -43002000 | G111: =E111-F111 -> 86004000 | H111: =G111/C111*100 -> #VALUE! | I111: =F111-G111 -> -129006000 | J111: =I111/E111*100 -> -300
B112: 201.2010101.02.028.5.2.2.20.08 | C112: Belanja Pemeliharaan Alat-alat Kantor | D112: 43002000 | E112: 43002000 | F112: =D112-E112 -> 0 | G112: =E112-F112 -> 43002000 | H112: =G112/C112*100 -> #VALUE! | I112: =F112-G112 -> -43002000 | J112: =I112/E112*100 -> -100
...

Sheet 2019 DAN 18
A1: PERBANDINGAN ANGGARAN TAHUN 2019 DENGAN TAHUN 2018
A2: DINAS PERINNAKER KAB. MAGELANG
A5: NO | B5: Kode Rekening | C5: Uraian | D5: Anggaran Tahun 2019 | E5: Anggaran Tahun 2018 yang ada di Tahun 2019 | F5: Tambah / ( Kurang ) | G5: TAHUN 2018
A6: 1 | B6: 2 | C6: 3 | D6: 4 | E6: 5 | F6: 6 = 4 - 5 | G6: Realisasi yang sudah ada SPJ Tahun 2018 | H6: % | I6: Belum Terealisasi | J6: %
G7: 7 | H7: 8 =( 7/5x100) | I7: 9 = 5 - 7 | J7: 10 =( 9/5x100)
A8: A | B8: 201.2010101.00.000.4 | C8: PENDAPATAN | D8: 33000000 | E8: =E9 -> 170500000 | F8: =D8-E8 -> -137500000 | G8: =G9 -> 56745500 | H8: =G8/E8*100 -> 33.281818 | I8: =E8-G8 -> 113754500 | J8: =I8/E8*100 -> 66.718182
B9: 201.2010101.00.000.4.1 | C9: PENDAPATAN ASLI DAERAH | D9: =D10 -> 33000000 | E9: =E10+E13 -> 170500000 | F9: =D9-E9 -> -137500000 | G9: ='rekap REALISASI REKO '!AQ11 -> 56745500 | H9: =G9/E9*100 -> 33.281818 | I9: =E9-G9 -> 113754500 | J9: =I9/E9*100 -> 66.718182
B10: 201.2010101.00.000.4.1.2 | C10: Hasil Retribusi Daerah | D10: 33000000 | E10: 33000000 | F10: =D10-E10 -> 0 | G10: =E10-F10 -> 33000000 | H10: =G10/C10*100 -> #VALUE! | I10: =F10-G10 -> -33000000 | J10: =I10/E10*100 -> -100
B11: 201.2010101.00.000.4.1.2.02 | C11: Retribusi Jasa Usaha | D11: 33000000 | E11: 33000000 | F11: =D11-E11 -> 0 | G11: =E11-F11 -> 33000000 | H11: =G11/C11*100 -> #VALUE! | I11: =F11-G11 -> -33000000 | J11: =I11/E11*100 -> -100
B12: 201.2010101.00.000.4.1.2.02.01 | C12: Retribusi Pemakaian Kekayaan Daerah | D12: 33000000 | E12: 33000000 | F12: =D12-E12 -> 0 | G12: =E12-F12 -> 33000000 | H12: =G12/C12*100 -> #VALUE! | I12: =F12-G12 -> -33000000 | J12: =I12/E12*100 -> -100
B13: 201.2010101.00.000.4.1.2.03.12 | C13: Pemberian Pinjaman IMTA Kepada Pemberi Kerja Tenaga Kerja Asing | D13: 0 | E13: 137500000 | F13: =D13-E13 -> -137500000 | G13: =E13-F13 -> 275000000 | H13: =G13/C13*100 -> #VALUE! | I13: =F13-G13 -> -412500000 | J13: =I13/E13*100 -> -300
A15: B | B15: 201.2010101.00.000.5.1 | C15: BELANJA TIDAK LANGSUNG | D15: 6341834000 | E15: 6048349000 | F15: =D15-E15 -> 293485000 | G15: ='rekap REALISASI REKO '!AQ15 -> 5537071836 | H15: =G15/E15*100 -> 91.546831 | I15: =E15-G15 -> 511277164 | J15: =I15/E15*100 -> 8.453169
B16: 201.2010101.00.000.5.1.1 | C16: BELANJA PEGAWAI | D16: =D17+D28+D30 -> 6341834000 | E16: 6341834000 | F16: =D16-E16 -> 0 | G16: =E16-F16 -> 6341834000 | H16: =G16/C16*100 -> #VALUE! | I16: =F16-G16 -> -6341834000 | J16: =I16/E16*100 -> -100
B17: 201.2010101.00.000.5.1.1.01 | C17: Gaji dan Tunjangan | D17: =SUM(D18:D27) -> 5314124000 | E17: 5314124000 | F17: =D17-E17 -> 0 | G17: =E17-F17 -> 5314124000 | H17: =G17/C17*100 -> #VALUE! | I17: =F17-G17 -> -5314124000 | J17: =I17/E17*100 -> -100
B18: 201.2010101.00.000.5.1.1.01.01 | C18: Gaji Pokok PNS/Uang Representasi | D18: 4097850000 | E18: 4097850000 | F18: =D18-E18 -> 0 | G18: =E18-F18 -> 4097850000 | H18: =G18/C18*100 -> #VALUE! | I18: =F18-G18 -> -4097850000 | J18: =I18/E18*100 -> -100
B19: 201.2010101.00.000.5.1.1.01.02 | C19: Tunjangan Keluarga | D19: 400368000 | E19: 400368000 | F19: =D19-E19 -> 0 | G19: =E19-F19 -> 400368000 | H19: =G19/C19*100 -> #VALUE! | I19: =F19-G19 -> -400368000 | J19: =I19/E19*100 -> -100
B20: 201.2010101.00.000.5.1.1.01.03 | C20: Tunjangan Jabatan 2) | D20: 178091000 | E20: 178091000 | F20: =D20-E20 -> 0 | G20: =E20-F20 -> 178091000 | H20: =G20/C20*100 -> #VALUE! | I20: =F20-G20 -> -178091000 | J20: =I20/E20*100 -> -100
B21: 201.2010101.00.000.5.1.1.01.04 | C21: Tunjangan Fungsional | D21: 245299000 | E21: 245299000 | F21: =D21-E21 -> 0 | G21: =E21-F21 -> 245299000 | H21: =G21/C21*100 -> #VALUE! | I21: =F21-G21 -> -245299000 | J21: =I21/E21*100 -> -100
B22: 201.2010101.00.000.5.1.1.01.05 | C22: Tunjangan Fungsional Umum | D22: 52496000 | E22: 52496000 | F22: =D22-E22 -> 0 | G22: =E22-F22 -> 52496000 | H22: =G22/C22*100 -> #VALUE! | I22: =F22-G22 -> -52496000 | J22: =I22/E22*100 -> -100
B23: 201.2010101.00.000.5.1.1.01.06 | C23: Tunjangan Beras 1) | D23: 173808000 | E23: 173808000 | F23: =D23-E23 -> 0 | G23: =E23-F23 -> 173808000 | H23: =G23/C23*100 -> #VALUE! | I23: =F23-G23 -> -173808000 | J23: =I23/E23*100 -> -100
B24: 201.2010101.00.000.5.1.1.01.07 | C24: Tunjangan PPh/Tunjangan Khusus | D24: 22817000 | E24: 22817000 | F24: =D24-E24 -> 0 | G24: =E24-F24 -> 22817000 | H24: =G24/C24*100 -> #VALUE! | I24: =F24-G24 -> -22817000 | J24: =I24/E24*100 -> -100
B25: 201.2010101.00.000.5.1.1.01.08 | C25: Pembulatan Gaji | D25: 70000 | E25: 70000 | F25: =D25-E25 -> 0 | G25: =E25-F25 -> 70000 | H25: =G25/C25*100 -> #VALUE! | I25: =F25-G25 -> -70000 | J25: =I25/E25*100 -> -100
B26: 201.2010101.00.000.5.1.1.01.21 | C26: Tunjangan BPJS Kesehatan | D26: 111998000 | E26: 111998000 | F26: =D26-E26 -> 0 | G26: =E26-F26 -> 111998000 | H26: =G26/C26*100 -> #VALUE! | I26: =F26-G26 -> -111998000 | J26: =I26/E26*100 -> -100
B27: 201.2010101.00.000.5.1.1.01.22 | C27: Iuran Jaminan Kecelakaan Kerja dan Jaminan Kematian ( JKK JK) | D27: 31327000 | E27: 31327000 | F27: =D27-E27 -> 0 | G27: =E27-F27 -> 31327000 | H27: =G27/C27*100 -> #VALUE! | I27: =F27-G27 -> -31327000 | J27: =I27/E27*100 -> -100
B28: 201.2010101.00.000.5.1.1.02 | C28: Tambahan Penghasilan PNS | D28: =D29 -> 1026060000 | E28: 1026060000 | F28: =D28-E28 -> 0 | G28: =E28-F28 -> 1026060000 | H28: =G28/C28*100 -> #VALUE! | I28: =F28-G28 -> -1026060000 | J28: =I28/E28*100 -> -100
B29: 201.2010101.00.000.5.1.1.02.01 | C29: Tambahan Penghasilan berdasarkan beban kerja | D29: 1026060000 | E29: 1026060000 | F29: =D29-E29 -> 0 | G29: =E29-F29 -> 1026060000 | H29: =G29/C29*100 -> #VALUE! | I29: =F29-G29 -> -1026060000 | J29: =I29/E29*100 -> -100
B30: 201.2010101.00.000.5.1.1.06 | C30: Insentif Pemungutan Retribusi Daerah | D30: =D31 -> 1650000 | E30: 1650000 | F30: =D30-E30 -> 0 | G30: =E30-F30 -> 1650000 | H30: =G30/C30*100 -> #VALUE! | I30: =F30-G30 -> -1650000 | J30: =I30/E30*100 -> -100
B31: 201.2010101.00.000.5.1.1.06.16 | C31: Insentif Pemungutan Retribusi Daerah - Pemakaian Kekayaan Daerah | D31: 1650000 | E31: 1650000 | F31: =D31-E31 -> 0 | G31: =E31-F31 -> 1650000 | H31: =G31/C31*100 -> #VALUE! | I31: =F31-G31 -> -1650000 | J31: =I31/E31*100 -> -100
A33: C | B33: 201.2010101.00.000.5.2 | C33: BELANJA LANGSUNG | D33: =D34+D86+D118+D135+D152+D211+D344+D468+D490+D514+D604+D643 -> 5321184000 | E33: ='rekap REALISASI REKO '!AB677 -> 5229995000 | F33: =D33-E33 -> 91189000 | G33: ='rekap REALISASI REKO '!AQ33 -> 4440396483 | H33: =G33/E33*100 -> 84.9025 | I33: =E33-G33 -> 789598517 | J33: =I33/E33*100 -> 15.0975
A34: I | B34: 201.2010101.01 | C34: Program Pelayanan Administrasi Perkantoran | D34: =D35+D43+D52+D66+D75 -> 386568000 | E34: =E35+E43+E52+E66+E75 -> 403500000 | F34: =D34-E34 -> -16932000 | G34: =G35+G43+G52+G66+G75 -> 329339893 | H34: =G34/E34*100 -> 81.620791 | I34: =I35+I43+I52+I66+I75 -> 74160107 | J34: =I34/E34*100 -> 18.379209
A35: 1 | B35: 201.2010101.01.001 | C35: Penyediaan jasa surat menyurat | D35: =SUM(D37:D42) -> 25387000 | E35: ='rekap REALISASI REKO '!AB35 -> 40000000 | F35: =D35-E35 -> -14613000 | G35: ='rekap REALISASI REKO '!AQ35 -> 39979550 | H35: =G35/E35*100 -> 99.948875 | I35: =E35-G35 -> 20450 | J35: =I35/E35*100 -> 0.051125
B37: 201.2010101.01.001.5.2.2 | C37: BELANJA BARANG DAN JASA | E37: 25387000 | F37: =D37-E37 -> -25387000 | G37: =E37-F37 -> 50774000 | H37: =G37/C37*100 -> #VALUE! | I37: =F37-G37 -> -76161000 | J37: =I37/E37*100 -> -300
B38: 201.2010101.01.001.5.2.2.01 | C38: Belanja Bahan Pakai Habis | E38: 12578000 | F38: =D38-E38 -> -12578000 | G38: =E38-F38 -> 25156000 | H38: =G38/C38*100 -> #VALUE! | I38: =F38-G38 -> -37734000 | J38: =I38/E38*100 -> -300
B39: 201.2010101.01.001.5.2.2.01.01 | C39: Belanja alat tulis kantor | D39: 12578000 | E39: 12578000 | F39: =D39-E39 -> 0 | G39: =E39-F39 -> 12578000 | H39: =G39/C39*100 -> #VALUE! | I39: =F39-G39 -> -12578000 | J39: =I39/E39*100 -> -100
B40: 201.2010101.01.001.5.2.2.06 | C40: Belanja Cetak dan Penggandaan | E40: 12809000 | F40: =D40-E40 -> -12809000 | G40: =E40-F40 -> 25618000 | H40: =G40/C40*100 -> #VALUE! | I40: =F40-G40 -> -38427000 | J40: =I40/E40*100 -> -300
B41: 201.2010101.01.001.5.2.2.06.01 | C41: Belanja Cetak | D41: 4759000 | E41: 4759000 | F41: =D41-E41 -> 0 | G41: =E41-F41 -> 4759000 | H41: =G41/C41*100 -> #VALUE! | I41: =F41-G41 -> -4759000 | J41: =I41/E41*100 -> -100
B42: 201.2010101.01.001.5.2.2.06.02 | C42: Belanja Penggandaan | D42: 8050000 | E42: 8050000 | F42: =D42-E42 -> 0 | G42: =E42-F42 -> 8050000 | H42: =G42/C42*100 -> #VALUE! | I42: =F42-G42 -> -8050000 | J42: =I42/E42*100 -> -100
A43: 2 | B43: 201.2010101.01.002 | C43: Penyediaan jasa komunikasi, sumber daya air dan listrik | D43: =SUM(D47:D51) -> 110000000 | E43: ='rekap REALISASI REKO '!AB45 -> 97500000 | F43: =D43-E43 -> 12500000 | G43: ='rekap REALISASI REKO '!AQ45 -> 75145393 | H43: =G43/E43*100 -> 77.072198 | I43: =E43-G43 -> 22354607 | J43: =I43/E43*100 -> 22.927802
B45: 201.2010101.01.002.5.2.2 | C45: BELANJA BARANG DAN JASA | E45: 110000000 | F45: =D45-E45 -> -110000000 | G45: =E45-F45 -> 220000000 | H45: =G45/C45*100 -> #VALUE! | I45: =F45-G45 -> -330000000 | J45: =I45/E45*100 -> -300
B46: 201.2010101.01.002.5.2.2.03 | C46: Belanja Jasa Kantor | E46: 110000000 | F46: =D46-E46 -> -110000000 | G46: =E46-F46 -> 220000000 | H46: =G46/C46*100 -> #VALUE! | I46: =F46-G46 -> -330000000 | J46: =I46/E46*100 -> -300
B47: 201.2010101.01.002.5.2.2.03.01 | C47: Belanja telepon | D47: 14720000 | E47: 14720000 | F47: =D47-E47 -> 0 | G47: =E47-F47 -> 14720000 | H47: =G47/C47*100 -> #VALUE! | I47: =F47-G47 -> -14720000 | J47: =I47/E47*100 -> -100
B48: 201.2010101.01.002.5.2.2.03.02 | C48: Belanja air | D48: 10800000 | E48: 10800000 | F48: =D48-E48 -> 0 | G48: =E48-F48 -> 10800000 | H48: =G48/C48*100 -> #VALUE! | I48: =F48-G48 -> -10800000 | J48: =I48/E48*100 -> -100
B49: 201.2010101.01.002.5.2.2.03.03 | C49: Belanja listrik | D49: 58800000 | E49: 58800000 | F49: =D49-E49 -> 0 | G49: =E49-F49 -> 58800000 | H49: =G49/C49*100 -> #VALUE! | I49: =F49-G49 -> -58800000 | J49: =I49/E49*100 -> -100
B50: 201.2010101.01.002.5.2.2.03.05 | C50: Belanja surat kabar/majalah | D50: 2880000 | E50: 2880000 | F50: =D50-E50 -> 0 | G50: =E50-F50 -> 2880000 | H50: =G50/C50*100 -> #VALUE! | I50: =F50-G50 -> -2880000 | J50: =I50/E50*100 -> -100
B51: 201.2010101.01.002.5.2.2.03.06 | C51: Belanja kawat/faksimili/internet/TV Berbayar | D51: 22800000 | E51: 22800000 | F51: =D51-E51 -> 0 | G51: =E51-F51 -> 22800000 | H51: =G51/C51*100 -> #VALUE! | I51: =F51-G51 -> -22800000 | J51: =I51/E51*100 -> -100
A52: 3 | B52: 201.2010101.01.007 | C52: Penyediaan jasa administrasi keuangan | D52: =SUM(D55:D65) -> 64481000 | E52: ='rekap REALISASI REKO '!AB53 -> 70000000 | F52: =D52-E52 -> -5519000 | G52: ='rekap REALISASI REKO '!AQ53 -> 63961125 | H52: =G52/E52*100 -> 91.373036 | I52: =E52-G52 -> 6038875 | J52: =I52/E52*100 -> 8.6269643
B54: 201.2010101.01.007.5.2.1 | C54: BELANJA PEGAWAI | E54: 35820000 | F54: =D54-E54 -> -35820000 | G54: =E54-F54 -> 71640000 | H54: =G54/C54*100 -> #VALUE! | I54: =F54-G54 -> -107460000 | J54: =I54/E54*100 -> -300
B55: 201.2010101.01.007.5.2.1.01 | C55: Honorarium PNS | E55: 31200000 | F55: =D55-E55 -> -31200000 | G55: =E55-F55 -> 62400000 | H55: =G55/C55*100 -> #VALUE! | I55: =F55-G55 -> -93600000 | J55: =I55/E55*100 -> -300
B56: 201.2010101.01.007.5.2.1.01.03 | C56: Honorarium Pengelola Keuangan SKPD | D56: 31200000 | E56: 31200000 | F56: =D56-E56 -> 0 | G56: =E56-F56 -> 31200000 | H56: =G56/C56*100 -> #VALUE! | I56: =F56-G56 -> -31200000 | J56: =I56/E56*100 -> -100
B57: 201.2010101.01.007.5.2.1.03 | C57: Uang Lembur | E57: 4620000 | F57: =D57-E57 -> -4620000 | G57: =E57-F57 -> 9240000 | H57: =G57/C57*100 -> #VALUE! | I57: =F57-G57 -> -13860000 | J57: =I57/E57*100 -> -300
B58: 201.2010101.01.007.5.2.1.03.01 | C58: Uang Lembur PNS | D58: 4620000 | E58: 4620000 | F58: =D58-E58 -> 0 | G58: =E58-F58 -> 4620000 | H58: =G58/C58*100 -> #VALUE! | I58: =F58-G58 -> -4620000 | J58: =I58/E58*100 -> -100
B59: 201.2010101.01.007.5.2.2 | C59: BELANJA BARANG DAN JASA | E59: 28661000 | F59: =D59-E59 -> -28661000 | G59: =E59-F59 -> 57322000 | H59: =G59/C59*100 -> #VALUE! | I59: =F59-G59 -> -85983000 | J59: =I59/E59*100 -> -300
B60: 201.2010101.01.007.5.2.2.01 | C60: Belanja Bahan Pakai Habis | E60: 7192000 | F60: =D60-E60 -> -7192000 | G60: =E60-F60 -> 14384000 | H60: =G60/C60*100 -> #VALUE! | I60: =F60-G60 -> -21576000 | J60: =I60/E60*100 -> -300
B61: 201.2010101.01.007.5.2.2.01.01 | C61: Belanja alat tulis kantor | D61: 7192000 | E61: 7192000 | F61: =D61-E61 -> 0 | G61: =E61-F61 -> 7192000 | H61: =G61/C61*100 -> #VALUE! | I61: =F61-G61 -> -7192000 | J61: =I61/E61*100 -> -100
B62: 201.2010101.01.007.5.2.2.06 | C62: Belanja Cetak dan Penggandaan | E62: 12549000 | F62: =D62-E62 -> -12549000 | G62: =E62-F62 -> 25098000 | H62: =G62/C62*100 -> #VALUE! | I62: =F62-G62 -> -37647000 | J62: =I62/E62*100 -> -300
B63: 201.2010101.01.007.5.2.2.06.02 | C63: Belanja Penggandaan | D63: 12549000 | E63: 12549000 | F63: =D63-E63 -> 0 | G63: =E63-F63 -> 12549000 | H63: =G63/C63*100 -> #VALUE! | I63: =F63-G63 -> -12549000 | J63: =I63/E63*100 -> -100
B64: 201.2010101.01.007.5.2.2.15 | C64: Belanja Perjalanan Dinas | E64: 8920000 | F64: =D64-E64 -> -8920000 | G64: =E64-F64 -> 17840000 | H64: =G64/C64*100 -> #VALUE! | I64: =F64-G64 -> -26760000 | J64: =I64/E64*100 -> -300
B65: 201.2010101.01.007.5.2.2.15.01 | C65: Belanja perjalanan dinas dalam daerah | D65: 8920000 | E65: 8920000 | F65: =D65-E65 -> 0 | G65: =E65-F65 -> 8920000 | H65: =G65/C65*100 -> #VALUE! | I65: =F65-G65 -> -8920000 | J65: =I65/E65*100 -> -100
A66: 4 | B66: 201.2010101.01.018 | C66: Rapat-rapat koordinasi dan konsultasi ke luar daerah | D66: =SUM(D68:D74) -> 117257000 | E66: ='rekap REALISASI REKO '!AB69 -> 120000000 | F66: =D66-E66 -> -2743000 | G66: ='rekap REALISASI REKO '!AQ69 -> 96509725 | H66: =G66/E66*100 -> 80.424771 | I66: =E66-G66 -> 23490275 | J66: =I66/E66*100 -> 19.575229
B68: 201.2010101.01.018.5.2.2 | C68: BELANJA BARANG DAN JASA | E68: 117257000 | F68: =D68-E68 -> -117257000 | G68: =E68-F68 -> 234514000 | H68: =G68/C68*100 -> #VALUE! | I68: =F68-G68 -> -351771000 | J68: =I68/E68*100 -> -300
B69: 201.2010101.01.018.5.2.2.01 | C69: Belanja Bahan Pakai Habis | E69: 539000 | F69: =D69-E69 -> -539000 | G69: =E69-F69 -> 1078000 | H69: =G69/C69*100 -> #VALUE! | I69: =F69-G69 -> -1617000 | J69: =I69/E69*100 -> -300
B70: 201.2010101.01.018.5.2.2.01.01 | C70: Belanja alat tulis kantor | D70: 539000 | E70: 539000 | F70: =D70-E70 -> 0 | G70: =E70-F70 -> 539000 | H70: =G70/C70*100 -> #VALUE! | I70: =F70-G70 -> -539000 | J70: =I70/E70*100 -> -100
B71: 201.2010101.01.018.5.2.2.06 | C71: Belanja Cetak dan Penggandaan | E71: 1068000 | F71: =D71-E71 -> -1068000 | G71: =E71-F71 -> 2136000 | H71: =G71/C71*100 -> #VALUE! | I71: =F71-G71 -> -3204000 | J71: =I71/E71*100 -> -300
B72: 201.2010101.01.018.5.2.2.06.02 | C72: Belanja Penggandaan | D72: 1068000 | E72: 1068000 | F72: =D72-E72 -> 0 | G72: =E72-F72 -> 1068000 | H72: =G72/C72*100 -> #VALUE! | I72: =F72-G72 -> -1068000 | J72: =I72/E72*100 -> -100
B73: 201.2010101.01.018.5.2.2.15 | C73: Belanja Perjalanan Dinas | E73: 115650000 | F73: =D73-E73 -> -115650000 | G73: =E73-F73 -> 231300000 | H73: =G73/C73*100 -> #VALUE! | I73: =F73-G73 -> -346950000 | J73: =I73/E73*100 -> -300
B74: 201.2010101.01.018.5.2.2.15.02 | C74: Belanja perjalanan dinas luar daerah | D74: 115650000 | E74: 115650000 | F74: =D74-E74 -> 0 | G74: =E74-F74 -> 115650000 | H74: =G74/C74*100 -> #VALUE! | I74: =F74-G74 -> -115650000 | J74: =I74/E74*100 -> -100
A75: 5 | B75: 201.2010101.01.019 | C75: Rapat-rapat koordinasi dan konsultasi dalam daerah | D75: =SUM(D77:D85) -> 69443000 | E75: ='rekap REALISASI REKO '!AB77 -> 76000000 | F75: =D75-E75 -> -6557000 | G75: ='rekap REALISASI REKO '!AQ77 -> 53744100 | H75: =G75/E75*100 -> 70.715921 | I75: =E75-G75 -> 22255900 | J75: =I75/E75*100 -> 29.284079
B77: 201.2010101.01.019.5.2.2 | C77: BELANJA BARANG DAN JASA | E77: 69443000 | F77: =D77-E77 -> -69443000 | G77: =E77-F77 -> 138886000 | H77: =G77/C77*100 -> #VALUE! | I77: =F77-G77 -> -208329000 | J77: =I77/E77*100 -> -300
B78: 201.2010101.01.019.5.2.2.01 | C78: Belanja Bahan Pakai Habis | E78: 2117000 | F78: =D78-E78 -> -2117000 | G78: =E78-F78 -> 4234000 | H78: =G78/C78*100 -> #VALUE! | I78: =F78-G78 -> -6351000 | J78: =I78/E78*100 -> -300
B79: 201.2010101.01.019.5.2.2.01.01 | C79: Belanja alat tulis kantor | D79: 2117000 | E79: 2117000 | F79: =D79-E79 -> 0 | G79: =E79-F79 -> 2117000 | H79: =G79/C79*100 -> #VALUE! | I79: =F79-G79 -> -2117000 | J79: =I79/E79*100 -> -100
B80: 201.2010101.01.019.5.2.2.06 | C80: Belanja Cetak dan Penggandaan | E80: 2366000 | F80: =D80-E80 -> -2366000 | G80: =E80-F80 -> 4732000 | H80: =G80/C80*100 -> #VALUE! | I80: =F80-G80 -> -7098000 | J80: =I80/E80*100 -> -300
B81: 201.2010101.01.019.5.2.2.06.02 | C81: Belanja Penggandaan | D81: 2366000 | E81: 2366000 | F81: =D81-E81 -> 0 | G81: =E81-F81 -> 2366000 | H81: =G81/C81*100 -> #VALUE! | I81: =F81-G81 -> -2366000 | J81: =I81/E81*100 -> -100
B82: 201.2010101.01.019.5.2.2.11 | C82: Belanja Makanan dan Minuman | E82: 24750000 | F82: =D82-E82 -> -24750000 | G82: =E82-F82 -> 49500000 | H82: =G82/C82*100 -> #VALUE! | I82: =F82-G82 -> -74250000 | J82: =I82/E82*100 -> -300
B83: 201.2010101.01.019.5.2.2.11.02 | C83: Belanja makanan dan minuman rapat | D83: 24750000 | E83: 24750000 | F83: =D83-E83 -> 0 | G83: =E83-F83 -> 24750000 | H83: =G83/C83*100 -> #VALUE! | I83: =F83-G83 -> -24750000 | J83: =I83/E83*100 -> -100
B84: 201.2010101.01.019.5.2.2.15 | C84: Belanja Perjalanan Dinas | E84: 40210000 | F84: =D84-E84 -> -40210000 | G84: =E84-F84 -> 80420000 | H84: =G84/C84*100 -> #VALUE! | I84: =F84-G84 -> -120630000 | J84: =I84/E84*100 -> -300
B85: 201.2010101.01.019.5.2.2.15.01 | C85: Belanja perjalanan dinas dalam daerah | D85: 40210000 | E85: 40210000 | F85: =D85-E85 -> 0 | G85: =E85-F85 -> 40210000 | H85: =G85/C85*100 -> #VALUE! | I85: =F85-G85 -> -40210000 | J85: =I85/E85*100 -> -100
A86: II | B86: 201.2010101.02 | C86: Program Peningkatan Sarana dan Prasarana Aparatur | D86: =D87+D99+D108+D113 -> 1010624000 | E86: =E87+E99+E108+E113 -> 720856000 | F86: =D86-E86 -> 289768000 | G86: =G87+G99+G108+G113 -> 362959200 | H86: =G86/E86*100 -> 50.351138 | I86: =I87+I99+I108+I113 -> 357896800 | J86: =I86/E86*100 -> 49.648862
A87: 6 | B87: 201.2010101.02.022 | C87: Pemeliharaan rutin/berkala gedung kantor | D87: =SUM(D91:D98) -> 161880000 | E87: ='rekap REALISASI REKO '!AB88 -> 166200000 | F87: =D87-E87 -> -4320000 | G87: ='rekap REALISASI REKO '!AQ88 -> 140056450 | H87: =G87/E87*100 -> 84.269826 | I87: =E87-G87 -> 26143550 | J87: =I87/E87*100 -> 15.730174
B89: 201.2010101.02.022.5.2.2 | C89: BELANJA BARANG DAN JASA | E89: 161880000 | F89: =D89-E89 -> -161880000 | G89: =E89-F89 -> 323760000 | H89: =G89/C89*100 -> #VALUE! | I89: =F89-G89 -> -485640000 | J89: =I89/E89*100 -> -300
B90: 201.2010101.02.022.5.2.2.01 | C90: Belanja Bahan Pakai Habis | E90: 18008000 | F90: =D90-E90 -> -18008000 | G90: =E90-F90 -> 36016000 | H90: =G90/C90*100 -> #VALUE! | I90: =F90-G90 -> -54024000 | J90: =I90/E90*100 -> -300
B91: 201.2010101.02.022.5.2.2.01.03 | C91: Belanja alat listrik dan elektronik ( lampu pijar, battery kering) | D91: 5480000 | E91: 5480000 | F91: =D91-E91 -> 0 | G91: =E91-F91 -> 5480000 | H91: =G91/C91*100 -> #VALUE! | I91: =F91-G91 -> -5480000 | J91: =I91/E91*100 -> -100
B92: 201.2010101.02.022.5.2.2.01.05 | C92: Belanja peralatan kebersihan dan bahan pembersih | D92: 12528000 | E92: 12528000 | F92: =D92-E92 -> 0 | G92: =E92-F92 -> 12528000 | H92: =G92/C92*100 -> #VALUE! | I92: =F92-G92 -> -12528000 | J92: =I92/E92*100 -> -100
B93: 201.2010101.02.022.5.2.2.03 | C93: Belanja Jasa Kantor | E93: 133000000 | F93: =D93-E93 -> -133000000 | G93: =E93-F93 -> 266000000 | H93: =G93/C93*100 -> #VALUE! | I93: =F93-G93 -> -399000000 | J93: =I93/E93*100 -> -300
B94: 201.2010101.02.022.5.2.2.03.14 | C94: Belanja Jasa Tenaga Kerja Non Pegawai | D94: 133000000 | E94: 133000000 | F94: =D94-E94 -> 0 | G94: =E94-F94 -> 133000000 | H94: =G94/C94*100 -> #VALUE! | I94: =F94-G94 -> -133000000 | J94: =I94/E94*100 -> -100
B95: 201.2010101.02.022.5.2.2.05 | C95: Belanja Perawatan Kendaraan Bermotor | E95: 9792000 | F95: =D95-E95 -> -9792000 | G95: =E95-F95 -> 19584000 | H95: =G95/C95*100 -> #VALUE! | I95: =F95-G95 -> -29376000 | J95: =I95/E95*100 -> -300
B96: 201.2010101.02.022.5.2.2.05.03 | C96: Belanja Bahan Bakar Minyak/Gas | D96: 9792000 | E96: 9792000 | F96: =D96-E96 -> 0 | G96: =E96-F96 -> 9792000 | H96: =G96/C96*100 -> #VALUE! | I96: =F96-G96 -> -9792000 | J96: =I96/E96*100 -> -100
B97: 201.2010101.02.022.5.2.2.25 | C97: Belanja Pajak / Retribusi | E97: 1080000 | F97: =D97-E97 -> -1080000 | G97: =E97-F97 -> 2160000 | H97: =G97/C97*100 -> #VALUE! | I97: =F97-G97 -> -3240000 | J97: =I97/E97*100 -> -300
B98: 201.2010101.02.022.5.2.2.25.03 | C98: Belanja Jasa Retribusi Kebersihan Kantor | D98: 1080000 | E98: 1080000 | F98: =D98-E98 -> 0 | G98: =E98-F98 -> 1080000 | H98: =G98/C98*100 -> #VALUE! | I98: =F98-G98 -> -1080000 | J98: =I98/E98*100 -> -100
A99: 7 | B99: 201.2010101.02.024 | C99: Pemeliharaan rutin/berkala kendaraan dinas/operasional | D99: 344845000 | E99: ='rekap REALISASI REKO '!AB102 -> 312656000 | F99: =D99-E99 -> 32189000 | G99: ='rekap REALISASI REKO '!AQ102 -> 165332750 | H99: =G99/E99*100 -> 52.880082 | I99: =E99-G99 -> 147323250 | J99: =I99/E99*100 -> 47.119918
B101: 201.2010101.02.024.5.2.2 | C101: BELANJA BARANG DAN JASA | E101: 344845000 | F101: =D101-E101 -> -344845000 | G101: =E101-F101 -> 689690000 | H101: =G101/C101*100 -> #VALUE! | I101: =F101-G101 -> -1034535000 | J101: =I101/E101*100 -> -300
B102: 201.2010101.02.024.5.2.2.05 | C102: Belanja Perawatan Kendaraan Bermotor | E102: 344845000 | F102: =D102-E102 -> -344845000 | G102: =E102-F102 -> 689690000 | H102: =G102/C102*100 -> #VALUE! | I102: =F102-G102 -> -1034535000 | J102: =I102/E102*100 -> -300
B103: 201.2010101.02.024.5.2.2.05.01 | C103: Belanja Jasa Service dan Pelumas | D103: 61860000 | E103: 61860000 | F103: =D103-E103 -> 0 | G103: =E103-F103 -> 61860000 | H103: =G103/C103*100 -> #VALUE! | I103: =F103-G103 -> -61860000 | J103: =I103/E103*100 -> -100
B104: 201.2010101.02.024.5.2.2.05.02 | C104: Belanja Penggantian Suku Cadang | D104: 48737000 | E104: 48737000 | F104: =D104-E104 -> 0 | G104: =E104-F104 -> 48737000 | H104: =G104/C104*100 -> #VALUE! | I104: =F104-G104 -> -48737000 | J104: =I104/E104*100 -> -100
B105: 201.2010101.02.024.5.2.2.05.03 | C105: Belanja Bahan Bakar Minyak/Gas | D105: 220292000 | E105: 220292000 | F105: =D105-E105 -> 0 | G105: =E105-F105 -> 220292000 | H105: =G105/C105*100 -> #VALUE! | I105: =F105-G105 -> -220292000 | J105: =I105/E105*100 -> -100
B106: 201.2010101.02.024.5.2.2.05.04 | C106: Belanja Jasa KIR | D106: 1903000 | E106: 1903000 | F106: =D106-E106 -> 0 | G106: =E106-F106 -> 1903000 | H106: =G106/C106*100 -> #VALUE! | I106: =F106-G106 -> -1903000 | J106: =I106/E106*100 -> -100
B107: 201.2010101.02.024.5.2.2.05.05 | C107: Belanja Surat Tanda Nomor Kendaraan | D107: 12053000 | E107: 12053000 | F107: =D107-E107 -> 0 | G107: =E107-F107 -> 12053000 | H107: =G107/C107*100 -> #VALUE! | I107: =F107-G107 -> -12053000 | J107: =I107/E107*100 -> -100
A108: 8 | B108: 201.2010101.02.028 | C108: Pemeliharaan rutin/berkala peralatan gedung kantor | D108: =SUM(D111:D112) -> 43002000 | E108: ='rekap REALISASI REKO '!AB114 -> 42000000 | F108: =D108-E108 -> 1002000 | G108: ='rekap REALISASI REKO '!AQ114 -> 42000000 | H108: =G108/E108*100 -> 100 | I108: =E108-G108 -> 0 | J108: =I108/E108*100 -> 0
B110: 201.2010101.02.028.5.2.2 | C110: BELANJA BARANG DAN JASA | E110: 43002000 | F110: =D110-E110 -> -43002000 | G110: =E110-F110 -> 86004000 | H110: =G110/C110*100 -> #VALUE! | I110: =F110-G110 -> -129006000 | J110: =I110/E110*100 -> -300
B111: 201.2010101.02.028.5.2.2.20 | C111: Belanja Pemeliharaan | E111: 43002000 | F111: =D111-E111 -> -43002000 | G111: =E111-F111 -> 86004000 | H111: =G111/C111*100 -> #VALUE! | I111: =F111-G111 -> -129006000 | J111: =I111/E111*100 -> -300
B112: 201.2010101.02.028.5.2.2.20.08 | C112: Belanja Pemeliharaan Alat-alat Kantor | D112: 43002000 | E112: 43002000 | F112: =D112-E112 -> 0 | G112: =E112-F112 -> 43002000 | H112: =G112/C112*100 -> #VALUE! | I112: =F112-G112 -> -43002000 | J112: =I112/E112*100 -> -100
...

Sheet penetapan 2019
A2: PERHITUNGAN APBD PENETAPAN 2019
A4: 1 | B4: Pendapatan Asli Daerah ( PAD ) Tahun Anggaran 2019
C5: pagu Tahun 2018 | D5: 170500000
C6: Rencana Tahun 2019 | D6: 33000000
C7: Pengurangan | D7: =D6-D5 -> -137500000
B8: Berkurang karena Untuk IMTA di Tahun 2019 di tiadakan, di tahun 2018 sebesar Rp. 137.500.000,-
B9: Realisasi sampai Buan Nopember baru ada 3 TKA yang perpanjangan / (IMTA) rencana 9 TKA
B10: Regulasi Baru : PERPRES NO 20 Th 2018 Tentang Penggunaan Tenaga Kerja Asing
A11: 2 | B11: Adapun untuk belanja tidak langsung atau Gaji PNS berdasarkan Gaji bulan Nopember
B12: 2018 Terdiri dari 176 Jiwa Dengan rincian :
B13: Jumlah Pegawai
C14: pegawai | D14: 66 | E14: Pegawai
C15: Jumlah Isteri/suami | D15: 49 | E15: Jiwa
C16: Jumlah anak | D16: 61 | E16: Jiwa
C17: Jumlah keseluruhan | D17: =SUM(D13:D16) -> 176 | E17: Jiwa
B18: Pagu Belanja Tidak langsung | D18: Tahun 2019 | E18: Tahun 2018 | F18: Penambahan/( - )
B19: (Gaji PNS & Tunjangan) | D19: 6341834000 | E19: 6048349000 | F19: =D19-E19 -> 293485000
A21: 3 | B21: Untuk belanja langsung yang terdiri dari : | D21: Tahun 2019 | E21: Tahun 2018 | F21: Penambahan/( - )
D22: 12 Program | E22: 12 Program | F22: 0
D23: 37 Kegiatan | E23: 38 Kegiatan | F23: -1
C24: Pagu Anggaran | D24: 5321184000 | E24: 5229995000 | F24: =D24-E24 -> 91189000
A25: Keterangan Jumlah Anggaran keseluruhan
B26: Belanja Tidak Langsung dan Langsung Dinas Perindustrian dan Tenaga Kerja | D26: Tahun 2019 | E26: Tahun 2018 | F26: Penambahan/( - )
B27: JUMLAH KESELURUHAN | D27: =D24+D19 -> 11663018000 | E27: =E24+E19 -> 11278344000 | F27: =D27-E27 -> 384674000
B29: KETERANGAN ADA PENAMBAHAN 3 KEGIATAN DAN PENGURANGAN 4 KEGIATAN
B30: Di Tahun 2019 ada kegiatan baru
A31: 1 | B31: Lembaga Kerjasama Tripartite
A32: 2 | B32: Sosialisasi dan Monitoring Pelaksanaan UMK
A33: 3 | B33: Penyusunan Renstra SKPD
B35: Kegiatan Ditahun 2018 ada dan di Tahun 2019 Tidak Ada
A36: 1 | B36: Pemeliharaan rutin / berkala perlengkapan gedung kantor
A37: 2 | B37: Pendidikan dan pelatihan keterampilan bagi pencari kerja ( DBHCHT )
A38: 3 | B38: Penyelesaian PHI dan PHK
A39: 4 | B39: Updating Data Peindustrian dan Ketenagakerjaan

Sheet REALISASI REKO
D3: PEMERINTAH KABUPATEN MAGELANG
D4: PERHITUNGAN SERAPAN TAHUN 2018 PERUBAHAN
D5: S/D TRI WULAN IV
A8: NO | B8: KD. REKENING | F8: URAIAN | L8: ANGGARAN TAHUN INI | M8: TRIWULAN I | N8: YANG LALU | O8: BULAN INI | P8: JUMLAH REALISASI | Q8: SISA | T8: TRIWULAN II | AA8: TRIWULAN III | AB8: ANGGARAN PERUBAHAN | AC8: SELISIH | AD8: TRIWULAN IV | AE8: JUMLAH | AG8: REALISASI | AK8: REALISASI S/D OKTOBER | AL8: SISA OKTOBER | AM8: NOPEMBER | AN8: DESEMBER | AO8: SISA | AP8: % SILPA | AQ8: RENC RAELISASI 1 TAHUN | AR8: %REALISSI | AT8: TRIWULAN III
AZ9: =L9-AM9-AO9 -> 0
C10: 4.1 | L10: =L12+L13 -> 170500000 | M10: =M12+M13 -> 49086250 | N10: =N12+N13 -> 0 | O10: =O12+O13 -> 0 | P10: =P12+P13 -> 0 | Q10: =Q12+Q13 -> 0 | R10: =R12+R13 -> 0 | S10: =S12+S13 -> 0 | ... AB10: =AB12+AB13 -> 170500000 | AC10: =L10-AB10 -> 0 | AD10: =AD12+AD13 -> 24927800 | AE10: =AE12+AE13 -> 341000000 | AT10: 47279650 | AZ10: =L10-AM10-AO10 -> 170500000
C11: 4.1.00.00.2 | F11: Hasil Retribusi Daerah | L11: 170500000 | M11: 49086250 | T11: 49206300 | AA11: 47279650 | AB11: 170500000 | AC11: =L11-AB11 -> 0 | AD11: 47279650 | AE11: =SUM(M11:AD11) -> 363351850 | AT11: 47279650 | AZ11: =L11-AM11-AO11 -> 170500000
C12: 4.1.00.00.2.02.01 | H12: Retribusi Pemakaian Kekayaan Daerah | L12: 33000000 | M12: 9500000 | T12: 9523800 | AA12: 9150900 | AB12: 33000000 | AC12: =L12-AB12 -> 0 | AD12: 4825300 | AE12: =SUM(M12:AD12) -> 66000000 | AT12: 9150900 | AZ12: =L12-AM12-AO12 -> 33000000
C13: 4.1.00.00.2.03.12 | H13: Pemberian Perpanjangan IMTA kepada Pemberi Kerja Tenaga Kerja Asing - LRA | L13: 137500000 | M13: 39586250 | T13: 39682500 | AA13: 38128750 | AB13: 137500000 | AC13: =L13-AB13 -> 0 | AD13: 20102500 | AE13: =SUM(M13:AD13) -> 275000000 | AS13: =AL13/L15*100 -> 0 | AT13: 38128750 | AZ13: =L13-AM13-AO13 -> 137500000
AZ14: =L14-AM14-AO14 -> 0
A15: A | C15: 5.1.00.00.1 | F15: BELANJA PEGAWAI | L15: =L16+L27+L29 -> 6232337000 | M15: =M16+M27+M29 -> 1426763108 | N15: =N16+N27+N29 -> 0 | O15: =O16+O27+O29 -> 0 | P15: =P16+P27+P29 -> 0 | Q15: =Q16+Q27+Q29 -> 0 | R15: =R16+R27+R29 -> 0 | S15: =S16+S27+S29 -> 0 | ... AB15: =AB16+AB27+AB29 -> 6048349000 | AC15: =AB15-L15 -> -183988000 | AD15: =AD16+AD27+AD29 -> 1429688108 | AE15: =AE16+AE27+AE29 -> 0 | AG15: =AG16+AG27+AG29 -> 4389737764 | AK15: =AK16+AK28 -> 4772820928 | AL15: =AB15-AK15 -> 1275528072 | AM15: =AM16+AM28 -> 383083164 | AN15: =AN16+AN28 -> 444161514 | AO15: =AB15-AK15-AM15-AN15 -> 448283394 | AP15: =AO15/AB15*100 -> 7.4116655 | AQ15: =AK15+AM15+AN15 -> 5600065606 | AR15: =AQ15/AB15*100 -> 92.588335 | AZ15: =L15-AM15-AO15 -> 5400970442
C16: 5.1.00.00.1.01 | G16: Gaji dan Tunjangan | L16: =SUM(L17:L26) -> 5227012000 | M16: =SUM(M17:M26) -> 1194993108 | N16: =SUM(N17:N26) -> 0 | O16: =SUM(O17:O26) -> 0 | P16: =SUM(P17:P26) -> 0 | Q16: =SUM(Q17:Q26) -> 0 | R16: =SUM(R17:R26) -> 0 | S16: =SUM(S17:S26) -> 0 | ... AB16: =SUM(AB17:AB26) -> 5124904000 | AC16: =AB16-L16 -> -102108000 | AD16: =SUM(AD17:AD26) -> 1194993108 | AE16: =SUM(AE17:AE26) -> 0 | AG16: =SUM(AG17:AG26) -> 3762227664 | AK16: =SUM(AK17:AK26) -> 4084232478 | AL16: =AB16-AK16 -> 1040671522 | AM16: =SUM(AM17:AM26) -> 322004814 | AN16: =SUM(AN17:AN26) -> 322004814 | AO16: =AB16-AK16-AM16-AN16 -> 396661894 | AP16: =AO16/AB16*100 -> 7.7398893 | AQ16: =AK16+AM16+AN16 -> 4728242106 | AR16: =AQ16/AB16*100 -> 92.260111 | AZ16: =L16-AM16-AO16 -> 4508345292
C17: 5.1.00.00.1.01.01 | H17: Gaji Pokok PNS/Uang Representasi | L17: 4034142000 | M17: 917303358 | T17: 1528838930 | AA17: 917303358 | AB17: 3972577000 | AC17: =AB17-L17 -> -61565000 | AD17: 917303358 | AG17: 2932577088 | AK17: 3181028288 | AL17: =AB17-AK17 -> 791548712 | AM17: 248451200 | AN17: 248451200 | AO17: =AB17-AK17-AM17-AN17 -> 294646312 | AP17: =AO17/AB17*100 -> 7.4170069 | AQ17: =AK17+AM17+AN17 -> 3677930688 | AR17: =AQ17/AB17*100 -> 92.582993 | AZ17: =L17-AM17-AO17 -> 3491044488
C18: 5.1.00.00.1.01.02 | H18: Tunjangan Keluarga | L18: 394486000 | M18: 90090000 | T18: 120121000 | AA18: 90090000 | AB18: 371231000 | AC18: =AB18-L18 -> -23255000 | AD18: 90090000 | AG18: 281568622 | AK18: 305077428 | AL18: =AB18-AK18 -> 66153572 | AM18: 23508806 | AN18: 23508806 | AO18: =AB18-AK18-AM18-AN18 -> 19135960 | AP18: =AO18/AB18*100 -> 5.1547312 | AQ18: =AK18+AM18+AN18 -> 352095040 | AR18: =AQ18/AB18*100 -> 94.845269 | AZ18: =L18-AM18-AO18 -> 351841234
C19: 5.1.00.00.1.01.03 | H19: Tunjangan Jabatan 1) | L19: 160790000 | M19: 38865000 | T19: 51820000 | AA19: 38865000 | AB19: 148050000 | AC19: =AB19-L19 -> -12740000 | AD19: 38865000 | AG19: 111505000 | AK19: 120840000 | AL19: =AB19-AK19 -> 27210000 | AM19: 9335000 | AN19: 9335000 | AO19: =AB19-AK19-AM19-AN19 -> 8540000 | AP19: =AO19/AB19*100 -> 5.7683215 | AQ19: =AK19+AM19+AN19 -> 139510000 | AR19: =AQ19/AB19*100 -> 94.231678 | AZ19: =L19-AM19-AO19 -> 142915000
C20: 5.1.00.00.1.01.04 | H20: Tunjangan Fungsional | L20: 225190000 | M20: 45600000 | T20: 60800000 | AA20: 45600000 | AB20: 225190000 | AC20: =AB20-L20 -> 0 | AD20: 45600000 | AG20: 167530000 | AK20: 182315000 | AL20: =AB20-AK20 -> 42875000 | AM20: 14785000 | AN20: 14785000 | AO20: =AB20-AK20-AM20-AN20 -> 13305000 | AP20: =AO20/AB20*100 -> 5.9083441 | AQ20: =AK20+AM20+AN20 -> 211885000 | AR20: =AQ20/AB20*100 -> 94.091656 | AZ20: =L20-AM20-AO20 -> 197100000
C21: 5.1.00.00.1.01.05 | H21: Tunjangan Fungsional Umum | L21: 54581000 | M21: 15867000 | T21: 21156000 | AA21: 15867000 | AB21: 46733000 | AC21: =AB21-L21 -> -7848000 | AD21: 15867000 | AG21: 36510000 | AK21: 39445000 | AL21: =AB21-AK21 -> 7288000 | AM21: 2935000 | AN21: 2935000 | AO21: =AB21-AK21-AM21-AN21 -> 1418000 | AP21: =AO21/AB21*100 -> 3.0342584 | AQ21: =AK21+AM21+AN21 -> 45315000 | AR21: =AQ21/AB21*100 -> 96.965742 | AZ21: =L21-AM21-AO21 -> 50228000
C22: 5.1.00.00.1.01.06 | H22: Tunjangan Beras 2) | L22: 195734000 | M22: 49660251 | T22: 49660251 | AA22: 49660251 | AB22: 186079000 | AC22: =AB22-L22 -> -9655000 | AD22: 49660251 | AG22: 125865960 | AK22: 138901560 | AL22: =AB22-AK22 -> 47177440 | AM22: 13035600 | AN22: 13035600 | AO22: =AB22-AK22-AM22-AN22 -> 21106240 | AP22: =AO22/AB22*100 -> 11.342623 | AQ22: =AK22+AM22+AN22 -> 164972760 | AR22: =AQ22/AB22*100 -> 88.657377 | AZ22: =L22-AM22-AO22 -> 161592160
C23: 5.1.00.00.1.01.07 | H23: Tunjangan PPh/Tunjangan Khusus | L23: 19897000 | M23: 1537500 | T23: 2562500 | AA23: 1537500 | AB23: 19065000 | AC23: =AB23-L23 -> -832000 | AD23: 1537500 | AG23: 14879584 | AK23: 15329751 | AL23: =AB23-AK23 -> 3735249 | AM23: 450167 | AN23: 450167 | AO23: =AB23-AK23-AM23-AN23 -> 2834915 | AP23: =AO23/AB23*100 -> 14.869735 | AQ23: =AK23+AM23+AN23 -> 16230085 | AR23: =AQ23/AB23*100 -> 85.130265 | AZ23: =L23-AM23-AO23 -> 16611918
C24: 5.1.00.00.1.01.08 | H24: Pembulatan Gaji | L24: 70000 | M24: 15000 | T24: 25000 | AA24: 15000 | AB24: 70000 | AC24: =AB24-L24 -> 0 | AD24: 15000 | AG24: 39861 | AK24: 43458 | AL24: =AB24-AK24 -> 26542 | AM24: 3597 | AN24: 3597 | AO24: =AB24-AK24-AM24-AN24 -> 19348 | AP24: =AO24/AB24*100 -> 27.64 | AQ24: =AK24+AM24+AN24 -> 50652 | AR24: =AQ24/AB24*100 -> 72.36 | AZ24: =L24-AM24-AO24 -> 47055
C25: 5.1.00.00.1.01.21 | H25: Tunjangan BPJS Kesehatan | L25: 122097000 | M25: 30977499 | T25: 30977499 | AA25: 30977499 | AB25: 113080000 | AC25: =AB25-L25 -> -9017000 | AD25: 30977499 | AG25: 78807875 | AK25: 86966675 | AL25: =AB25-AK25 -> 26113325 | AM25: 8158800 | AN25: 8158800 | AO25: =AB25-AK25-AM25-AN25 -> 9795725 | AP25: =AO25/AB25*100 -> 8.6626503 | AQ25: =AK25+AM25+AN25 -> 103284275 | AR25: =AQ25/AB25*100 -> 91.33735 | AZ25: =L25-AM25-AO25 -> 104142475
C26: 5.1.00.00.1.01.22 | H26: Iuran Jaminan Kecelakaan Kerja dan Jaminan Kematian ( JKK JK) | L26: 20025000 | M26: 5077500 | T26: 5077500 | AA26: 5077500 | AB26: 42829000 | AC26: =AB26-L26 -> 22804000 | AD26: 5077500 | AG26: 12943674 | AK26: 14285318 | AL26: =AB26-AK26 -> 28543682 | AM26: 1341644 | AN26: 1341644 | AO26: =AB26-AK26-AM26-AN26 -> 25860394 | AP26: =AO26/AB26*100 -> 60.380569 | AQ26: =AK26+AM26+AN26 -> 16968606 | AR26: =AQ26/AB26*100 -> 39.619431 | AZ26: =L26-AM26-AO26 -> -7177038
C27: 5.1.00.00.1.02 | G27: Tambahan Penghasilan PNS | L27: 996800000 | M27: 230370000 | T27: 230370000 | AA27: 230370000 | AB27: 914920000 | AC27: =AB27-L27 -> -81880000 | AD27: 230370000 | AG27: 627510100 | AK27: =AK28 -> 688588450 | AL27: =AB27-AK27 -> 226331550 | AM27: =AM28 -> 61078350 | AN27: =AN28 -> 122156700 | AO27: =AB27-AK27-AM27-AN27 -> 43096500 | AP27: =AO27/AB27*100 -> 4.7104118 | AQ27: =AK27+AM27+AN27 -> 871823500 | AR27: =AQ27/AB27*100 -> 95.289588 | AZ27: =L27-AM27-AO27 -> 892625150
C28: 5.1.00.00.1.02.01 | H28: Tambahan Penghasilan berdasarkan beban kerja | L28: 996800000 | M28: 230370000 | T28: 230370000 | AA28: 230370000 | AB28: 914920000 | AC28: =AB28-L28 -> -81880000 | AD28: 230370000 | AG28: 627510100 | AK28: 688588450 | AL28: =AB28-AK28 -> 226331550 | AM28: 61078350 | AN28: =61078350*2 -> 122156700 | AO28: =AB28-AK28-AM28-AN28 -> 43096500 | AP28: =AO28/AB28*100 -> 4.7104118 | AQ28: =AK28+AM28+AN28 -> 871823500 | AR28: =AQ28/AB28*100 -> 95.289588 | AZ28: =L28-AM28-AO28 -> 892625150
C29: 5.1.00.00.1.06 | G29: Insentif Pemungutan Retribusi Daerah | L29: 8525000 | M29: 1400000 | T29: 1400000 | AA29: 4325000 | AB29: 8525000 | AC29: =AB29-L29 -> 0 | AD29: 4325000 | AG29: 0 | AK29: 0 | AL29: =AB29-AK29 -> 8525000 | AM29: 0 | AN29: 0 | AO29: =AB29-AK29-AM29-AN29 -> 8525000 | AP29: =AO29/AB29*100 -> 100 | AQ29: =AK29+AM29+AN29 -> 0 | AR29: =AQ29/AB29*100 -> 0 | AZ29: =L29-AM29-AO29 -> 0
C30: 5.1.00.00.1.06.01 | H30: Insentif Pemungutan Retribusi Daerah. | L30: 8525000 | M30: 1400000 | T30: 1400000 | Z30: =322575000-Z351 -> 4809025 | AA30: 4325000 | AB30: 8525000 | AC30: =AB30-L30 -> 0 | AD30: 4325000 | AG30: 0 | AK30: 0 | AL30: =AB30-AK30 -> 8525000 | AM30: 0 | AN30: 0 | AO30: =AB30-AK30-AM30-AN30 -> 8525000 | AP30: =AO30/AB30*100 -> 100 | AQ30: =AK30+AM30+AN30 -> 0 | AR30: =AQ30/AB30*100 -> 0 | AZ30: =L30-AM30-AO30 -> 0
AG31: =AG33 -> 284145622 | AZ31: =L31-AM31-AO31 -> 0
A32: NOMOR | C32: REKENING | H32: URAIAN | L32: PAGU ANGGARAN | M32: TRIWULAN I | N32: GU I | O32: RENC II | P32: TU | Q32: JUMLAH | R32: Serapan % | S32: SISA TRI I | T32: ANNGARAN TRI II | U32: JUMLAH ANGGRN SEMUA S/D TRI II | V32: JUMLAH ANGGARAN SISA S/D TRI II | W32: GU II | X32: LS | Y32: TU I spj | Z32: TU II | AA32: TRIWULAN III | AB32: PAGU ANGGARAN PERUBAHAN | AC32: Tambah / ( kurang) | AD32: JUMLAH ANGGARAN S/D TRI III | AE32: LS TRI II | AF32: LS TRI III | AG32: GU III AGUSTUS | AH32: TU AGUSTUS | AI32: TU SEPTEMBER | AJ32: GU IV september | AK32: JUMLAH REALISASI S/D TRI III | AL32: Serapan % | AM32: LS TRI IV | AN32: TU OKTOBER | AO32: GU V | AP32: TU II | AQ32: JUMLAH REALISASI | AR32: Serapan % | AS32: SISA BELUM DIREALISASI | AT32: TRIWULAN III | AU32: JUMLAH ANGGR S/D TRI III | AV32: JMLH REALISASI | AW32: % Serapan | AX32: SISA ANGGARAN | AY32: % | AZ32: =L32-AM32-AO32 -> #VALUE!
A33: B | C33: 5.2 | L33: =L34+L87+L122+L136+L154+L192+L270+L290+L416+L443+L548+L635 -> 5320434000 | M33: =M34+M87+M122+M136+M154+M192+M270+M290+M416+M443+M548+M635 -> 811748150 | N33: =N34+N87+N122+N136+N154+N192+N270+N290+N416+N443+N548+N635 -> 279597741 | O33: =O34+O87+O122+O136+O154+O192+O270+O290+O416+O443+O548+O635 -> 0 | P33: =P34+P87+P122+P136+P154+P192+P270+P290+P416+P443+P548+P635 -> 0 | Q33: =SUM(N33:P33) -> 279597741 | R33: =Q33/M33*100 -> 34.443902 | S33: =M33-Q33 -> 532150409 | T33: =T34+T87+T122+T136+T154+T192+T270+T290+T416+T443+T548+T635 -> 1555015250 | U33: =T33+M33 -> 2366763400 | V33: =S33+T33 -> 2087165659 | W33: =W34+W87+W122+W136+W154+W192+W270+W290+W416+W443+W548+W635 -> 314563491 | X33: =X34+X87+X122+X136+X154+X192+X270+X290+X416+X443+X548+X635 -> 242114180 | Y33: =Y34+Y87+Y122+Y136+Y154+Y192+Y270+Y290+Y416+Y443+Y548+Y635 -> 141408250 | Z33: =Z34+Z87+Z122+Z136+Z154+Z192+Z270+Z290+Z416+Z443+Z548+Z635 -> 475953975 | AA33: =AA34+AA87+AA122+AA136+AA154+AA192+AA270+AA290+AA416+AA443+AA548+AA635 -> 1821270600 | AB33: =AB34+AB87+AB122+AB136+AB154+AB192+AB270+AB290+AB416+AB443+AB548+AB635 -> 5229995000 | AC33: =L33-AB33 -> 90439000 | AD33: =M33+T33+AA33 -> 4188034000 | AE33: =AE34+AE87+AE122+AE136+AE154+AE192+AE270+AE290+AE416+AE443+AE548+AE635 -> 199628400 | AF33: =AF34+AF87+AF122+AF136+AF154+AF192+AF270+AF290+AF416+AF443+AF548+AF635 -> 265923400 | AG33: =AG34+AG87+AG122+AG136+AG154+AG192+AG270+AG290+AG416+AG443+AG548+AG635 -> 284145622 | AH33: =AH34+AH87+AH122+AH136+AH154+AH192+AH270+AH290+AH416+AH443+AH548+AH635 -> 388838175 | AI33: =AI34+AI87+AI122+AI136+AI154+AI192+AI270+AI290+AI416+AI443+AI548+AI635 -> 0 | AJ33: =AJ34+AJ87+AJ122+AJ136+AJ154+AJ192+AJ270+AJ290+AJ416+AJ443+AJ548+AJ635 -> 320151262 | AK33: =AK34+AK87+AK122+AK136+AK154+AK192+AK270+AK290+AK416+AK443+AK548+AK635 -> 2910950496 | AL33: =AK33/AB33*100 -> 55.658763 | AM33: =AM34+AM87+AM122+AM136+AM154+AM192+AM270+AM290+AM416+AM443+AM548+AM635 -> 757631400 | AN33: =AN34+AN87+AN122+AN136+AN154+AN192+AN270+AN290+AN416+AN443+AN548+AN635 -> 195851725 | AO33: =AO34+AO87+AO122+AO136+AO154+AO192+AO270+AO290+AO416+AO443+AO548+AO635 -> 239689962 | AP33: =AP34+AP87+AP122+AP136+AP154+AP192+AP270+AP290+AP416+AP443+AP548+AP635 -> 336272900 | AQ33: =AK33+AM33+AN33+AO33+AP33 -> 4440396483 | AR33: =AQ33/AB33*100 -> 84.9025 | AS33: =AB33-AQ33 -> 789598517 | AT33: =AT34+AT87+AT122+AT136+AT154+AT192+AT270+AT290+AT416+AT443+AT548+AT635 -> 1449210000 | AU33: =AT33+U33 -> 3815973400 | AV33: =AK33 -> 2910950496 | AW33: =AV33/AU33*100 -> 76.283302 | AX33: =AU33-AV33 -> 905022904 | AY33: =AS33/AB33*100 -> 15.0975 | AZ33: =L33-AM33-AO33 -> 4323112638
A34: I | C34: 5.2.01 | F34: Program Pelayanan Administrasi Perkantoran | L34: =L35+L45+L53+L69+L77 -> 410000000 | M34: =M35+M45+M53+M69+M77 -> 107725000 | N34: =N35+N45+N53+N69+N77 -> 62203336 | O34: =O35+O45+O53+O69+O77 -> 0 | P34: =P35+P45+P53+P69+P77 -> 0 | Q34: =SUM(N34:P34) -> 62203336 | R34: =Q34/M34*100 -> 57.742712 | S34: =M34-Q34 -> 45521664 | T34: =T35+T45+T53+T69+T77 -> 113114500 | U34: =T34+M34 -> 220839500 | V34: =T34+S34 -> 158636164 | W34: =W35+W45+W53+W69+W77 -> 52002991 | X34: =X35+X45+X53+X69+X77 -> 43427980 | Y34: =Y35+Y45+Y53+Y69+Y77 -> 0 | Z34: =Z35+Z45+Z53+Z69+Z77 -> 0 | AA34: 120767500 | AB34: =AB35+AB45+AB53+AB69+AB77 -> 403500000 | AC34: =AB34-L34 -> -6500000 | AD34: =AA34+T34+M34 -> 341607000 | AE34: =AE35+AE45+AE53+AE69+AE77 -> 9842400 | AF34: =AF35+AF45+AF53+AF69+AF77 -> 0 | AG34: =AG35+AG45+AG53+AG69+AG77 -> 59899897 | AH34: =AH35+AH45+AH53+AH69+AH77 -> 0 | AI34: =AI35+AI45+AI53+AI69+AI77 -> 0 | AJ34: =AJ35+AJ45+AJ53+AJ69+AJ77 -> 41523827 | AK34: =AK35+AK45+AK53+AK69+AK77 -> 268900431 | AL34: =AK34/AB34*100 -> 66.64199 | AM34: =AM35+AM45+AM53+AM69+AM77 -> 0 | AN34: =AN35+AN45+AN53+AN69+AN77 -> 0 | AO34: =AO35+AO45+AO53+AO69+AO77 -> 60439462 | AP34: =AP35+AP45+AP53+AP69+AP77 -> 0 | AQ34: =AK34+AM34+AN34+AO34+AP34 -> 329339893 | AR34: =AQ34/AB34*100 -> 81.620791 | AS34: =AB34-AQ34 -> 74160107 | AT34: 120767500 | AU34: =AT34+U34 -> 341607000 | AV34: =AK34 -> 268900431 | AW34: =AV34/AU34*100 -> 78.716312 | AX34: =AU34-AV34 -> 72706569 | AY34: =AS34/AB34*100 -> 18.379209 | AZ34: =L34-AM34-AO34 -> 349560538
A35: 1 | C35: 5.2.01.01 | G35: Penyediaan jasa surat menyurat | L35: =SUM(L38:L44) -> 40000000 | M35: =SUM(M38:M44) -> 20558000 | N35: =SUM(N38:N44) -> 7140925 | O35: =SUM(O38:O44) -> 0 | P35: =SUM(P38:P44) -> 0 | Q35: =SUM(N35:P35) -> 7140925 | R35: =Q35/M35*100 -> 34.735504 | S35: =M35-Q35 -> 13417075 | T35: =SUM(T38:T44) -> 10011500 | U35: =T35+M35 -> 30569500 | V35: =T35+S35 -> 23428575 | W35: =SUM(W38:W44) -> 15889125 | X35: =SUM(X38:X44) -> 0 | Y35: =SUM(Y38:Y44) -> 0 | AA35: =SUM(AA38:AA44) -> 5761500 | AB35: =SUM(AB38:AB44) -> 40000000 | AC35: =AB35-L35 -> 0 | AD35: =AA35+T35+M35 -> 36331000 | AE35: =SUM(AE38:AE44) -> 1150000 | AF35: =SUM(AF38:AF44) -> 0 | AG35: =SUM(AG38:AG44) -> 6085600 | AH35: =SUM(AH38:AH44) -> 0 | AI35: =SUM(AI38:AI44) -> 0 | AJ35: =SUM(AJ38:AJ44) -> 5614725 | AK35: =SUM(AK38:AK44) -> 35880375 | AL35: =AK35/AB35*100 -> 89.700937 | AM35: =SUM(AM38:AM44) -> 0 | AN35: =SUM(AN38:AN44) -> 0 | AO35: =SUM(AO38:AO44) -> 4099175 | AP35: =SUM(AP38:AP44) -> 0 | AQ35: =AK35+AM35+AN35+AO35+AP35 -> 39979550 | AR35: =AQ35/AB35*100 -> 99.948875 | AS35: =AB35-AQ35 -> 20450 | AT35: =SUM(AT38:AT44) -> 15457500 | AU35: =AT35+U35 -> 46027000 | AV35: =AK35 -> 35880375 | AW35: =AV35/AU35*100 -> 77.955059 | AX35: =AU35-AV35 -> 10146625 | AY35: =AS35/AB35*100 -> 0.051125 | AZ35: =AQ35-AO35 -> 35880375 | BA35: =AS35 -> 20450
C36: 5.2.01.01.2 | H36: BELANJA BARANG DAN JASA | AC36: =AB36-L36 -> 0 | AQ36: =AQ35-AO35 -> 35880375 | AZ36: =AQ36-AO36 -> 35880375
C37: 5.2.01.01.2.01 | I37: Belanja Bahan Pakai Habis | AC37: =AB37-L37 -> 0 | AZ37: =AQ37-AO37 -> 0
C38: 5.2.01.01.2.01.01 | J38: Belanja alat tulis kantor | L38: 16366000 | M38: 6183000 | N38: 4091500 | Q38: =SUM(N38:P38) -> 4091500 | R38: =Q38/M38*100 -> 66.173379 | S38: =M38-Q38 -> 2091500 | T38: 7091500 | U38: =T38+M38 -> 13274500 | V38: =T38+S38 -> 9183000 | W38: 4906700 | AA38: 3091500 | AB38: 16366000 | AC38: =AB38-L38 -> 0 | AD38: =AA38+T38+M38 -> 16366000 | AG38: 4246600 | AJ38: 3120800 | AK38: =Z38+Y38+X38+W38+N38+AG38+AJ38+AI38+AH38 -> 16365600 | AQ38: =AK38+AM38+AN38+AO38+AP38 -> 16365600 | AR38: =AQ38/AB38*100 -> 99.997556 | AS38: =AB38-AQ38 -> 400 | AT38: 3091500 | AU38: =AT38+U38 -> 16366000 | AV38: =AK38 -> 16365600 | AW38: =AV38/AU38*100 -> 99.997556 | AX38: =AU38-AV38 -> 400 | AY38: =AS38/AB38*100 -> 0.0024440914 | AZ38: =AQ38-AO38 -> 16365600
C39: 5.2.01.01.2.01.04 | J39: Belanja perangko, materai dan benda pos lainnya | L39: 840000 | M39: 840000 | N39: =330000+99500 -> 429500 | Q39: =SUM(N39:P39) -> 429500 | R39: =Q39/M39*100 -> 51.130952 | S39: =M39-Q39 -> 410500 | T39: 0 | U39: =T39+M39 -> 840000 | V39: =T39+S39 -> 410500 | W39: 117500 | AA39: 0 | AB39: 840000 | AC39: =AB39-L39 -> 0 | AD39: =AA39+T39+M39 -> 840000 | AG39: 89000 | AJ39: 204000 | AK39: =Z39+Y39+X39+W39+N39+AG39+AJ39+AI39+AH39 -> 840000 | AL39: =AK39/AD39*100 -> 100 | AQ39: =AK39+AM39+AN39+AO39+AP39 -> 840000 | AR39: =AQ39/AB39*100 -> 100 | AS39: =AB39-AQ39 -> 0 | AT39: 3091500 | AU39: =AT39+U39 -> 3931500 | AV39: =AK39 -> 840000 | AW39: =AV39/AU39*100 -> 21.365891 | AX39: =AU39-AV39 -> 3091500 | AY39: =AS39/AB39*100 -> 0 | AZ39: =AQ39-AO39 -> 840000
C40: 5.2.01.01.2.06 | I40: Belanja Cetak dan Penggandaan | AC40: =AB40-L40 -> 0 | AZ40: =AQ40-AO40 -> 0
C41: 5.2.01.01.2.06.01 | J41: Belanja Cetak | L41: 9365000 | M41: 9365000 | Q41: =SUM(N41:P41) -> 0 | R41: =Q41/M41*100 -> 0 | S41: =M41-Q41 -> 9365000 | T41: 0 | U41: =T41+M41 -> 9365000 | V41: =T41+S41 -> 9365000 | W41: 9365000 | AA41: 0 | AB41: 9365000 | AC41: =AB41-L41 -> 0 | AD41: =AA41+T41+M41 -> 9365000 | AG41: 0 | AK41: =Z41+Y41+X41+W41+N41+AG41+AJ41+AI41+AH41 -> 9365000 | AL41: =AK41/AD41*100 -> 100 | AQ41: =AK41+AM41+AN41+AO41+AP41 -> 9365000 | AR41: =AQ41/AB41*100 -> 100 | AS41: =AB41-AQ41 -> 0 | AT41: 3091500 | AU41: =AT41+U41 -> 12456500 | AV41: =AK41 -> 9365000 | AW41: =AV41/AU41*100 -> 75.181632 | AX41: =AU41-AV41 -> 3091500 | AY41: =AS41/AB41*100 -> 0 | AZ41: =AQ41-AO41 -> 9365000
C42: 5.2.01.01.2.06.02 | J42: Belanja Penggandaan | L42: 8749000 | M42: 3000000 | N42: 1499925 | Q42: =SUM(N42:P42) -> 1499925 | R42: =Q42/M42*100 -> 49.9975 | S42: =M42-Q42 -> 1500075 | T42: 1750000 | U42: =T42+M42 -> 4750000 | V42: =T42+S42 -> 3250075 | W42: 1499925 | AA42: 1500000 | AB42: 8749000 | AC42: =AB42-L42 -> 0 | AD42: =AA42+T42+M42 -> 6250000 | AG42: 1750000 | AJ42: 1499925 | AK42: =Z42+Y42+X42+W42+N42+AG42+AJ42+AI42+AH42 -> 6249775 | AL42: =AK42/AD42*100 -> 99.9964 | AO42: =1499225+999950 -> 2499175 | AQ42: =AK42+AM42+AN42+AO42+AP42 -> 8748950 | AR42: =AQ42/AB42*100 -> 99.999429 | AS42: =AB42-AQ42 -> 50 | AT42: 3091500 | AU42: =AT42+U42 -> 7841500 | AV42: =AK42 -> 6249775 | AW42: =AV42/AU42*100 -> 79.701269 | AX42: =AU42-AV42 -> 1591725 | AY42: =AS42/AB42*100 -> 0.00057149389 | AZ42: =AQ42-AO42 -> 6249775
C43: 5.2.01.01.2.15 | I43: Belanja Perjalanan Dinas | AC43: =AB43-L43 -> 0 | AQ43: =AK43+AL43+AM43+AN43+AO43+AP43 -> 0 | AZ43: =AQ43-AO43 -> 0
C44: 5.2.01.01.2.15.01 | J44: Belanja perjalanan dinas dalam daerah | L44: 4680000 | M44: 1170000 | N44: 1120000 | Q44: =SUM(N44:P44) -> 1120000 | R44: =Q44/M44*100 -> 95.726496 | S44: =M44-Q44 -> 50000 | T44: 1170000 | U44: =T44+M44 -> 2340000 | V44: =T44+S44 -> 1220000 | AA44: 1170000 | AB44: 4680000 | AC44: =AB44-L44 -> 0 | AD44: =AA44+T44+M44 -> 3510000 | AE44: 1150000 | AF44: 0 | AG44: 0 | AJ44: 790000 | AK44: =Z44+Y44+X44+W44+N44+AG44+AJ44+AI44+AH44+1150000 -> 3060000 | AL44: =AK44/AD44*100 -> 87.179487 | AO44: 1600000 | AQ44: =AK44+AM44+AN44+AO44+AP44 -> 4660000 | AR44: =AQ44/AB44*100 -> 99.57265 | AS44: =AB44-AQ44 -> 20000 | AT44: 3091500 | AU44: =AT44+U44 -> 5431500 | AV44: =AK44 -> 3060000 | AW44: =AV44/AU44*100 -> 56.338028 | AX44: =AU44-AV44 -> 2371500 | AY44: =AS44/AB44*100 -> 0.42735043 | AZ44: =AQ44-AO44 -> 3060000
A45: 2 | C45: 5.2.01.02 | G45: Penyediaan jasa komunikasi, sumber daya air dan listrik | L45: =SUM(L48:L52) -> 110000000 | M45: =SUM(M48:M52) -> 27501000 | N45: =SUM(N48:N52) -> 13012446 | O45: =SUM(O48:O52) -> 0 | P45: =SUM(P48:P52) -> 0 | Q45: =SUM(N45:P45) -> 13012446 | R45: =Q45/M45*100 -> 47.316265 | S45: =M45-Q45 -> 14488554 | T45: =SUM(T48:T52) -> 27501000 | U45: =T45+M45 -> 55002000 | V45: =T45+S45 -> 41989554 | W45: =SUM(W48:W52) -> 20696341 | X45: =SUM(X48:X52) -> 0 | Y45: =SUM(Y48:Y52) -> 0 | AA45: 27501000 | AB45: =SUM(AB48:AB52) -> 97500000 | AC45: =AB45-L45 -> -12500000 | AD45: =AA45+T45+M45 -> 82503000 | AE45: =SUM(AE48:AE52) -> 0 | AF45: =SUM(AF48:AF52) -> 0 | AG45: =SUM(AG48:AG52) -> 20569647 | AH45: =SUM(AH48:AH52) -> 0 | AI45: =SUM(AI48:AI52) -> 0 | AJ45: =SUM(AJ48:AJ52) -> 6353822 | AK45: =SUM(AK48:AK52) -> 60632256 | AL45: =AK45/AB45*100 -> 62.186929 | AM45: =SUM(AM48:AM52) -> 0 | AN45: =SUM(AN48:AN52) -> 0 | AO45: =SUM(AO48:AO52) -> 14513137 | AP45: =SUM(AP48:AP52) -> 0 | AQ45: =AK45+AM45+AN45+AO45+AP45 -> 75145393 | AR45: =AQ45/AB45*100 -> 77.072198 | AS45: =AB45-AQ45 -> 22354607 | AT45: =SUM(AT48:AT54) -> 27823500 | AU45: =AT45+U45 -> 82825500 | AV45: =AK45 -> 60632256 | AW45: =AV45/AU45*100 -> 73.204817 | AX45: =AU45-AV45 -> 22193244 | AY45: =AS45/AB45*100 -> 22.927802 | AZ45: =AQ45-AO45 -> 60632256
C46: 5.2.01.02.2 | H46: BELANJA BARANG DAN JASA | AC46: =AB46-L46 -> 0 | AQ46: =AK46+AL46+AM46+AN46+AO46+AP46 -> 0 | AS46: =AB46-AQ46 -> 0 | AZ46: =AQ46-AO46 -> 0
C47: 5.2.01.02.2.03 | I47: Belanja Jasa Kantor | AC47: =AB47-L47 -> 0 | AQ47: =AK47+AL47+AM47+AN47+AO47+AP47 -> 0 | AS47: =AB47-AQ47 -> 0 | AZ47: =AQ47-AO47 -> 0
C48: 5.2.01.02.2.03.01 | J48: Belanja telepon | L48: 14720000 | M48: 3681000 | N48: 1016899 | Q48: =SUM(N48:P48) -> 1016899 | R48: =Q48/M48*100 -> 27.625618 | S48: =M48-Q48 -> 2664101 | T48: 3681000 | U48: =T48+M48 -> 7362000 | V48: =T48+S48 -> 6345101 | W48: =931843+501158 -> 1433001 | AA48: 3681000 | AB48: 9600000 | AC48: =AB48-L48 -> -5120000 | AD48: =AA48+T48+M48 -> 11043000 | AG48: =806206+482299 -> 1288505 | AJ48: 348224 | AK48: =Z48+Y48+X48+W48+N48+AG48+AJ48+AI48+AH48 -> 4086629 | AL48: =AK48/AD48*100 -> 37.006511 | AO48: =510228 -> 510228 | AQ48: =AK48+AM48+AN48+AO48+AP48 -> 4596857 | AR48: =AQ48/AB48*100 -> 47.883927 | AS48: =AB48-AQ48 -> 5003143 | AT48: 3091500 | AU48: =AT48+U48 -> 10453500 | AV48: =AK48 -> 4086629 | AW48: =AV48/AU48*100 -> 39.093404 | AX48: =AU48-AV48 -> 6366871 | AY48: =AS48/AB48*100 -> 52.116073 | AZ48: =AQ48-AO48 -> 4086629
C49: 5.2.01.02.2.03.02 | J49: Belanja air | L49: 10800000 | M49: 2700000 | N49: 1445050 | Q49: =SUM(N49:P49) -> 1445050 | R49: =Q49/M49*100 -> 53.52037 | S49: =M49-Q49 -> 1254950 | T49: 2700000 | U49: =T49+M49 -> 5400000 | V49: =T49+S49 -> 3954950 | W49: =1481700+688850 -> 2170550 | AA49: 2700000 | AB49: 9600000 | AC49: =AB49-L49 -> -1200000 | AD49: =AA49+T49+M49 -> 8100000 | AG49: =1094300+672100 -> 1766400 | AJ49: 399400 | AK49: =Z49+Y49+X49+W49+N49+AG49+AJ49+AI49+AH49 -> 5781400 | AL49: =AK49/AD49*100 -> 71.375309 | AO49: =1207850 -> 1207850 | AQ49: =AK49+AM49+AN49+AO49+AP49 -> 6989250 | AR49: =AQ49/AB49*100 -> 72.804688 | AS49: =AB49-AQ49 -> 2610750 | AT49: 3091500 | AU49: =AT49+U49 -> 8491500 | AV49: =AK49 -> 5781400 | AW49: =AV49/AU49*100 -> 68.084555 | AX49: =AU49-AV49 -> 2710100 | AY49: =AS49/AB49*100 -> 27.195312 | AZ49: =AQ49-AO49 -> 5781400
C50: 5.2.01.02.2.03.03 | J50: Belanja listrik | L50: 58800000 | M50: 14700000 | N50: 8098647 | Q50: =SUM(N50:P50) -> 8098647 | R50: =Q50/M50*100 -> 55.092837 | S50: =M50-Q50 -> 6601353 | T50: 14700000 | U50: =T50+M50 -> 29400000 | V50: =T50+S50 -> 21301353 | W50: =8666744+4929971 -> 13596715 | AA50: 14700000 | AB50: 56400000 | AC50: =AB50-L50 -> -2400000 | AD50: =AA50+T50+M50 -> 44100000 | AG50: =9141706+4987536 -> 14129242 | AJ50: 4461198 | AK50: =Z50+Y50+X50+W50+N50+AG50+AJ50+AI50+AH50 -> 40285802 | AL50: =AK50/AD50*100 -> 91.351025 | AO50: =10505059 -> 10505059 | AQ50: =AK50+AM50+AN50+AO50+AP50 -> 50790861 | AR50: =AQ50/AB50*100 -> 90.054718 | AS50: =AB50-AQ50 -> 5609139 | AT50: 3091500 | AU50: =AT50+U50 -> 32491500 | AV50: =AK50 -> 40285802 | AW50: =AV50/AU50*100 -> 123.98874 | AX50: =AU50-AV50 -> -7794302 | AY50: =AS50/AB50*100 -> 9.9452819 | AZ50: =AQ50-AO50 -> 40285802
C51: 5.2.01.02.2.03.05 | J51: Belanja surat kabar/majalah | L51: 2880000 | M51: 720000 | N51: =95000+220000 -> 315000 | Q51: =SUM(N51:P51) -> 315000 | R51: =Q51/M51*100 -> 43.75 | S51: =M51-Q51 -> 405000 | T51: 720000 | U51: =T51+M51 -> 1440000 | V51: =T51+S51 -> 1125000 | W51: =190000+220000 -> 410000 | AA51: 720000 | AB51: 2700000 | AC51: =AB51-L51 -> -180000 | AD51: =AA51+T51+M51 -> 2160000 | AG51: =220000+190000+110000+95000 -> 615000 | AJ51: =95000+110000 -> 205000 | AK51: =Z51+Y51+X51+W51+N51+AG51+AJ51+AI51+AH51 -> 1545000 | AL51: =AK51/AD51*100 -> 71.527778 | AO51: =410000 -> 410000 | AQ51: =AK51+AM51+AN51+AO51+AP51 -> 1955000 | AR51: =AQ51/AB51*100 -> 72.407407 | AS51: =AB51-AQ51 -> 745000 | AT51: 3091500 | AU51: =AT51+U51 -> 4531500 | AV51: =AK51 -> 1545000 | AW51: =AV51/AU51*100 -> 34.094671 | AX51: =AU51-AV51 -> 2986500 | AY51: =AS51/AB51*100 -> 27.592593 | AZ51: =AQ51-AO51 -> 1545000
C52: 5.2.01.02.2.03.06 | J52: Belanja kawat/faksimili/internet/TV Berbayar | L52: 22800000 | M52: 5700000 | N52: 2136850 | Q52: =SUM(N52:P52) -> 2136850 | R52: =Q52/M52*100 -> 37.488596 | S52: =M52-Q52 -> 3563150 | T52: 5700000 | U52: =T52+M52 -> 11400000 | V52: =T52+S52 -> 9263150 | W52: =2128600+957475 -> 3086075 | AA52: 5700000 | AB52: 19200000 | AC52: =AB52-L52 -> -3600000 | AD52: =AA52+T52+M52 -> 17100000 | AG52: =1847000+923500 -> 2770500 | AJ52: 940000 | AK52: =Z52+Y52+X52+W52+N52+AG52+AJ52+AI52+AH52 -> 8933425 | AL52: =AK52/AD52*100 -> 52.242251 | AO52: 1880000 | AQ52: =AK52+AM52+AN52+AO52+AP52 -> 10813425 | AR52: =AQ52/AB52*100 -> 56.319922 | AS52: =AB52-AQ52 -> 8386575 | AT52: 3091500 | AU52: =AT52+U52 -> 14491500 | AV52: =AK52 -> 8933425 | AW52: =AV52/AU52*100 -> 61.645965 | AX52: =AU52-AV52 -> 5558075 | AY52: =AS52/AB52*100 -> 43.680078 | AZ52: =AQ52-AO52 -> 8933425
A53: 3 | C53: 5.2.01.07 | G53: Penyediaan jasa administrasi keuangan | L53: =SUM(L56:L68) -> 70000000 | M53: =SUM(M56:M68) -> 19590000 | N53: =SUM(N56:N68) -> 17365825 | O53: =SUM(O56:O68) -> 0 | P53: =SUM(P56:P68) -> 0 | Q53: =SUM(N53:P53) -> 17365825 | R53: =Q53/M53*100 -> 88.646376 | S53: =M53-Q53 -> 2224175 | T53: =SUM(T56:T68) -> 18646000 | U53: =T53+M53 -> 38236000 | V53: =T53+S53 -> 20870175 | W53: =SUM(W56:W68) -> 9930125 | X53: =SUM(X56:X68) -> 0 | Y53: =SUM(Y56:Y68) -> 0 | AA53: =SUM(AA56:AA68) -> 19350000 | AB53: =SUM(AB56:AB68) -> 70000000 | AC53: =AB53-L53 -> 0 | AD53: =AA53+T53+M53 -> 57586000 | AE53: =SUM(AE56:AE68) -> 0 | AF53: =SUM(AF56:AF68) -> 0 | AG53: =SUM(AG56:AG68) -> 18824525 | AH53: =SUM(AH56:AH68) -> 0 | AI53: =SUM(AI56:AI68) -> 0 | AJ53: =SUM(AJ56:AJ68) -> 7374150 | AK53: =SUM(AK56:AK68) -> 53494625 | AL53: =AK53/AB53*100 -> 76.420893 | AM53: =SUM(AM56:AM68) -> 0 | AN53: =SUM(AN56:AN68) -> 0 | AO53: =SUM(AO56:AO68) -> 10466500 | AP53: =SUM(AP56:AP68) -> 0 | AQ53: =AK53+AM53+AN53+AO53+AP53 -> 63961125 | AR53: =AQ53/AB53*100 -> 91.373036 | AS53: =AB53-AQ53 -> 6038875 | AT53: =SUM(AT56:AT62) -> 12366000 | AU53: =AT53+U53 -> 50602000 | AV53: =AK53 -> 53494625 | AW53: =AV53/AU53*100 -> 105.71642 | AX53: =AU53-AV53 -> -2892625 | AY53: =AS53/AB53*100 -> 8.6269643 | AZ53: =AQ53-AO53 -> 53494625
C54: 5.2.01.07.1 | H54: BELANJA PEGAWAI | AC54: =AB54-L54 -> 0 | AZ54: =AQ54-AO54 -> 0
C55: 5.2.01.07.1.01 | I55: Honorarium PNS | AC55: =AB55-L55 -> 0 | AZ55: =AQ55-AO55 -> 0
C56: 5.2.01.07.1.01.03 | J56: Honorarium Pengelola Keuangan SKPD | L56: 31200000 | M56: 7800000 | N56: 7800000 | Q56: =SUM(N56:P56) -> 7800000 | R56: =Q56/M56*100 -> 100 | S56: =M56-Q56 -> 0 | T56: 7800000 | U56: =T56+M56 -> 15600000 | V56: =T56+S56 -> 7800000 | W56: 5200000 | AA56: 7800000 | AB56: 31200000 | AC56: =AB56-L56 -> 0 | AD56: =AA56+T56+M56 -> 23400000 | AG56: =2600000+2600000+2600000 -> 7800000 | AJ56: 2600000 | AK56: =Z56+Y56+X56+W56+N56+AG56+AJ56+AI56+AH56 -> 23400000 | AL56: =AK56/AD56*100 -> 100 | AO56: 5200000 | AQ56: =AK56+AM56+AN56+AO56+AP56 -> 28600000 | AR56: =AQ56/AB56*100 -> 91.666667 | AS56: =AB56-AQ56 -> 2600000 | AT56: 3091500 | AU56: =AT56+U56 -> 18691500 | AV56: =AK56 -> 23400000 | AW56: =AV56/AU56*100 -> 125.19059 | AX56: =AU56-AV56 -> -4708500 | AY56: =AS56/AB56*100 -> 8.3333333 | AZ56: =AQ56-AO56 -> 23400000
C57: 5.2.01.07.1.03. | I57: Uang Lembur | AC57: =AB57-L57 -> 0 | AZ57: =AQ57-AO57 -> 0
C58: 5.2.01.07.1.03.01 | J58: Uang Lembur PNS | L58: 12064000 | M58: 2200000 | N58: 2069500 | Q58: =SUM(N58:P58) -> 2069500 | R58: =Q58/M58*100 -> 94.068182 | S58: =M58-Q58 -> 130500 | T58: 4600000 | U58: =T58+M58 -> 6800000 | V58: =T58+S58 -> 4730500 | W58: 2534000 | AA58: 3000000 | AB58: 12064000 | AC58: =AB58-L58 -> 0 | AD58: =AA58+T58+M58 -> 9800000 | AG58: =2196000+2944000 -> 5140000 | AK58: =Z58+Y58+X58+W58+N58+AG58+AJ58+AI58+AH58 -> 9743500 | AL58: =AK58/AD58*100 -> 99.423469 | AO58: 2298500 | AQ58: =AK58+AM58+AN58+AO58+AP58 -> 12042000 | AR58: =AQ58/AB58*100 -> 99.817639 | AS58: =AB58-AQ58 -> 22000 | AT58: 3091500 | AU58: =AT58+U58 -> 9891500 | AV58: =AK58 -> 9743500 | AW58: =AV58/AU58*100 -> 98.503766 | AX58: =AU58-AV58 -> 148000 | AY58: =AS58/AB58*100 -> 0.18236074 | AZ58: =AQ58-AO58 -> 9743500
C59: 5.2.01.07.2 | H59: BELANJA BARANG DAN JASA | AC59: =AB59-L59 -> 0 | AQ59: =AK59+AL59+AM59+AN59+AO59+AP59 -> 0 | AS59: =AB59-AQ59 -> 0 | AZ59: =AQ59-AO59 -> 0
C60: 5.2.01.07.2.01 | I60: Belanja Bahan Pakai Habis | AC60: =AB60-L60 -> 0 | AQ60: =AK60+AL60+AM60+AN60+AO60+AP60 -> 0 | AS60: =AB60-AQ60 -> 0 | AZ60: =AQ60-AO60 -> 0
C61: 5.2.01.07.2.01.01 | J61: Belanja alat tulis kantor | L61: 9146000 | M61: 3200000 | N61: 3196400 | Q61: =SUM(N61:P61) -> 3196400 | R61: =Q61/M61*100 -> 99.8875 | S61: =M61-Q61 -> 3600 | T61: 1446000 | U61: =T61+M61 -> 4646000 | V61: =T61+S61 -> 1449600 | AA61: 4500000 | AB61: 9146000 | AC61: =AB61-L61 -> 0 | AD61: =AA61+T61+M61 -> 9146000 | AG61: 3245400 | AJ61: =2344150+360000 -> 2704150 | AK61: =Z61+Y61+X61+W61+N61+AG61+AJ61+AI61+AH61 -> 9145950 | AL61: =AK61/AD61*100 -> 99.999453 | AQ61: =AK61+AM61+AN61+AO61+AP61 -> 9145950 | AR61: =AQ61/AB61*100 -> 99.999453 | AS61: =AB61-AQ61 -> 50 | AT61: 3091500 | AU61: =AT61+U61 -> 7737500 | AV61: =AK61 -> 9145950 | AW61: =AV61/AU61*100 -> 118.20291 | AX61: =AU61-AV61 -> -1408450 | AY61: =AS61/AB61*100 -> 0.00054668708 | AZ61: =AQ61-AO61 -> 9145950
C62: 5.2.01.07.2.01.04 | J62: Belanja perangko, materai dan benda pos lainnya | L62: 510000 | M62: 510000 | N62: 510000 | Q62: =SUM(N62:P62) -> 510000 | R62: =Q62/M62*100 -> 100 | S62: =M62-Q62 -> 0 | T62: 0 | U62: =T62+M62 -> 510000 | V62: =T62+S62 -> 0 | AA62: 0 | AB62: 510000 | AC62: =AB62-L62 -> 0 | AD62: =AA62+T62+M62 -> 510000 | AK62: =Z62+Y62+X62+W62+N62+AG62+AJ62+AI62+AH62 -> 510000 | AL62: =AK62/AD62*100 -> 100 | AQ62: =AK62+AM62+AN62+AO62+AP62 -> 510000 | AR62: =AQ62/AB62*100 -> 100 | AS62: =AB62-AQ62 -> 0 | AT62: 3091500 | AU62: =AT62+U62 -> 3601500 | AV62: =AK62 -> 510000 | AW62: =AV62/AU62*100 -> 14.160766 | AX62: =AU62-AV62 -> 3091500 | AY62: =AS62/AB62*100 -> 0 | AZ62: =AQ62-AO62 -> 510000
C63: 5.2.01.07.2.06 | I63: Belanja Cetak dan Penggandaan | AC63: =AB63-L63 -> 0 | AQ63: =AK63+AL63+AM63+AN63+AO63+AP63 -> 0 | AZ63: =AQ63-AO63 -> 0
C64: 5.2.01.07.2.06.02 | J64: Belanja Penggandaan | L64: 7000000 | M64: 2180000 | N64: 1429925 | Q64: =SUM(N64:P64) -> 1429925 | R64: =Q64/M64*100 -> 65.59289 | S64: =M64-Q64 -> 750075 | T64: 1800000 | U64: =T64+M64 -> 3980000 | V64: =T64+S64 -> 2550075 | W64: =910875+215250 -> 1126125 | AA64: 1470000 | AB64: 7000000 | AC64: =AB64-L64 -> 0 | AD64: =AA64+T64+M64 -> 5450000 | AG64: 1679125 | AK64: =Z64+Y64+X64+W64+N64+AG64+AJ64+AI64+AH64 -> 4235175 | AL64: =AK64/AD64*100 -> 77.709633 | AO64: 1848000 | AQ64: =AK64+AM64+AN64+AO64+AP64 -> 6083175 | AR64: =AQ64/AB64*100 -> 86.9025 | AS64: =AB64-AQ64 -> 916825 | AT64: 3091500 | AU64: =AT64+U64 -> 7071500 | AV64: =AK64 -> 4235175 | AW64: =AV64/AU64*100 -> 59.890759 | AX64: =AU64-AV64 -> 2836325 | AY64: =AS64/AB64*100 -> 13.0975 | AZ64: =AQ64-AO64 -> 4235175
C65: 5.2.01.07.2.11 | I65: Belanja Makanan dan Minuman | AC65: =AB65-L65 -> 0 | AQ65: =AK65+AL65+AM65+AN65+AO65+AP65 -> 0 | AS65: =AB65-AQ65 -> 0 | AZ65: =AQ65-AO65 -> 0
C66: 5.2.01.07.2.11.02 | J66: Belanja makanan dan minuman rapat | L66: 2500000 | M66: 1400000 | N66: 1400000 | Q66: =SUM(N66:P66) -> 1400000 | R66: =Q66/M66*100 -> 100 | S66: =M66-Q66 -> 0 | T66: 1100000 | U66: =T66+M66 -> 2500000 | V66: =T66+S66 -> 1100000 | AA66: 0 | AB66: 2500000 | AC66: =AB66-L66 -> 0 | AD66: =AA66+T66+M66 -> 2500000 | AJ66: 1050000 | AK66: =Z66+Y66+X66+W66+N66+AG66+AJ66+AI66+AH66 -> 2450000 | AL66: =AK66/AD66*100 -> 98 | AQ66: =AK66+AM66+AN66+AO66+AP66 -> 2450000 | AR66: =AQ66/AB66*100 -> 98 | AS66: =AB66-AQ66 -> 50000 | AT66: 3091500 | AU66: =AT66+U66 -> 5591500 | AV66: =AK66 -> 2450000 | AW66: =AV66/AU66*100 -> 43.816507 | AX66: =AU66-AV66 -> 3141500 | AY66: =AS66/AB66*100 -> 2 | AZ66: =AQ66-AO66 -> 2450000
C67: 5.2.01.07.2.15 | I67: Belanja Perjalanan Dinas | AC67: =AB67-L67 -> 0 | AQ67: =AK67+AL67+AM67+AN67+AO67+AP67 -> 0 | AS67: =AB67-AQ67 -> 0 | AZ67: =AQ67-AO67 -> 0
C68: 5.2.01.07.2.15.01 | J68: Belanja perjalanan dinas dalam daerah | L68: 7580000 | M68: 2300000 | N68: 960000 | Q68: =SUM(N68:P68) -> 960000 | R68: =Q68/M68*100 -> 41.73913 | S68: =M68-Q68 -> 1340000 | T68: 1900000 | U68: =T68+M68 -> 4200000 | V68: =T68+S68 -> 3240000 | W68: 1070000 | AA68: 2580000 | AB68: 7580000 | AC68: =AB68-L68 -> 0 | AD68: =AA68+T68+M68 -> 6780000 | AG68: 960000 | AJ68: 1020000 | AK68: =Z68+Y68+X68+W68+N68+AG68+AJ68+AI68+AH68 -> 4010000 | AL68: =AK68/AD68*100 -> 59.144543 | AO68: =480000+640000 -> 1120000 | AQ68: =AK68+AM68+AN68+AO68+AP68 -> 5130000 | AR68: =AQ68/AB68*100 -> 67.6781 | AS68: =AB68-AQ68 -> 2450000 | AT68: 3091500 | AU68: =AT68+U68 -> 7291500 | AV68: =AK68 -> 4010000 | AW68: =AV68/AU68*100 -> 54.995543 | AX68: =AU68-AV68 -> 3281500 | AY68: =AS68/AB68*100 -> 32.3219 | AZ68: =AQ68-AO68 -> 4010000
A69: 4 | C69: 5.2.01.18 | G69: Rapat-rapat koordinasi dan konsultasi ke luar daerah | L69: =SUM(L72:L76) -> 120000000 | M69: =SUM(M72:M76) -> 20876000 | N69: =SUM(N72:N76) -> 16476715 | O69: =SUM(O72:O76) -> 0 | P69: =SUM(P72:P76) -> 0 | Q69: =SUM(N69:P69) -> 16476715 | R69: =Q69/M69*100 -> 78.92659 | S69: =M69-Q69 -> 4399285 | T69: =SUM(T72:T76) -> 34816000 | U69: =T69+M69 -> 55692000 | V69: =T69+S69 -> 39215285 | W69: =SUM(W72:W76) -> 0 | X69: =SUM(X72:X76) -> 34887980 | Y69: =SUM(Y72:Y76) -> 0 | AA69: =SUM(AA72:AA76) -> 49308000 | AB69: =SUM(AB72:AB76) -> 120000000 | AC69: =AB69-L69 -> 0 | AD69: =AA69+T69+M69 -> 105000000 | AE69: =SUM(AE72:AE76) -> 3462400 | AF69: =SUM(AF72:AF76) -> 0 | AG69: =SUM(AG72:AG76) -> 889350 | AH69: =SUM(AH72:AH76) -> 0 | AI69: =SUM(AI72:AI76) -> 0 | AJ69: =SUM(AJ72:AJ76) -> 16145880 | AK69: =SUM(AK72:AK76) -> 71862325 | AL69: =AK69/AB69*100 -> 59.885271 | AM69: =SUM(AM72:AM76) -> 0 | AN69: =SUM(AN72:AN76) -> 0 | AO69: =SUM(AO72:AO76) -> 24647400 | AP69: =SUM(AP72:AP76) -> 0 | AQ69: =AK69+AM69+AN69+AO69+AP69 -> 96509725 | AR69: =AQ69/AB69*100 -> 80.424771 | AS69: =AB69-AQ69 -> 23490275 | AT69: =SUM(AT72:AT78) -> 21640500 | AU69: =AT69+U69 -> 77332500 | AV69: =AK69 -> 71862325 | AW69: =AV69/AU69*100 -> 92.926422 | AX69: =AU69-AV69 -> 5470175 | AY69: =AS69/AB69*100 -> 19.575229 | AZ69: =AQ69-AO69 -> 71862325
C70: 5.2.01.18.2 | H70: BELANJA BARANG DAN JASA | AC70: =AB70-L70 -> 0 | AZ70: =AQ70-AO70 -> 0
C71: 5.2.01.18.2.01 | I71: Belanja Bahan Pakai Habis | AC71: =AB71-L71 -> 0 | AZ71: =AQ71-AO71 -> 0
C72: 5.2.01.18.2.01.01 | J72: Belanja alat tulis kantor | L72: 476000 | M72: 476000 | N72: 475800 | Q72: =SUM(N72:P72) -> 475800 | R72: =Q72/M72*100 -> 99.957983 | S72: =M72-Q72 -> 200 | T72: 0 | U72: =T72+M72 -> 476000 | V72: =T72+S72 -> 200 | AA72: 0 | AB72: 476000 | AC72: =AB72-L72 -> 0 | AD72: =AA72+T72+M72 -> 476000 | AK72: =Z72+Y72+X72+W72+N72+AG72+AJ72+AI72+AH72 -> 475800 | AL72: =AK72/AD72*100 -> 99.957983 | AQ72: =AK72+AM72+AN72+AO72+AP72 -> 475800 | AR72: =AQ72/AB72*100 -> 99.957983 | AS72: =AB72-AQ72 -> 200 | AT72: 3091500 | AU72: =AT72+U72 -> 3567500 | AV72: =AK72 -> 475800 | AW72: =AV72/AU72*100 -> 13.337071 | AX72: =AU72-AV72 -> 3091700 | AY72: =AS72/AB72*100 -> 0.042016807 | AZ72: =AQ72-AO72 -> 475800
C73: 5.2.01.18.2.06 | I73: Belanja Cetak dan Penggandaan | AC73: =AB73-L73 -> 0 | AZ73: =AQ73-AO73 -> 0
C74: 5.2.01.18.2.06.02 | J74: Belanja Penggandaan | L74: 2116000 | M74: 400000 | N74: 399875 | Q74: =SUM(N74:P74) -> 399875 | R74: =Q74/M74*100 -> 99.96875 | S74: =M74-Q74 -> 125 | T74: 816000 | U74: =T74+M74 -> 1216000 | V74: =T74+S74 -> 816125 | AA74: 900000 | AB74: 2116000 | AC74: =AB74-L74 -> 0 | AD74: =AA74+T74+M74 -> 2116000 | AG74: 889350 | AJ74: 826700 | AK74: =Z74+Y74+X74+W74+N74+AG74+AJ74+AI74+AH74 -> 2115925 | AL74: =AK74/AD74*100 -> 99.996456 | AQ74: =AK74+AM74+AN74+AO74+AP74 -> 2115925 | AR74: =AQ74/AB74*100 -> 99.996456 | AS74: =AB74-AQ74 -> 75 | AT74: 3091500 | AU74: =AT74+U74 -> 4307500 | AV74: =AK74 -> 2115925 | AW74: =AV74/AU74*100 -> 49.12188 | AX74: =AU74-AV74 -> 2191575 | AY74: =AS74/AB74*100 -> 0.0035444234 | AZ74: =AQ74-AO74 -> 2115925
C75: 5.2.01.18.2.15 | I75: Belanja Perjalanan Dinas | AC75: =AB75-L75 -> 0 | AQ75: =AK75+AL75+AM75+AN75+AO75+AP75 -> 0 | AS75: =AB75-AQ75 -> 0 | AZ75: =AQ75-AO75 -> 0
C76: 5.2.01.18.2.15.02 | J76: Belanja perjalanan dinas luar daerah | L76: 117408000 | M76: 20000000 | N76: =14202240+1398800 -> 15601040 | Q76: =SUM(N76:P76) -> 15601040 | R76: =Q76/M76*100 -> 78.0052 | S76: =M76-Q76 -> 4398960 | T76: 34000000 | U76: =T76+M76 -> 54000000 | V76: =T76+S76 -> 38398960 | X76: 34887980 | AA76: 48408000 | AB76: 117408000 | AC76: =AB76-L76 -> 0 | AD76: =AA76+T76+M76 -> 102408000 | AE76: 3462400 | AF76: 0 | AJ76: =11369180+3950000 -> 15319180 | AK76: =Z76+Y76+X76+W76+N76+AG76+AJ76+AI76+AH76+3462400 -> 69270600 | AL76: =AK76/AD76*100 -> 67.641786 | AM76: 0 | AO76: 24647400 | AQ76: =AK76+AM76+AN76+AO76+AP76 -> 93918000 | AR76: =AQ76/AB76*100 -> 79.992845 | AS76: =AB76-AQ76 -> 23490000 | AT76: 3091500 | AU76: =AT76+U76 -> 57091500 | AV76: =AK76 -> 69270600 | AW76: =AV76/AU76*100 -> 121.3326 | AX76: =AU76-AV76 -> -12179100 | AY76: =AS76/AB76*100 -> 20.007155 | AZ76: =AQ76-AO76 -> 69270600 | BB76: =AS76 -> 23490000
A77: 5 | C77: 5.2.01.19 | G77: Rapat-rapat koordinasi dan konsultasi dalam daerah | L77: =SUM(L80:L86) -> 70000000 | M77: =SUM(M80:M86) -> 19200000 | N77: =SUM(N80:N86) -> 8207425 | O77: =SUM(O80:O86) -> 0 | P77: =SUM(P80:P86) -> 0 | Q77: =SUM(N77:P77) -> 8207425 | R77: =Q77/M77*100 -> 42.747005 | S77: =M77-Q77 -> 10992575 | T77: =SUM(T80:T86) -> 22140000 | U77: =T77+M77 -> 41340000 | V77: =T77+S77 -> 33132575 | W77: =SUM(W80:W86) -> 5487400 | X77: =SUM(X80:X86) -> 8540000 | Y77: =SUM(Y80:Y86) -> 0 | AA77: 18847000 | AB77: =SUM(AB80:AB86) -> 76000000 | AC77: =AB77-L77 -> 6000000 | AD77: =AA77+T77+M77 -> 60187000 | AE77: =SUM(AE80:AE86) -> 5230000 | AF77: =SUM(AF80:AF86) -> 0 | AG77: =SUM(AG80:AG86) -> 13530775 | AH77: =SUM(AH80:AH86) -> 0 | AI77: =SUM(AI80:AI86) -> 0 | AJ77: =SUM(AJ80:AJ86) -> 6035250 | AK77: =SUM(AK80:AK86) -> 47030850 | AL77: =AK77/AB77*100 -> 61.882697 | AM77: =SUM(AM80:AM86) -> 0 | AN77: =SUM(AN80:AN86) -> 0 | AO77: =SUM(AO80:AO86) -> 6713250 | AP77: =SUM(AP80:AP86) -> 0 | AQ77: =AK77+AM77+AN77+AO77+AP77 -> 53744100 | AR77: =AQ77/AB77*100 -> 70.715921 | AS77: =AB77-AQ77 -> 22255900 | AT77: =SUM(AT80:AT86) -> 12366000 | AU77: =AT77+U77 -> 53706000 | AV77: =AK77 -> 47030850 | AW77: =AV77/AU77*100 -> 87.570942 | AX77: =AU77-AV77 -> 6675150 | AY77: =AS77/AB77*100 -> 29.284079 | AZ77: =AQ77-AO77 -> 47030850
C78: 5.2.01.19.2 | H78: BELANJA BARANG DAN JASA | AC78: =AB78-L78 -> 0 | AQ78: =AK78+AL78+AM78+AN78+AO78+AP78 -> 0 | AS78: =AB78-AQ78 -> 0 | AZ78: =AQ78-AO78 -> 0
C79: 5.2.01.19.2.01 | I79: Belanja Bahan Pakai Habis | AC79: =AB79-L79 -> 0 | AQ79: =AK79+AL79+AM79+AN79+AO79+AP79 -> 0 | AS79: =AB79-AQ79 -> 0 | AZ79: =AQ79-AO79 -> 0
C80: 5.2.01.19.2.01.01 | J80: Belanja alat tulis kantor | L80: 3847000 | M80: 1500000 | N80: 1500000 | Q80: =SUM(N80:P80) -> 1500000 | R80: =Q80/M80*100 -> 100 | S80: =M80-Q80 -> 0 | T80: 1500000 | U80: =T80+M80 -> 3000000 | V80: =T80+S80 -> 1500000 | AA80: 847000 | AB80: 3847000 | AC80: =AB80-L80 -> 0 | AD80: =AA80+T80+M80 -> 3847000 | AG80: 1490800 | AJ80: 855300 | AK80: =Z80+Y80+X80+W80+N80+AG80+AJ80+AI80+AH80 -> 3846100 | AL80: =AK80/AD80*100 -> 99.976605 | AQ80: =AK80+AM80+AN80+AO80+AP80 -> 3846100 | AR80: =AQ80/AB80*100 -> 99.976605 | AS80: =AB80-AQ80 -> 900 | AT80: 3091500 | AU80: =AT80+U80 -> 6091500 | AV80: =AK80 -> 3846100 | AW80: =AV80/AU80*100 -> 63.1388 | AX80: =AU80-AV80 -> 2245400 | AY80: =AS80/AB80*100 -> 0.023394853 | AZ80: =AQ80-AO80 -> 3846100
C81: 5.2.01.19.2.06 | I81: Belanja Cetak dan Penggandaan | AC81: =AB81-L81 -> 0 | AQ81: =AK81+AL81+AM81+AN81+AO81+AP81 -> 0 | AS81: =AB81-AQ81 -> 0 | AZ81: =AQ81-AO81 -> 0
C82: 5.2.01.19.2.06.02 | J82: Belanja Penggandaan | L82: 6713000 | M82: 2500000 | N82: 1499925 | Q82: =SUM(N82:P82) -> 1499925 | R82: =Q82/M82*100 -> 59.997 | S82: =M82-Q82 -> 1000075 | T82: 1500000 | U82: =T82+M82 -> 4000000 | V82: =T82+S82 -> 2500075 | W82: 1999900 | AA82: 1000000 | AB82: 6838000 | AC82: =AB82-L82 -> 125000 | AD82: =AA82+T82+M82 -> 5000000 | AG82: 499975 | AJ82: 999950 | AK82: =Z82+Y82+X82+W82+N82+AG82+AJ82+AI82+AH82 -> 4999750 | AL82: =AK82/AD82*100 -> 99.995 | AO82: 1713250 | AQ82: =AK82+AM82+AN82+AO82+AP82 -> 6713000 | AR82: =AQ82/AB82*100 -> 98.17198 | AS82: =AB82-AQ82 -> 125000 | AT82: 3091500 | AU82: =AT82+U82 -> 7091500 | AV82: =AK82 -> 4999750 | AW82: =AV82/AU82*100 -> 70.50342 | AX82: =AU82-AV82 -> 2091750 | AY82: =AS82/AB82*100 -> 1.8280199 | AZ82: =AQ82-AO82 -> 4999750
C83: 5.2.01.19.2.11 | I83: Belanja Makanan dan Minuman | AC83: =AB83-L83 -> 0 | AQ83: =AK83+AL83+AM83+AN83+AO83+AP83 -> 0 | AS83: =AB83-AQ83 -> 0 | AZ83: =AQ83-AO83 -> 0
C84: 5.2.01.19.2.11.02 | J84: Belanja makanan dan minuman rapat | L84: 15000000 | M84: 4200000 | N84: 2937500 | Q84: =SUM(N84:P84) -> 2937500 | R84: =Q84/M84*100 -> 69.940476 | S84: =M84-Q84 -> 1262500 | T84: 5800000 | U84: =T84+M84 -> 10000000 | V84: =T84+S84 -> 7062500 | W84: =875000+2612500 -> 3487500 | AA84: 3000000 | AB84: 20875000 | AC84: =AB84-L84 -> 5875000 | AD84: =AA84+T84+M84 -> 13000000 | AG84: =3575000+2835000 -> 6410000 | AK84: =Z84+Y84+X84+W84+N84+AG84+AJ84+AI84+AH84 -> 12835000 | AL84: =AK84/AD84*100 -> 98.730769 | AO84: 5000000 | AQ84: =AK84+AM84+AN84+AO84+AP84 -> 17835000 | AR84: =AQ84/AB84*100 -> 85.437126 | AS84: =AB84-AQ84 -> 3040000 | AT84: 3091500 | AU84: =AT84+U84 -> 13091500 | AV84: =AK84 -> 12835000 | AW84: =AV84/AU84*100 -> 98.040713 | AX84: =AU84-AV84 -> 256500 | AY84: =AS84/AB84*100 -> 14.562874 | AZ84: =AQ84-AO84 -> 12835000
C85: 5.2.01.19.2.15 | I85: Belanja Perjalanan Dinas | AC85: =AB85-L85 -> 0 | AQ85: =AK85+AL85+AM85+AN85+AO85+AP85 -> 0 | AS85: =AB85-AQ85 -> 0 | AZ85: =AQ85-AO85 -> 0
C86: 5.2.01.19.2.15.01 | J86: Belanja perjalanan dinas dalam daerah | L86: 44440000 | M86: 11000000 | N86: 2270000 | Q86: =SUM(N86:P86) -> 2270000 | R86: =Q86/M86*100 -> 20.636364 | S86: =M86-Q86 -> 8730000 | T86: 13340000 | U86: =T86+M86 -> 24340000 | V86: =T86+S86 -> 22070000 | X86: 8540000 | AA86: 14000000 | AB86: 44440000 | AC86: =AB86-L86 -> 0 | AD86: =AA86+T86+M86 -> 38340000 | AE86: 5230000 | AF86: 0 | AG86: 5130000 | AJ86: 4180000 | AK86: =Z86+Y86+X86+W86+N86+AG86+AJ86+AI86+AH86+5230000 -> 25350000 | AL86: =AK86/AD86*100 -> 66.118936 | AM86: 0 | AQ86: =AK86+AM86+AN86+AO86+AP86 -> 25350000 | AR86: =AQ86/AB86*100 -> 57.043204 | AS86: =AB86-AQ86 -> 19090000 | AT86: 3091500 | AU86: =AT86+U86 -> 27431500 | AV86: =AK86 -> 25350000 | AW86: =AV86/AU86*100 -> 92.412008 | AX86: =AU86-AV86 -> 2081500 | AY86: =AS86/AB86*100 -> 42.956796 | AZ86: =AQ86-AO86 -> 25350000 | BB86: =AS86 -> 19090000
A87: II | C87: 5.2.02 | F87: Program Peningkatan Sarana dan Prasarana Aparatur | L87: =L88+L102+L110+L114+L118 -> 782990000 | M87: =M88+M102+M110+M114+M118 -> 152965500 | N87: =N88+N102+N110+N114+N118 -> 75620400 | O87: =O88+O102+O110+O114+O118 -> 0 | P87: =P88+P102+P110+P114+P118 -> 0 | Q87: =SUM(N87:P87) -> 75620400 | R87: =Q87/M87*100 -> 49.436245 | S87: =M87-Q87 -> 77345100 | T87: =T88+T102+T110+T114+T118 -> 152720500 | U87: =T87+M87 -> 305686000 | V87: =T87+S87 -> 230065600 | W87: =W88+W102+W110+W114+W118 -> 76068150 | X87: =X88+X102+X110+X114+X118 -> 9735000 | Y87: =Y88+Y102+Y110+Y114+Y118 -> 0 | AA87: 348681000 | AB87: =AB88+AB102+AB110+AB114+AB118 -> 740856000 | AC87: =AB87-L87 -> -42134000 | AD87: =AA87+T87+M87 -> 654367000 | AE87: =AE88+AE102+AE110+AE114+AE118 -> 21300000 | AF87: =AF88+AF102+AF110+AF114+AF118 -> 0 | AG87: =AG88+AG102+AG110+AG114+AG118 -> 76975100 | AH87: =AH88+AH102+AH110+AH114+AH118 -> 0 | AI87: =AI88+AI102+AI110+AI114+AI118 -> 0 | AJ87: =AJ88+AJ102+AJ110+AJ114+AJ118 -> 59687000 | AK87: =AK88+AK102+AK110+AK114+AK118 -> 319385650 | AL87: =AK87/AB87*100 -> 43.110355 | AM87: =AM88+AM102+AM110+AM114+AM118 -> 182561000 | AN87: =AN88+AN102+AN110+AN114+AN118 -> 0 | AO87: =AO88+AO102+AO110+AO114+AO118 -> 63573550 | AP87: =AP88+AP102+AP110+AP114+AP118 -> 0 | AQ87: =AK87+AM87+AN87+AO87+AP87 -> 565520200 | AR87: =AQ87/AB87*100 -> 76.33335 | AS87: =AB87-AQ87 -> 175335800 | AT87: 120767500 | AU87: =AT87+U87 -> 426453500 | AV87: =AK87 -> 319385650 | AW87: =AV87/AU87*100 -> 74.893429 | AX87: =AU87-AV87 -> 107067850 | AY87: =AS87/AB87*100 -> 23.66665 | AZ87: =AQ87-AO87 -> 501946650
A88: 6 | C88: 5.2.02.22 | G88: Pemeliharaan rutin/berkala gedung kantor | L88: =SUM(L91:L101) -> 165840000 | M88: =SUM(M91:M101) -> 39311500 | N88: =SUM(N91:N101) -> 26303500 | O88: =SUM(O91:O101) -> 0 | P88: =SUM(P91:P101) -> 0 | Q88: =SUM(N88:P88) -> 26303500 | R88: =Q88/M88*100 -> 66.910446 | S88: =M88-Q88 -> 13008000 | T88: =SUM(T91:T101) -> 39631500 | U88: =T88+M88 -> 78943000 | V88: =T88+S88 -> 52639500 | W88: =SUM(W91:W101) -> 23075000 | X88: =SUM(X91:X101) -> 0 | Y88: =SUM(Y91:Y101) -> 0 | AA88: =SUM(AA91:AA101) -> 47271500 | AB88: =SUM(AB91:AB101) -> 166200000 | AC88: =AB88-L88 -> 360000 | AD88: =AA88+T88+M88 -> 126214500 | AE88: =SUM(AE91:AE101) -> 21300000 | AF88: =SUM(AF91:AF101) -> 0 | AG88: =SUM(AG91:AG101) -> 18544800 | AH88: =SUM(AH91:AH101) -> 0 | AI88: =SUM(AI91:AI101) -> 0 | AJ88: =SUM(AJ91:AJ101) -> 34204850 | AK88: =SUM(AK91:AK101) -> 123428150 | AL88: =AK88/AB88*100 -> 74.264832 | AM88: =SUM(AM91:AM101) -> 0 | AN88: =SUM(AN91:AN101) -> 0 | AO88: =SUM(AO91:AO101) -> 16628300 | AP88: =SUM(AP91:AP101) -> 0 | AQ88: =AK88+AM88+AN88+AO88+AP88 -> 140056450 | AR88: =AQ88/AB88*100 -> 84.269826 | AS88: =AB88-AQ88 -> 26143550 | AT88: =SUM(AT91:AT97) -> 15457500 | AU88: =AT88+U88 -> 94400500 | AV88: =AK88 -> 123428150 | AW88: =AV88/AU88*100 -> 130.74947 | AX88: =AU88-AV88 -> -29027650 | AY88: =AS88/AB88*100 -> 15.730174 | AZ88: =AQ88-AO88 -> 123428150
C89: 5.2.02.22.2 | H89: BELANJA BARANG DAN JASA | AC89: =AB89-L89 -> 0 | AQ89: =AK89+AL89+AM89+AN89+AO89+AP89 -> 0 | AS89: =AB89-AQ89 -> 0 | AZ89: =AQ89-AO89 -> 0
C90: 5.2.02.22.2.01 | I90: Belanja Bahan Pakai Habis | AC90: =AB90-L90 -> 0 | AQ90: =AK90+AL90+AM90+AN90+AO90+AP90 -> 0 | AS90: =AB90-AQ90 -> 0 | AZ90: =AQ90-AO90 -> 0
C91: 5.2.02.22.2.01.03 | J91: Belanja alat listrik dan elektronik ( lampu pijar, battery kering) | L91: 6488000 | M91: 1622000 | N91: 1622000 | Q91: =SUM(N91:P91) -> 1622000 | R91: =Q91/M91*100 -> 100 | S91: =M91-Q91 -> 0 | T91: 1622000 | U91: =T91+M91 -> 3244000 | V91: =T91+S91 -> 1622000 | AA91: 1622000 | AB91: 6488000 | AC91: =AB91-L91 -> 0 | AD91: =AA91+T91+M91 -> 4866000 | AG91: 1622000 | AJ91: 1619500 | AK91: =Z91+Y91+X91+W91+N91+AG91+AJ91+AI91+AH91 -> 4863500 | AL91: =AK91/AD91*100 -> 99.948623 | AO91: 1624500 | AQ91: =AK91+AM91+AN91+AO91+AP91 -> 6488000 | AR91: =AQ91/AB91*100 -> 100 | AS91: =AB91-AQ91 -> 0 | AT91: 3091500 | AU91: =AT91+U91 -> 6335500 | AV91: =AK91 -> 4863500 | AW91: =AV91/AU91*100 -> 76.765843 | AX91: =AU91-AV91 -> 1472000 | AY91: =AS91/AB91*100 -> 0 | AZ91: =AQ91-AO91 -> 4863500
C92: 5.2.02.22.2.01.05 | J92: Belanja peralatan kebersihan dan bahan pembersih | L92: 12742000 | M92: 3185500 | N92: 3185500 | Q92: =SUM(N92:P92) -> 3185500 | R92: =Q92/M92*100 -> 100 | S92: =M92-Q92 -> 0 | T92: 3185500 | U92: =T92+M92 -> 6371000 | V92: =T92+S92 -> 3185500 | AA92: 3185500 | AB92: 12742000 | AC92: =AB92-L92 -> 0 | AD92: =AA92+T92+M92 -> 9556500 | AG92: =3181300+1440000 -> 4621300 | AJ92: 1746800 | AK92: =Z92+Y92+X92+W92+N92+AG92+AJ92+AI92+AH92 -> 9553600 | AL92: =AK92/AD92*100 -> 99.969654 | AO92: =2576900+610900 -> 3187800 | AQ92: =AK92+AM92+AN92+AO92+AP92 -> 12741400 | AR92: =AQ92/AB92*100 -> 99.995291 | AS92: =AB92-AQ92 -> 600 | AT92: 3091500 | AU92: =AT92+U92 -> 9462500 | AV92: =AK92 -> 9553600 | AW92: =AV92/AU92*100 -> 100.96275 | AX92: =AU92-AV92 -> -91100 | AY92: =AS92/AB92*100 -> 0.0047088369 | AZ92: =AQ92-AO92 -> 9553600
C93: 5.2.02.22.2.03 | I93: Belanja Jasa Kantor | AC93: =AB93-L93 -> 0 | AZ93: =AQ93-AO93 -> 0
C94: 5.2.02.22.2.03.14 | J94: Belanja Jasa Tenaga Kerja Non Pegawai | L94: 133000000 | M94: 33280000 | N94: =8300000+13100000 -> 21400000 | Q94: =SUM(N94:P94) -> 21400000 | R94: =Q94/M94*100 -> 64.302885 | S94: =M94-Q94 -> 11880000 | T94: 33240000 | U94: =T94+M94 -> 66520000 | V94: =T94+S94 -> 45120000 | W94: =8500000+13300000 -> 21800000 | AA94: 33240000 | AB94: 133000000 | AC94: =AB94-L94 -> 0 | AD94: =AA94+T94+M94 -> 99760000 | AE94: 21300000 | AF94: 0 | AG94: =4400000+7000000 -> 11400000 | AJ94: =4400000+6700000+4200000+6600000 -> 21900000 | AK94: =Z94+Y94+X94+W94+N94+AG94+AJ94+AI94+AH94+21300000 -> 97800000 | AL94: =AK94/AD94*100 -> 98.035285 | AO94: =4450000+7150000 -> 11600000 | AQ94: =AK94+AM94+AN94+AO94+AP94 -> 109400000 | AR94: =AQ94/AB94*100 -> 82.255639 | AS94: =AB94-AQ94 -> 23600000 | AT94: 3091500 | AU94: =AT94+U94 -> 69611500 | AV94: =AK94 -> 97800000 | AW94: =AV94/AU94*100 -> 140.49403 | AX94: =AU94-AV94 -> -28188500 | AY94: =AS94/AB94*100 -> 17.744361 | AZ94: =AQ94-AO94 -> 97800000
C95: 5.2.02.22.2.05 | I95: Belanja Perawatan Kendaraan Bermotor | AC95: =AB95-L95 -> 0 | AZ95: =AQ95-AO95 -> 0
C96: 5.2.02.22.2.05.01 | J96: Belanja Jasa Service dan Pelumas | L96: 720000 | M96: 0 | Q96: =SUM(N96:P96) -> 0 | S96: =M96-Q96 -> 0 | T96: 360000 | U96: =T96+M96 -> 360000 | V96: =T96+S96 -> 360000 | AA96: 0 | AB96: 720000 | AC96: =AB96-L96 -> 0 | AD96: =AA96+T96+M96 -> 360000 | AJ96: =120000+240000 -> 360000 | AK96: =Z96+Y96+X96+W96+N96+AG96+AJ96+AI96+AH96 -> 360000 | AL96: =AK96/AD96*100 -> 100 | AQ96: =AK96+AM96+AN96+AO96+AP96 -> 360000 | AR96: =AQ96/AB96*100 -> 50 | AS96: =AB96-AQ96 -> 360000 | AT96: 3091500 | AU96: =AT96+U96 -> 3451500 | AV96: =AK96 -> 360000 | AW96: =AV96/AU96*100 -> 10.430248 | AX96: =AU96-AV96 -> 3091500 | AY96: =AS96/AB96*100 -> 50 | AZ96: =AQ96-AO96 -> 360000
C97: 5.2.02.22.2.05.03 | J97: Belanja Bahan Bakar Minyak/Gas | L97: 4050000 | M97: 1014000 | Q97: =SUM(N97:P97) -> 0 | R97: =Q97/M97*100 -> 0 | S97: =M97-Q97 -> 1014000 | T97: 1014000 | U97: =T97+M97 -> 2028000 | V97: =T97+S97 -> 2028000 | W97: =235800+943200+96000 -> 1275000 | AA97: 1014000 | AB97: 4050000 | AC97: =AB97-L97 -> 0 | AD97: =AA97+T97+M97 -> 3042000 | AG97: =117900+471600-96000 -> 493500 | AJ97: =176850+353700 -> 530550 | AK97: =Z97+Y97+X97+W97+N97+AG97+AJ97+AI97+AH97 -> 2299050 | AL97: =AK97/AD97*100 -> 75.576923 | AQ97: =AK97+AM97+AN97+AO97+AP97 -> 2299050 | AR97: =AQ97/AB97*100 -> 56.766667 | AS97: =AB97-AQ97 -> 1750950 | AT97: 3091500 | AU97: =AT97+U97 -> 5119500 | AV97: =AK97 -> 2299050 | AW97: =AV97/AU97*100 -> 44.907706 | AX97: =AU97-AV97 -> 2820450 | AY97: =AS97/AB97*100 -> 43.233333 | AZ97: =AQ97-AO97 -> 2299050
C98: 5.2.02.22.2.20 | I98: Belanja Pemeliharaan | AC98: =AB98-L98 -> 0 | AZ98: =AQ98-AO98 -> 0
C99: 5.2.02.22.2.20.03 | J99: Belanja Pemeliharaan Gedung | L99: 8000000 | M99: 0 | Q99: =SUM(N99:P99) -> 0 | S99: =M99-Q99 -> 0 | T99: 0 | U99: =T99+M99 -> 0 | V99: =T99+S99 -> 0 | AA99: 8000000 | AB99: 8000000 | AC99: =AB99-L99 -> 0 | AD99: =AA99+T99+M99 -> 8000000 | AJ99: 8000000 | AK99: =Z99+Y99+X99+W99+N99+AG99+AJ99+AI99+AH99 -> 8000000 | AL99: =AK99/AD99*100 -> 100 | AQ99: =AK99+AM99+AN99+AO99+AP99 -> 8000000 | AR99: =AQ99/AB99*100 -> 100 | AS99: =AB99-AQ99 -> 0 | AT99: 3091500 | AU99: =AT99+U99 -> 3091500 | AV99: =AK99 -> 8000000 | AW99: =AV99/AU99*100 -> 258.77406 | AX99: =AU99-AV99 -> -4908500 | AY99: =AS99/AB99*100 -> 0 | AZ99: =AQ99-AO99 -> 8000000
C100: 5.2.02.22.2.25 | I100: Belanja Pajak / Retribusi | AC100: =AB100-L100 -> 0 | AZ100: =AQ100-AO100 -> 0
C101: 5.2.02.22.2.25.03 | J101: Belanja Jasa Retribusi Kebersihan Kantor | L101: 840000 | M101: 210000 | N101: 96000 | Q101: =SUM(N101:P101) -> 96000 | R101: =Q101/M101*100 -> 45.714286 | S101: =M101-Q101 -> 114000 | T101: 210000 | U101: =T101+M101 -> 420000 | V101: =T101+S101 -> 324000 | AA101: 210000 | AB101: 1200000 | AC101: =AB101-L101 -> 360000 | AD101: =AA101+T101+M101 -> 630000 | AG101: =216000+96000+96000 -> 408000 | AJ101: 48000 | AK101: =Z101+Y101+X101+W101+N101+AG101+AJ101+AI101+AH101 -> 552000 | AL101: =AK101/AD101*100 -> 87.619048 | AO101: 216000 | AQ101: =AK101+AM101+AN101+AO101+AP101 -> 768000 | AR101: =AQ101/AB101*100 -> 64 | AS101: =AB101-AQ101 -> 432000 | AT101: 3091500 | AU101: =AT101+U101 -> 3511500 | AV101: =AK101 -> 552000 | AW101: =AV101/AU101*100 -> 15.719778 | AX101: =AU101-AV101 -> 2959500 | AY101: =AS101/AB101*100 -> 36 | AZ101: =AQ101-AO101 -> 552000
A102: 7 | C102: 5.2.02.24 | G102: Pemeliharaan rutin/berkala kendaraan dinas/operasional | L102: =SUM(L105:L109) -> 355150000 | M102: =SUM(M105:M109) -> 87904000 | N102: =SUM(N105:N109) -> 40819900 | O102: =SUM(O105:O109) -> 0 | P102: =SUM(P105:P109) -> 0 | Q102: =SUM(N102:P102) -> 40819900 | R102: =Q102/M102*100 -> 46.436908 | S102: =M102-Q102 -> 47084100 | T102: =SUM(T105:T109) -> 96731000 | U102: =T102+M102 -> 184635000 | V102: =T102+S102 -> 143815100 | W102: =SUM(W105:W109) -> 33578150 | X102: =SUM(X105:X109) -> 0 | Y102: =SUM(Y105:Y109) -> 0 | AA102: =SUM(AA105:AA109) -> 81517500 | AB102: =SUM(AB105:AB109) -> 312656000 | AC102: =AB102-L102 -> -42494000 | AD102: =AA102+T102+M102 -> 266152500 | AE102: =SUM(AE105:AE109) -> 0 | AF102: =SUM(AF105:AF109) -> 0 | AG102: =SUM(AG105:AG109) -> 41225300 | AH102: =SUM(AH105:AH109) -> 0 | AI102: =SUM(AI105:AI109) -> 0 | AJ102: =SUM(AJ105:AJ109) -> 25482150 | AK102: =SUM(AK105:AK109) -> 141105500 | AL102: =AK102/AB102*100 -> 45.13123 | AM102: =SUM(AM105:AM109) -> 0 | AN102: =SUM(AN105:AN109) -> 0 | AO102: =SUM(AO105:AO109) -> 24227250 | AP102: =SUM(AP105:AP109) -> 0 | AQ102: =AK102+AM102+AN102+AO102+AP102 -> 165332750 | AR102: =AQ102/AB102*100 -> 52.880082 | AS102: =AB102-AQ102 -> 147323250 | AT102: =SUM(AT105:AT111) -> 430315500 | AU102: =AT102+U102 -> 614950500 | AV102: =AK102 -> 141105500 | AW102: =AV102/AU102*100 -> 22.945831 | AX102: =AU102-AV102 -> 473845000 | AY102: =AS102/AB102*100 -> 47.119918 | AZ102: =AQ102-AO102 -> 141105500
C103: 5.2.02.24.2 | H103: BELANJA BARANG DAN JASA | AC103: =AB103-L103 -> 0 | AQ103: =AK103+AL103+AM103+AN103+AO103+AP103 -> 0 | AS103: =AB103-AQ103 -> 0 | AZ103: =AQ103-AO103 -> 0
C104: 5.2.02.24.2.05 | I104: Belanja Perawatan Kendaraan Bermotor | AC104: =AB104-L104 -> 0 | AQ104: =AK104+AL104+AM104+AN104+AO104+AP104 -> 0 | AS104: =AB104-AQ104 -> 0 | AZ104: =AQ104-AO104 -> 0
...

Sheet rekap REALISASI REKO 
D3: PEMERINTAH KABUPATEN MAGELANG
D4: PERHITUNGAN SERAPAN TAHUN 2018 PERUBAHAN
D5: S/D TRI WULAN IV
A8: NOMOR | C8: REKENING | H8: URAIAN | L8: PAGU ANGGARAN | M8: TRIWULAN I | N8: GU I | O8: RENC II | P8: TU | Q8: JUMLAH | R8: Serapan % | S8: SISA TRI I | T8: ANNGARAN TRI II | U8: JUMLAH ANGGRN SEMUA S/D TRI II | V8: JUMLAH ANGGARAN SISA S/D TRI II | W8: GU II | X8: LS | Y8: TU I spj | Z8: TU II | AA8: TRIWULAN III | AB8: PAGU ANGGARAN PERUBAHAN | AC8: Tambah / ( kurang) | AD8: JUMLAH ANGGARAN S/D TRI III | AE8: LS TRI II | AF8: LS TRI III | AG8: GU III AGUSTUS | AH8: TU AGUSTUS | AI8: TU SEPTEMBER | AJ8: GU IV september | AK8: JUMLAH REALISASI S/D TRI III | AL8: Serapan % | AM8: LS TRI IV | AN8: TU OKTOBER | AO8: GU V | AP8: TU II | AQ8: JUMLAH REALISASI | AR8: Serapan % | AS8: SISA BELUM DIREALISASI | AT8: TRIWULAN III | AU8: JUMLAH ANGGR S/D TRI III | AV8: JMLH REALISASI | AW8: % Serapan | AX8: SISA ANGGARAN | AY8: %
A9: NOMOR | C9: REKENING | H9: URAIAN | L9: PAGU ANGGARAN | M9: TRIWULAN I | N9: GU I | O9: RENC II | P9: TU | Q9: JUMLAH | R9: Serapan % | S9: SISA TRI I | T9: ANNGARAN TRI II | U9: JUMLAH ANGGRN SEMUA S/D TRI II | V9: JUMLAH ANGGARAN SISA S/D TRI II | W9: GU II | X9: LS | Y9: TU I spj | Z9: TU II | AA9: TRIWULAN III | AB9: PAGU ANGGARAN PERUBAHAN | AC9: Tambah / ( kurang) | AD9: JUMLAH ANGGARAN S/D TRI III | AE9: LS TRI II | AF9: LS TRI III | AG9: GU III AGUSTUS | AH9: TU AGUSTUS | AI9: TU SEPTEMBER | AJ9: GU IV september | AK9: JUMLAH REALISASI S/D TRI III | AL9: Serapan % | AM9: LS TRI IV | AN9: TU OKTOBER | AO9: GU V | AP9: TU II | AQ9: JUMLAH REALISASI | AR9: Serapan % | AS9: SISA BELUM DIREALISASI | AT9: TRIWULAN III | AU9: JUMLAH ANGGR S/D TRI III | AV9: JMLH REALISASI | AW9: % Serapan | AX9: SISA ANGGARAN | AY9: % | AZ9: =L9-AM9-AO9 -> #VALUE!
C10: 4.1 | F10: PENDAPATAN | L10: =L12+L13 -> 170500000 | M10: =M12+M13 -> 49086250 | N10: =N12+N13 -> 0 | O10: =O12+O13 -> 0 | P10: =P12+P13 -> 0 | Q10: =Q12+Q13 -> 0 | R10: =R12+R13 -> 0 | S10: =S12+S13 -> 0 | ... AB10: =AB12+AB13 -> 170500000 | AC10: =L10-AB10 -> 0 | AD10: =AD12+AD13 -> 24927800 | AE10: =AE12+AE13 -> 341000000 | AQ10: =AQ11 -> 56745500 | AR10: =AQ10/AB10*100 -> 33.281818 | AS10: =AB10-AQ10 -> 113754500 | AT10: 47279650 | AY10: =AS10/AB10*100 -> 66.718182 | AZ10: =L10-AM10-AO10 -> 170500000
C11: 4.1.00.00.2 | F11: Hasil Retribusi Daerah | L11: 170500000 | M11: 49086250 | T11: 49206300 | AA11: 47279650 | AB11: 170500000 | AC11: =L11-AB11 -> 0 | AD11: 47279650 | AE11: =SUM(M11:AD11) -> 363351850 | AQ11: =AQ12+AQ13 -> 56745500 | AR11: =AQ11/AB11*100 -> 33.281818 | AS11: =AB11-AQ11 -> 113754500 | AT11: 47279650 | AY11: =AS11/AB11*100 -> 66.718182 | AZ11: =L11-AM11-AO11 -> 170500000
C12: 4.1.00.00.2.02.01 | H12: Retribusi Pemakaian Kekayaan Daerah | L12: 33000000 | M12: 9500000 | T12: 9523800 | AA12: 9150900 | AB12: 33000000 | AC12: =L12-AB12 -> 0 | AD12: 4825300 | AE12: =SUM(M12:AD12) -> 66000000 | AQ12: 14277500 | AR12: =AQ12/AB12*100 -> 43.265152 | AS12: =AB12-AQ12 -> 18722500 | AT12: 47279650 | AY12: =AS12/AB12*100 -> 56.734848 | AZ12: =L12-AM12-AO12 -> 33000000
C13: 4.1.00.00.2.03.12 | H13: Pemberian Perpanjangan IMTA kepada Pemberi Kerja Tenaga Kerja Asing - LRA | L13: 137500000 | M13: 39586250 | T13: 39682500 | AA13: 38128750 | AB13: 137500000 | AC13: =L13-AB13 -> 0 | AD13: 20102500 | AE13: =SUM(M13:AD13) -> 275000000 | AQ13: 42468000 | AR13: =AQ13/AB13*100 -> 30.885818 | AS13: =AB13-AQ13 -> 95032000 | AT13: 47279650 | AY13: =AS13/AB13*100 -> 69.114182 | AZ13: =L13-AM13-AO13 -> 137500000
AZ14: =L14-AM14-AO14 -> 0
A15: A | C15: 5.1.00.00.1 | F15: BELANJA PEGAWAI | L15: =L16+L27+L29 -> 6232337000 | M15: =M16+M27+M29 -> 1426763108 | N15: =N16+N27+N29 -> 0 | O15: =O16+O27+O29 -> 0 | P15: =P16+P27+P29 -> 0 | Q15: =Q16+Q27+Q29 -> 0 | R15: =R16+R27+R29 -> 0 | S15: =S16+S27+S29 -> 0 | ... AB15: =AB16+AB27+AB29 -> 6048349000 | AC15: =AB15-L15 -> -183988000 | AD15: =AD16+AD27+AD29 -> 1429688108 | AE15: =AE16+AE27+AE29 -> 0 | AG15: =AG16+AG27+AG29 -> 4389737764 | AK15: =AK16+AK28 -> 4772820928 | AL15: =AB15-AK15 -> 1275528072 | AM15: =AM16+AM28 -> 383083164 | AN15: =AN16+AN28 -> 444161514 | AO15: =AB15-AK15-AM15-AN15 -> 448283394 | AP15: =AO15/AB15*100 -> 7.4116655 | AQ15: =AQ16+AQ27 -> 5537071836 | AR15: =AQ15/AB15*100 -> 91.546831 | AS15: =AB15-AQ15 -> 511277164 | AY15: =AS15/AB15*100 -> 8.453169 | AZ15: =L15-AM15-AO15 -> 5400970442
C16: 5.1.00.00.1.01 | G16: Gaji dan Tunjangan | L16: =SUM(L17:L26) -> 5227012000 | M16: =SUM(M17:M26) -> 1194993108 | N16: =SUM(N17:N26) -> 0 | O16: =SUM(O17:O26) -> 0 | P16: =SUM(P17:P26) -> 0 | Q16: =SUM(Q17:Q26) -> 0 | R16: =SUM(R17:R26) -> 0 | S16: =SUM(S17:S26) -> 0 | ... AB16: =SUM(AB17:AB26) -> 5124904000 | AC16: =AB16-L16 -> -102108000 | AD16: =SUM(AD17:AD26) -> 1194993108 | AE16: =SUM(AE17:AE26) -> 0 | AG16: =SUM(AG17:AG26) -> 3762227664 | AK16: =SUM(AK17:AK26) -> 4084232478 | AL16: =AB16-AK16 -> 1040671522 | AM16: =SUM(AM17:AM26) -> 322004814 | AN16: =SUM(AN17:AN26) -> 322004814 | AO16: =AB16-AK16-AM16-AN16 -> 396661894 | AP16: =AO16/AB16*100 -> 7.7398893 | AQ16: =SUM(AQ17:AQ26) -> 4731821186 | AR16: =AQ16/AB16*100 -> 92.329948 | AS16: =AB16-AQ16 -> 393082814 | AY16: =AS16/AB16*100 -> 7.6700522 | AZ16: =L16-AM16-AO16 -> 4508345292
C17: 5.1.00.00.1.01.01 | H17: Gaji Pokok PNS/Uang Representasi | L17: 4034142000 | M17: 917303358 | T17: 1528838930 | AA17: 917303358 | AB17: 3972577000 | AC17: =AB17-L17 -> -61565000 | AD17: 917303358 | AG17: 2932577088 | AK17: 3181028288 | AL17: =AB17-AK17 -> 791548712 | AM17: 248451200 | AN17: 248451200 | AO17: =AB17-AK17-AM17-AN17 -> 294646312 | AP17: =AO17/AB17*100 -> 7.4170069 | AQ17: 3665442428 | AR17: =AQ17/AB17*100 -> 92.268631 | AS17: =AB17-AQ17 -> 307134572 | AY17: =AS17/AB17*100 -> 7.7313686 | AZ17: =L17-AM17-AO17 -> 3491044488
C18: 5.1.00.00.1.01.02 | H18: Tunjangan Keluarga | L18: 394486000 | M18: 90090000 | T18: 120121000 | AA18: 90090000 | AB18: 371231000 | AC18: =AB18-L18 -> -23255000 | AD18: 90090000 | AG18: 281568622 | AK18: 305077428 | AL18: =AB18-AK18 -> 66153572 | AM18: 23508806 | AN18: 23508806 | AO18: =AB18-AK18-AM18-AN18 -> 19135960 | AP18: =AO18/AB18*100 -> 5.1547312 | AQ18: 349795572 | AR18: =AQ18/AB18*100 -> 94.225852 | AS18: =AB18-AQ18 -> 21435428 | AY18: =AS18/AB18*100 -> 5.7741482 | AZ18: =L18-AM18-AO18 -> 351841234
C19: 5.1.00.00.1.01.03 | H19: Tunjangan Jabatan 1) | L19: 160790000 | M19: 38865000 | T19: 51820000 | AA19: 38865000 | AB19: 148050000 | AC19: =AB19-L19 -> -12740000 | AD19: 38865000 | AG19: 111505000 | AK19: 120840000 | AL19: =AB19-AK19 -> 27210000 | AM19: 9335000 | AN19: 9335000 | AO19: =AB19-AK19-AM19-AN19 -> 8540000 | AP19: =AO19/AB19*100 -> 5.7683215 | AQ19: 139510000 | AR19: =AQ19/AB19*100 -> 94.231678 | AS19: =AB19-AQ19 -> 8540000 | AY19: =AS19/AB19*100 -> 5.7683215 | AZ19: =L19-AM19-AO19 -> 142915000
C20: 5.1.00.00.1.01.04 | H20: Tunjangan Fungsional | L20: 225190000 | M20: 45600000 | T20: 60800000 | AA20: 45600000 | AB20: 225190000 | AC20: =AB20-L20 -> 0 | AD20: 45600000 | AG20: 167530000 | AK20: 182315000 | AL20: =AB20-AK20 -> 42875000 | AM20: 14785000 | AN20: 14785000 | AO20: =AB20-AK20-AM20-AN20 -> 13305000 | AP20: =AO20/AB20*100 -> 5.9083441 | AQ20: 211545000 | AR20: =AQ20/AB20*100 -> 93.940672 | AS20: =AB20-AQ20 -> 13645000 | AY20: =AS20/AB20*100 -> 6.0593277 | AZ20: =L20-AM20-AO20 -> 197100000
C21: 5.1.00.00.1.01.05 | H21: Tunjangan Fungsional Umum | L21: 54581000 | M21: 15867000 | T21: 21156000 | AA21: 15867000 | AB21: 46733000 | AC21: =AB21-L21 -> -7848000 | AD21: 15867000 | AG21: 36510000 | AK21: 39445000 | AL21: =AB21-AK21 -> 7288000 | AM21: 2935000 | AN21: 2935000 | AO21: =AB21-AK21-AM21-AN21 -> 1418000 | AP21: =AO21/AB21*100 -> 3.0342584 | AQ21: 45135000 | AR21: =AQ21/AB21*100 -> 96.580575 | AS21: =AB21-AQ21 -> 1598000 | AY21: =AS21/AB21*100 -> 3.4194252 | AZ21: =L21-AM21-AO21 -> 50228000
C22: 5.1.00.00.1.01.06 | H22: Tunjangan Beras 2) | L22: 195734000 | M22: 49660251 | T22: 49660251 | AA22: 49660251 | AB22: 186079000 | AC22: =AB22-L22 -> -9655000 | AD22: 49660251 | AG22: 125865960 | AK22: 138901560 | AL22: =AB22-AK22 -> 47177440 | AM22: 13035600 | AN22: 13035600 | AO22: =AB22-AK22-AM22-AN22 -> 21106240 | AP22: =AO22/AB22*100 -> 11.342623 | AQ22: 164248560 | AR22: =AQ22/AB22*100 -> 88.268187 | AS22: =AB22-AQ22 -> 21830440 | AY22: =AS22/AB22*100 -> 11.731813 | AZ22: =L22-AM22-AO22 -> 161592160
C23: 5.1.00.00.1.01.07 | H23: Tunjangan PPh/Tunjangan Khusus | L23: 19897000 | M23: 1537500 | T23: 2562500 | AA23: 1537500 | AB23: 19065000 | AC23: =AB23-L23 -> -832000 | AD23: 1537500 | AG23: 14879584 | AK23: 15329751 | AL23: =AB23-AK23 -> 3735249 | AM23: 450167 | AN23: 450167 | AO23: =AB23-AK23-AM23-AN23 -> 2834915 | AP23: =AO23/AB23*100 -> 14.869735 | AQ23: 16154664 | AR23: =AQ23/AB23*100 -> 84.734666 | AS23: =AB23-AQ23 -> 2910336 | AY23: =AS23/AB23*100 -> 15.265334 | AZ23: =L23-AM23-AO23 -> 16611918
C24: 5.1.00.00.1.01.08 | H24: Pembulatan Gaji | L24: 70000 | M24: 15000 | T24: 25000 | AA24: 15000 | AB24: 70000 | AC24: =AB24-L24 -> 0 | AD24: 15000 | AG24: 39861 | AK24: 43458 | AL24: =AB24-AK24 -> 26542 | AM24: 3597 | AN24: 3597 | AO24: =AB24-AK24-AM24-AN24 -> 19348 | AP24: =AO24/AB24*100 -> 27.64 | AQ24: 50472 | AR24: =AQ24/AB24*100 -> 72.102857 | AS24: =AB24-AQ24 -> 19528 | AY24: =AS24/AB24*100 -> 27.897143 | AZ24: =L24-AM24-AO24 -> 47055
C25: 5.1.00.00.1.01.21 | H25: Tunjangan BPJS Kesehatan | L25: 122097000 | M25: 30977499 | T25: 30977499 | AA25: 30977499 | AB25: 113080000 | AC25: =AB25-L25 -> -9017000 | AD25: 30977499 | AG25: 78807875 | AK25: 86966675 | AL25: =AB25-AK25 -> 26113325 | AM25: 8158800 | AN25: 8158800 | AO25: =AB25-AK25-AM25-AN25 -> 9795725 | AP25: =AO25/AB25*100 -> 8.6626503 | AQ25: 102840651 | AR25: =AQ25/AB25*100 -> 90.94504 | AS25: =AB25-AQ25 -> 10239349 | AY25: =AS25/AB25*100 -> 9.0549602 | AZ25: =L25-AM25-AO25 -> 104142475
C26: 5.1.00.00.1.01.22 | H26: Iuran Jaminan Kecelakaan Kerja dan Jaminan Kematian ( JKK JK) | L26: 20025000 | M26: 5077500 | T26: 5077500 | AA26: 5077500 | AB26: 42829000 | AC26: =AB26-L26 -> 22804000 | AD26: 5077500 | AG26: 12943674 | AK26: 14285318 | AL26: =AB26-AK26 -> 28543682 | AM26: 1341644 | AN26: 1341644 | AO26: =AB26-AK26-AM26-AN26 -> 25860394 | AP26: =AO26/AB26*100 -> 60.380569 | AQ26: 37098839 | AR26: =AQ26/AB26*100 -> 86.620839 | AS26: =AB26-AQ26 -> 5730161 | AY26: =AS26/AB26*100 -> 13.379161 | AZ26: =L26-AM26-AO26 -> -7177038
C27: 5.1.00.00.1.02 | G27: Tambahan Penghasilan PNS | L27: 996800000 | M27: 230370000 | T27: 230370000 | AA27: 230370000 | AB27: 914920000 | AC27: =AB27-L27 -> -81880000 | AD27: 230370000 | AG27: 627510100 | AK27: =AK28 -> 688588450 | AL27: =AB27-AK27 -> 226331550 | AM27: =AM28 -> 61078350 | AN27: =AN28 -> 122156700 | AO27: =AB27-AK27-AM27-AN27 -> 43096500 | AP27: =AO27/AB27*100 -> 4.7104118 | AQ27: =AQ28 -> 805250650 | AR27: =AQ27/AB27*100 -> 88.013231 | AS27: =AB27-AQ27 -> 109669350 | AY27: =AS27/AB27*100 -> 11.986769 | AZ27: =L27-AM27-AO27 -> 892625150
C28: 5.1.00.00.1.02.01 | H28: Tambahan Penghasilan berdasarkan beban kerja | L28: 996800000 | M28: 230370000 | T28: 230370000 | AA28: 230370000 | AB28: 914920000 | AC28: =AB28-L28 -> -81880000 | AD28: 230370000 | AG28: 627510100 | AK28: 688588450 | AL28: =AB28-AK28 -> 226331550 | AM28: 61078350 | AN28: =61078350*2 -> 122156700 | AO28: =AB28-AK28-AM28-AN28 -> 43096500 | AP28: =AO28/AB28*100 -> 4.7104118 | AQ28: 805250650 | AR28: =AQ28/AB28*100 -> 88.013231 | AS28: =AB28-AQ28 -> 109669350 | AY28: =AS28/AB28*100 -> 11.986769 | AZ28: =L28-AM28-AO28 -> 892625150
C29: 5.1.00.00.1.06 | G29: Insentif Pemungutan Retribusi Daerah | L29: 8525000 | M29: 1400000 | T29: 1400000 | AA29: 4325000 | AB29: 8525000 | AC29: =AB29-L29 -> 0 | AD29: 4325000 | AG29: 0 | AK29: 0 | AL29: =AB29-AK29 -> 8525000 | AM29: 0 | AN29: 0 | AO29: =AB29-AK29-AM29-AN29 -> 8525000 | AP29: =AO29/AB29*100 -> 100 | AQ29: =AK29+AM29+AN29 -> 0 | AR29: =AQ29/AB29*100 -> 0 | AS29: =AB29-AQ29 -> 8525000 | AY29: =AS29/AB29*100 -> 100 | AZ29: =L29-AM29-AO29 -> 0
C30: 5.1.00.00.1.06.01 | H30: Insentif Pemungutan Retribusi Daerah. | L30: 8525000 | M30: 1400000 | T30: 1400000 | Z30: =322575000-Z351 -> 4809025 | AA30: 4325000 | AB30: 8525000 | AC30: =AB30-L30 -> 0 | AD30: 4325000 | AG30: 0 | AK30: 0 | AL30: =AB30-AK30 -> 8525000 | AM30: 0 | AN30: 0 | AO30: =AB30-AK30-AM30-AN30 -> 8525000 | AP30: =AO30/AB30*100 -> 100 | AQ30: =AK30+AM30+AN30 -> 0 | AR30: =AQ30/AB30*100 -> 0 | AS30: =AB30-AQ30 -> 8525000 | AY30: =AS30/AB30*100 -> 100 | AZ30: =L30-AM30-AO30 -> 0
AG31: =AG33 -> 284145622 | AZ31: =L31-AM31-AO31 -> 0
A32: NOMOR | C32: REKENING | H32: URAIAN | L32: PAGU ANGGARAN | M32: TRIWULAN I | N32: GU I | O32: RENC II | P32: TU | Q32: JUMLAH | R32: Serapan % | S32: SISA TRI I | T32: ANNGARAN TRI II | U32: JUMLAH ANGGRN SEMUA S/D TRI II | V32: JUMLAH ANGGARAN SISA S/D TRI II | W32: GU II | X32: LS | Y32: TU I spj | Z32: TU II | AA32: TRIWULAN III | AB32: PAGU ANGGARAN PERUBAHAN | AC32: Tambah / ( kurang) | AD32: JUMLAH ANGGARAN S/D TRI III | AE32: LS TRI II | AF32: LS TRI III | AG32: GU III AGUSTUS | AH32: TU AGUSTUS | AI32: TU SEPTEMBER | AJ32: GU IV september | AK32: JUMLAH REALISASI S/D TRI III | AL32: Serapan % | AM32: LS TRI IV | AN32: TU OKTOBER | AO32: GU V | AP32: TU II | AQ32: JUMLAH REALISASI | AR32: Serapan % | AS32: SISA BELUM DIREALISASI | AT32: TRIWULAN III | AU32: JUMLAH ANGGR S/D TRI III | AV32: JMLH REALISASI | AW32: % Serapan | AX32: SISA ANGGARAN | AY32: % | AZ32: =L32-AM32-AO32 -> #VALUE!
A33: B | C33: 5.2 | L33: =L34+L87+L122+L136+L154+L192+L270+L290+L416+L443+L548+L635 -> 5320434000 | M33: =M34+M87+M122+M136+M154+M192+M270+M290+M416+M443+M548+M635 -> 811748150 | N33: =N34+N87+N122+N136+N154+N192+N270+N290+N416+N443+N548+N635 -> 279597741 | O33: =O34+O87+O122+O136+O154+O192+O270+O290+O416+O443+O548+O635 -> 0 | P33: =P34+P87+P122+P136+P154+P192+P270+P290+P416+P443+P548+P635 -> 0 | Q33: =SUM(N33:P33) -> 279597741 | R33: =Q33/M33*100 -> 34.443902 | S33: =M33-Q33 -> 532150409 | T33: =T34+T87+T122+T136+T154+T192+T270+T290+T416+T443+T548+T635 -> 1555015250 | U33: =T33+M33 -> 2366763400 | V33: =S33+T33 -> 2087165659 | W33: =W34+W87+W122+W136+W154+W192+W270+W290+W416+W443+W548+W635 -> 314563491 | X33: =X34+X87+X122+X136+X154+X192+X270+X290+X416+X443+X548+X635 -> 242114180 | Y33: =Y34+Y87+Y122+Y136+Y154+Y192+Y270+Y290+Y416+Y443+Y548+Y635 -> 141408250 | Z33: =Z34+Z87+Z122+Z136+Z154+Z192+Z270+Z290+Z416+Z443+Z548+Z635 -> 475953975 | AA33: =AA34+AA87+AA122+AA136+AA154+AA192+AA270+AA290+AA416+AA443+AA548+AA635 -> 1821270600 | AB33: =AB34+AB87+AB122+AB136+AB154+AB192+AB270+AB290+AB416+AB443+AB548+AB635 -> 5229995000 | AC33: =L33-AB33 -> 90439000 | AD33: =M33+T33+AA33 -> 4188034000 | AE33: =AE34+AE87+AE122+AE136+AE154+AE192+AE270+AE290+AE416+AE443+AE548+AE635 -> 199628400 | AF33: =AF34+AF87+AF122+AF136+AF154+AF192+AF270+AF290+AF416+AF443+AF548+AF635 -> 265923400 | AG33: =AG34+AG87+AG122+AG136+AG154+AG192+AG270+AG290+AG416+AG443+AG548+AG635 -> 284145622 | AH33: =AH34+AH87+AH122+AH136+AH154+AH192+AH270+AH290+AH416+AH443+AH548+AH635 -> 388838175 | AI33: =AI34+AI87+AI122+AI136+AI154+AI192+AI270+AI290+AI416+AI443+AI548+AI635 -> 0 | AJ33: =AJ34+AJ87+AJ122+AJ136+AJ154+AJ192+AJ270+AJ290+AJ416+AJ443+AJ548+AJ635 -> 320151262 | AK33: =AK34+AK87+AK122+AK136+AK154+AK192+AK270+AK290+AK416+AK443+AK548+AK635 -> 2910950496 | AL33: =AK33/AB33*100 -> 55.658763 | AM33: =AM34+AM87+AM122+AM136+AM154+AM192+AM270+AM290+AM416+AM443+AM548+AM635 -> 757631400 | AN33: =AN34+AN87+AN122+AN136+AN154+AN192+AN270+AN290+AN416+AN443+AN548+AN635 -> 195851725 | AO33: =AO34+AO87+AO122+AO136+AO154+AO192+AO270+AO290+AO416+AO443+AO548+AO635 -> 239689962 | AP33: =AP34+AP87+AP122+AP136+AP154+AP192+AP270+AP290+AP416+AP443+AP548+AP635 -> 336272900 | AQ33: =AK33+AM33+AN33+AO33+AP33 -> 4440396483 | AR33: =AQ33/AB33*100 -> 84.9025 | AS33: =AB33-AQ33 -> 789598517 | AT33: =AT34+AT87+AT122+AT136+AT154+AT192+AT270+AT290+AT416+AT443+AT548+AT635 -> 1449210000 | AU33: =AT33+U33 -> 3815973400 | AV33: =AK33 -> 2910950496 | AW33: =AV33/AU33*100 -> 76.283302 | AX33: =AU33-AV33 -> 905022904 | AY33: =AS33/AB33*100 -> 15.0975 | AZ33: =L33-AM33-AO33 -> 4323112638
A34: I | C34: 5.2.01 | F34: Program Pelayanan Administrasi Perkantoran | L34: =L35+L45+L53+L69+L77 -> 410000000 | M34: =M35+M45+M53+M69+M77 -> 107725000 | N34: =N35+N45+N53+N69+N77 -> 62203336 | O34: =O35+O45+O53+O69+O77 -> 0 | P34: =P35+P45+P53+P69+P77 -> 0 | Q34: =SUM(N34:P34) -> 62203336 | R34: =Q34/M34*100 -> 57.742712 | S34: =M34-Q34 -> 45521664 | T34: =T35+T45+T53+T69+T77 -> 113114500 | U34: =T34+M34 -> 220839500 | V34: =T34+S34 -> 158636164 | W34: =W35+W45+W53+W69+W77 -> 52002991 | X34: =X35+X45+X53+X69+X77 -> 43427980 | Y34: =Y35+Y45+Y53+Y69+Y77 -> 0 | Z34: =Z35+Z45+Z53+Z69+Z77 -> 0 | AA34: 120767500 | AB34: =AB35+AB45+AB53+AB69+AB77 -> 403500000 | AC34: =AB34-L34 -> -6500000 | AD34: =AA34+T34+M34 -> 341607000 | AE34: =AE35+AE45+AE53+AE69+AE77 -> 9842400 | AF34: =AF35+AF45+AF53+AF69+AF77 -> 0 | AG34: =AG35+AG45+AG53+AG69+AG77 -> 59899897 | AH34: =AH35+AH45+AH53+AH69+AH77 -> 0 | AI34: =AI35+AI45+AI53+AI69+AI77 -> 0 | AJ34: =AJ35+AJ45+AJ53+AJ69+AJ77 -> 41523827 | AK34: =AK35+AK45+AK53+AK69+AK77 -> 268900431 | AL34: =AK34/AB34*100 -> 66.64199 | AM34: =AM35+AM45+AM53+AM69+AM77 -> 0 | AN34: =AN35+AN45+AN53+AN69+AN77 -> 0 | AO34: =AO35+AO45+AO53+AO69+AO77 -> 60439462 | AP34: =AP35+AP45+AP53+AP69+AP77 -> 0 | AQ34: =AK34+AM34+AN34+AO34+AP34 -> 329339893 | AR34: =AQ34/AB34*100 -> 81.620791 | AS34: =AB34-AQ34 -> 74160107 | AT34: 120767500 | AU34: =AT34+U34 -> 341607000 | AV34: =AK34 -> 268900431 | AW34: =AV34/AU34*100 -> 78.716312 | AX34: =AU34-AV34 -> 72706569 | AY34: =AS34/AB34*100 -> 18.379209 | AZ34: =L34-AM34-AO34 -> 349560538
A35: 1 | C35: 5.2.01.01 | G35: Penyediaan jasa surat menyurat | L35: =SUM(L38:L44) -> 40000000 | M35: =SUM(M38:M44) -> 20558000 | N35: =SUM(N38:N44) -> 7140925 | O35: =SUM(O38:O44) -> 0 | P35: =SUM(P38:P44) -> 0 | Q35: =SUM(N35:P35) -> 7140925 | R35: =Q35/M35*100 -> 34.735504 | S35: =M35-Q35 -> 13417075 | T35: =SUM(T38:T44) -> 10011500 | U35: =T35+M35 -> 30569500 | V35: =T35+S35 -> 23428575 | W35: =SUM(W38:W44) -> 15889125 | X35: =SUM(X38:X44) -> 0 | Y35: =SUM(Y38:Y44) -> 0 | AA35: =SUM(AA38:AA44) -> 5761500 | AB35: =SUM(AB38:AB44) -> 40000000 | AC35: =AB35-L35 -> 0 | AD35: =AA35+T35+M35 -> 36331000 | AE35: =SUM(AE38:AE44) -> 1150000 | AF35: =SUM(AF38:AF44) -> 0 | AG35: =SUM(AG38:AG44) -> 6085600 | AH35: =SUM(AH38:AH44) -> 0 | AI35: =SUM(AI38:AI44) -> 0 | AJ35: =SUM(AJ38:AJ44) -> 5614725 | AK35: =SUM(AK38:AK44) -> 35880375 | AL35: =AK35/AB35*100 -> 89.700937 | AM35: =SUM(AM38:AM44) -> 0 | AN35: =SUM(AN38:AN44) -> 0 | AO35: =SUM(AO38:AO44) -> 4099175 | AP35: =SUM(AP38:AP44) -> 0 | AQ35: =AK35+AM35+AN35+AO35+AP35 -> 39979550 | AR35: =AQ35/AB35*100 -> 99.948875 | AS35: =AB35-AQ35 -> 20450 | AT35: =SUM(AT38:AT44) -> 15457500 | AU35: =AT35+U35 -> 46027000 | AV35: =AK35 -> 35880375 | AW35: =AV35/AU35*100 -> 77.955059 | AX35: =AU35-AV35 -> 10146625 | AY35: =AS35/AB35*100 -> 0.051125 | AZ35: =AQ35-AO35 -> 35880375 | BA35: =AS35 -> 20450
C36: 5.2.01.01.2 | H36: BELANJA BARANG DAN JASA | AC36: =AB36-L36 -> 0 | AQ36: =AQ35-AO35 -> 35880375 | AZ36: =AQ36-AO36 -> 35880375
C37: 5.2.01.01.2.01 | I37: Belanja Bahan Pakai Habis | AC37: =AB37-L37 -> 0 | AZ37: =AQ37-AO37 -> 0
C38: 5.2.01.01.2.01.01 | J38: Belanja alat tulis kantor | L38: 16366000 | M38: 6183000 | N38: 4091500 | Q38: =SUM(N38:P38) -> 4091500 | R38: =Q38/M38*100 -> 66.173379 | S38: =M38-Q38 -> 2091500 | T38: 7091500 | U38: =T38+M38 -> 13274500 | V38: =T38+S38 -> 9183000 | W38: 4906700 | AA38: 3091500 | AB38: 16366000 | AC38: =AB38-L38 -> 0 | AD38: =AA38+T38+M38 -> 16366000 | AG38: 4246600 | AJ38: 3120800 | AK38: =Z38+Y38+X38+W38+N38+AG38+AJ38+AI38+AH38 -> 16365600 | AQ38: =AK38+AM38+AN38+AO38+AP38 -> 16365600 | AR38: =AQ38/AB38*100 -> 99.997556 | AS38: =AB38-AQ38 -> 400 | AT38: 3091500 | AU38: =AT38+U38 -> 16366000 | AV38: =AK38 -> 16365600 | AW38: =AV38/AU38*100 -> 99.997556 | AX38: =AU38-AV38 -> 400 | AY38: =AS38/AB38*100 -> 0.0024440914 | AZ38: =AQ38-AO38 -> 16365600
C39: 5.2.01.01.2.01.04 | J39: Belanja perangko, materai dan benda pos lainnya | L39: 840000 | M39: 840000 | N39: =330000+99500 -> 429500 | Q39: =SUM(N39:P39) -> 429500 | R39: =Q39/M39*100 -> 51.130952 | S39: =M39-Q39 -> 410500 | T39: 0 | U39: =T39+M39 -> 840000 | V39: =T39+S39 -> 410500 | W39: 117500 | AA39: 0 | AB39: 840000 | AC39: =AB39-L39 -> 0 | AD39: =AA39+T39+M39 -> 840000 | AG39: 89000 | AJ39: 204000 | AK39: =Z39+Y39+X39+W39+N39+AG39+AJ39+AI39+AH39 -> 840000 | AL39: =AK39/AD39*100 -> 100 | AQ39: =AK39+AM39+AN39+AO39+AP39 -> 840000 | AR39: =AQ39/AB39*100 -> 100 | AS39: =AB39-AQ39 -> 0 | AT39: 3091500 | AU39: =AT39+U39 -> 3931500 | AV39: =AK39 -> 840000 | AW39: =AV39/AU39*100 -> 21.365891 | AX39: =AU39-AV39 -> 3091500 | AY39: =AS39/AB39*100 -> 0 | AZ39: =AQ39-AO39 -> 840000
C40: 5.2.01.01.2.06 | I40: Belanja Cetak dan Penggandaan | AC40: =AB40-L40 -> 0 | AZ40: =AQ40-AO40 -> 0
C41: 5.2.01.01.2.06.01 | J41: Belanja Cetak | L41: 9365000 | M41: 9365000 | Q41: =SUM(N41:P41) -> 0 | R41: =Q41/M41*100 -> 0 | S41: =M41-Q41 -> 9365000 | T41: 0 | U41: =T41+M41 -> 9365000 | V41: =T41+S41 -> 9365000 | W41: 9365000 | AA41: 0 | AB41: 9365000 | AC41: =AB41-L41 -> 0 | AD41: =AA41+T41+M41 -> 9365000 | AG41: 0 | AK41: =Z41+Y41+X41+W41+N41+AG41+AJ41+AI41+AH41 -> 9365000 | AL41: =AK41/AD41*100 -> 100 | AQ41: =AK41+AM41+AN41+AO41+AP41 -> 9365000 | AR41: =AQ41/AB41*100 -> 100 | AS41: =AB41-AQ41 -> 0 | AT41: 3091500 | AU41: =AT41+U41 -> 12456500 | AV41: =AK41 -> 9365000 | AW41: =AV41/AU41*100 -> 75.181632 | AX41: =AU41-AV41 -> 3091500 | AY41: =AS41/AB41*100 -> 0 | AZ41: =AQ41-AO41 -> 9365000
C42: 5.2.01.01.2.06.02 | J42: Belanja Penggandaan | L42: 8749000 | M42: 3000000 | N42: 1499925 | Q42: =SUM(N42:P42) -> 1499925 | R42: =Q42/M42*100 -> 49.9975 | S42: =M42-Q42 -> 1500075 | T42: 1750000 | U42: =T42+M42 -> 4750000 | V42: =T42+S42 -> 3250075 | W42: 1499925 | AA42: 1500000 | AB42: 8749000 | AC42: =AB42-L42 -> 0 | AD42: =AA42+T42+M42 -> 6250000 | AG42: 1750000 | AJ42: 1499925 | AK42: =Z42+Y42+X42+W42+N42+AG42+AJ42+AI42+AH42 -> 6249775 | AL42: =AK42/AD42*100 -> 99.9964 | AO42: =1499225+999950 -> 2499175 | AQ42: =AK42+AM42+AN42+AO42+AP42 -> 8748950 | AR42: =AQ42/AB42*100 -> 99.999429 | AS42: =AB42-AQ42 -> 50 | AT42: 3091500 | AU42: =AT42+U42 -> 7841500 | AV42: =AK42 -> 6249775 | AW42: =AV42/AU42*100 -> 79.701269 | AX42: =AU42-AV42 -> 1591725 | AY42: =AS42/AB42*100 -> 0.00057149389 | AZ42: =AQ42-AO42 -> 6249775
C43: 5.2.01.01.2.15 | I43: Belanja Perjalanan Dinas | AC43: =AB43-L43 -> 0 | AQ43: =AK43+AL43+AM43+AN43+AO43+AP43 -> 0 | AZ43: =AQ43-AO43 -> 0
C44: 5.2.01.01.2.15.01 | J44: Belanja perjalanan dinas dalam daerah | L44: 4680000 | M44: 1170000 | N44: 1120000 | Q44: =SUM(N44:P44) -> 1120000 | R44: =Q44/M44*100 -> 95.726496 | S44: =M44-Q44 -> 50000 | T44: 1170000 | U44: =T44+M44 -> 2340000 | V44: =T44+S44 -> 1220000 | AA44: 1170000 | AB44: 4680000 | AC44: =AB44-L44 -> 0 | AD44: =AA44+T44+M44 -> 3510000 | AE44: 1150000 | AF44: 0 | AG44: 0 | AJ44: 790000 | AK44: =Z44+Y44+X44+W44+N44+AG44+AJ44+AI44+AH44+1150000 -> 3060000 | AL44: =AK44/AD44*100 -> 87.179487 | AO44: 1600000 | AQ44: =AK44+AM44+AN44+AO44+AP44 -> 4660000 | AR44: =AQ44/AB44*100 -> 99.57265 | AS44: =AB44-AQ44 -> 20000 | AT44: 3091500 | AU44: =AT44+U44 -> 5431500 | AV44: =AK44 -> 3060000 | AW44: =AV44/AU44*100 -> 56.338028 | AX44: =AU44-AV44 -> 2371500 | AY44: =AS44/AB44*100 -> 0.42735043 | AZ44: =AQ44-AO44 -> 3060000
A45: 2 | C45: 5.2.01.02 | G45: Penyediaan jasa komunikasi, sumber daya air dan listrik | L45: =SUM(L48:L52) -> 110000000 | M45: =SUM(M48:M52) -> 27501000 | N45: =SUM(N48:N52) -> 13012446 | O45: =SUM(O48:O52) -> 0 | P45: =SUM(P48:P52) -> 0 | Q45: =SUM(N45:P45) -> 13012446 | R45: =Q45/M45*100 -> 47.316265 | S45: =M45-Q45 -> 14488554 | T45: =SUM(T48:T52) -> 27501000 | U45: =T45+M45 -> 55002000 | V45: =T45+S45 -> 41989554 | W45: =SUM(W48:W52) -> 20696341 | X45: =SUM(X48:X52) -> 0 | Y45: =SUM(Y48:Y52) -> 0 | AA45: 27501000 | AB45: =SUM(AB48:AB52) -> 97500000 | AC45: =AB45-L45 -> -12500000 | AD45: =AA45+T45+M45 -> 82503000 | AE45: =SUM(AE48:AE52) -> 0 | AF45: =SUM(AF48:AF52) -> 0 | AG45: =SUM(AG48:AG52) -> 20569647 | AH45: =SUM(AH48:AH52) -> 0 | AI45: =SUM(AI48:AI52) -> 0 | AJ45: =SUM(AJ48:AJ52) -> 6353822 | AK45: =SUM(AK48:AK52) -> 60632256 | AL45: =AK45/AB45*100 -> 62.186929 | AM45: =SUM(AM48:AM52) -> 0 | AN45: =SUM(AN48:AN52) -> 0 | AO45: =SUM(AO48:AO52) -> 14513137 | AP45: =SUM(AP48:AP52) -> 0 | AQ45: =AK45+AM45+AN45+AO45+AP45 -> 75145393 | AR45: =AQ45/AB45*100 -> 77.072198 | AS45: =AB45-AQ45 -> 22354607 | AT45: =SUM(AT48:AT54) -> 27823500 | AU45: =AT45+U45 -> 82825500 | AV45: =AK45 -> 60632256 | AW45: =AV45/AU45*100 -> 73.204817 | AX45: =AU45-AV45 -> 22193244 | AY45: =AS45/AB45*100 -> 22.927802 | AZ45: =AQ45-AO45 -> 60632256
C46: 5.2.01.02.2 | H46: BELANJA BARANG DAN JASA | AC46: =AB46-L46 -> 0 | AQ46: =AK46+AL46+AM46+AN46+AO46+AP46 -> 0 | AS46: =AB46-AQ46 -> 0 | AZ46: =AQ46-AO46 -> 0
C47: 5.2.01.02.2.03 | I47: Belanja Jasa Kantor | AC47: =AB47-L47 -> 0 | AQ47: =AK47+AL47+AM47+AN47+AO47+AP47 -> 0 | AS47: =AB47-AQ47 -> 0 | AZ47: =AQ47-AO47 -> 0
C48: 5.2.01.02.2.03.01 | J48: Belanja telepon | L48: 14720000 | M48: 3681000 | N48: 1016899 | Q48: =SUM(N48:P48) -> 1016899 | R48: =Q48/M48*100 -> 27.625618 | S48: =M48-Q48 -> 2664101 | T48: 3681000 | U48: =T48+M48 -> 7362000 | V48: =T48+S48 -> 6345101 | W48: =931843+501158 -> 1433001 | AA48: 3681000 | AB48: 9600000 | AC48: =AB48-L48 -> -5120000 | AD48: =AA48+T48+M48 -> 11043000 | AG48: =806206+482299 -> 1288505 | AJ48: 348224 | AK48: =Z48+Y48+X48+W48+N48+AG48+AJ48+AI48+AH48 -> 4086629 | AL48: =AK48/AD48*100 -> 37.006511 | AO48: =510228 -> 510228 | AQ48: =AK48+AM48+AN48+AO48+AP48 -> 4596857 | AR48: =AQ48/AB48*100 -> 47.883927 | AS48: =AB48-AQ48 -> 5003143 | AT48: 3091500 | AU48: =AT48+U48 -> 10453500 | AV48: =AK48 -> 4086629 | AW48: =AV48/AU48*100 -> 39.093404 | AX48: =AU48-AV48 -> 6366871 | AY48: =AS48/AB48*100 -> 52.116073 | AZ48: =AQ48-AO48 -> 4086629
C49: 5.2.01.02.2.03.02 | J49: Belanja air | L49: 10800000 | M49: 2700000 | N49: 1445050 | Q49: =SUM(N49:P49) -> 1445050 | R49: =Q49/M49*100 -> 53.52037 | S49: =M49-Q49 -> 1254950 | T49: 2700000 | U49: =T49+M49 -> 5400000 | V49: =T49+S49 -> 3954950 | W49: =1481700+688850 -> 2170550 | AA49: 2700000 | AB49: 9600000 | AC49: =AB49-L49 -> -1200000 | AD49: =AA49+T49+M49 -> 8100000 | AG49: =1094300+672100 -> 1766400 | AJ49: 399400 | AK49: =Z49+Y49+X49+W49+N49+AG49+AJ49+AI49+AH49 -> 5781400 | AL49: =AK49/AD49*100 -> 71.375309 | AO49: =1207850 -> 1207850 | AQ49: =AK49+AM49+AN49+AO49+AP49 -> 6989250 | AR49: =AQ49/AB49*100 -> 72.804688 | AS49: =AB49-AQ49 -> 2610750 | AT49: 3091500 | AU49: =AT49+U49 -> 8491500 | AV49: =AK49 -> 5781400 | AW49: =AV49/AU49*100 -> 68.084555 | AX49: =AU49-AV49 -> 2710100 | AY49: =AS49/AB49*100 -> 27.195312 | AZ49: =AQ49-AO49 -> 5781400
C50: 5.2.01.02.2.03.03 | J50: Belanja listrik | L50: 58800000 | M50: 14700000 | N50: 8098647 | Q50: =SUM(N50:P50) -> 8098647 | R50: =Q50/M50*100 -> 55.092837 | S50: =M50-Q50 -> 6601353 | T50: 14700000 | U50: =T50+M50 -> 29400000 | V50: =T50+S50 -> 21301353 | W50: =8666744+4929971 -> 13596715 | AA50: 14700000 | AB50: 56400000 | AC50: =AB50-L50 -> -2400000 | AD50: =AA50+T50+M50 -> 44100000 | AG50: =9141706+4987536 -> 14129242 | AJ50: 4461198 | AK50: =Z50+Y50+X50+W50+N50+AG50+AJ50+AI50+AH50 -> 40285802 | AL50: =AK50/AD50*100 -> 91.351025 | AO50: =10505059 -> 10505059 | AQ50: =AK50+AM50+AN50+AO50+AP50 -> 50790861 | AR50: =AQ50/AB50*100 -> 90.054718 | AS50: =AB50-AQ50 -> 5609139 | AT50: 3091500 | AU50: =AT50+U50 -> 32491500 | AV50: =AK50 -> 40285802 | AW50: =AV50/AU50*100 -> 123.98874 | AX50: =AU50-AV50 -> -7794302 | AY50: =AS50/AB50*100 -> 9.9452819 | AZ50: =AQ50-AO50 -> 40285802
C51: 5.2.01.02.2.03.05 | J51: Belanja surat kabar/majalah | L51: 2880000 | M51: 720000 | N51: =95000+220000 -> 315000 | Q51: =SUM(N51:P51) -> 315000 | R51: =Q51/M51*100 -> 43.75 | S51: =M51-Q51 -> 405000 | T51: 720000 | U51: =T51+M51 -> 1440000 | V51: =T51+S51 -> 1125000 | W51: =190000+220000 -> 410000 | AA51: 720000 | AB51: 2700000 | AC51: =AB51-L51 -> -180000 | AD51: =AA51+T51+M51 -> 2160000 | AG51: =220000+190000+110000+95000 -> 615000 | AJ51: =95000+110000 -> 205000 | AK51: =Z51+Y51+X51+W51+N51+AG51+AJ51+AI51+AH51 -> 1545000 | AL51: =AK51/AD51*100 -> 71.527778 | AO51: =410000 -> 410000 | AQ51: =AK51+AM51+AN51+AO51+AP51 -> 1955000 | AR51: =AQ51/AB51*100 -> 72.407407 | AS51: =AB51-AQ51 -> 745000 | AT51: 3091500 | AU51: =AT51+U51 -> 4531500 | AV51: =AK51 -> 1545000 | AW51: =AV51/AU51*100 -> 34.094671 | AX51: =AU51-AV51 -> 2986500 | AY51: =AS51/AB51*100 -> 27.592593 | AZ51: =AQ51-AO51 -> 1545000
C52: 5.2.01.02.2.03.06 | J52: Belanja kawat/faksimili/internet/TV Berbayar | L52: 22800000 | M52: 5700000 | N52: 2136850 | Q52: =SUM(N52:P52) -> 2136850 | R52: =Q52/M52*100 -> 37.488596 | S52: =M52-Q52 -> 3563150 | T52: 5700000 | U52: =T52+M52 -> 11400000 | V52: =T52+S52 -> 9263150 | W52: =2128600+957475 -> 3086075 | AA52: 5700000 | AB52: 19200000 | AC52: =AB52-L52 -> -3600000 | AD52: =AA52+T52+M52 -> 17100000 | AG52: =1847000+923500 -> 2770500 | AJ52: 940000 | AK52: =Z52+Y52+X52+W52+N52+AG52+AJ52+AI52+AH52 -> 8933425 | AL52: =AK52/AD52*100 -> 52.242251 | AO52: 1880000 | AQ52: =AK52+AM52+AN52+AO52+AP52 -> 10813425 | AR52: =AQ52/AB52*100 -> 56.319922 | AS52: =AB52-AQ52 -> 8386575 | AT52: 3091500 | AU52: =AT52+U52 -> 14491500 | AV52: =AK52 -> 8933425 | AW52: =AV52/AU52*100 -> 61.645965 | AX52: =AU52-AV52 -> 5558075 | AY52: =AS52/AB52*100 -> 43.680078 | AZ52: =AQ52-AO52 -> 8933425
A53: 3 | C53: 5.2.01.07 | G53: Penyediaan jasa administrasi keuangan | L53: =SUM(L56:L68) -> 70000000 | M53: =SUM(M56:M68) -> 19590000 | N53: =SUM(N56:N68) -> 17365825 | O53: =SUM(O56:O68) -> 0 | P53: =SUM(P56:P68) -> 0 | Q53: =SUM(N53:P53) -> 17365825 | R53: =Q53/M53*100 -> 88.646376 | S53: =M53-Q53 -> 2224175 | T53: =SUM(T56:T68) -> 18646000 | U53: =T53+M53 -> 38236000 | V53: =T53+S53 -> 20870175 | W53: =SUM(W56:W68) -> 9930125 | X53: =SUM(X56:X68) -> 0 | Y53: =SUM(Y56:Y68) -> 0 | AA53: =SUM(AA56:AA68) -> 19350000 | AB53: =SUM(AB56:AB68) -> 70000000 | AC53: =AB53-L53 -> 0 | AD53: =AA53+T53+M53 -> 57586000 | AE53: =SUM(AE56:AE68) -> 0 | AF53: =SUM(AF56:AF68) -> 0 | AG53: =SUM(AG56:AG68) -> 18824525 | AH53: =SUM(AH56:AH68) -> 0 | AI53: =SUM(AI56:AI68) -> 0 | AJ53: =SUM(AJ56:AJ68) -> 7374150 | AK53: =SUM(AK56:AK68) -> 53494625 | AL53: =AK53/AB53*100 -> 76.420893 | AM53: =SUM(AM56:AM68) -> 0 | AN53: =SUM(AN56:AN68) -> 0 | AO53: =SUM(AO56:AO68) -> 10466500 | AP53: =SUM(AP56:AP68) -> 0 | AQ53: =AK53+AM53+AN53+AO53+AP53 -> 63961125 | AR53: =AQ53/AB53*100 -> 91.373036 | AS53: =AB53-AQ53 -> 6038875 | AT53: =SUM(AT56:AT62) -> 12366000 | AU53: =AT53+U53 -> 50602000 | AV53: =AK53 -> 53494625 | AW53: =AV53/AU53*100 -> 105.71642 | AX53: =AU53-AV53 -> -2892625 | AY53: =AS53/AB53*100 -> 8.6269643 | AZ53: =AQ53-AO53 -> 53494625
C54: 5.2.01.07.1 | H54: BELANJA PEGAWAI | AC54: =AB54-L54 -> 0 | AZ54: =AQ54-AO54 -> 0
C55: 5.2.01.07.1.01 | I55: Honorarium PNS | AC55: =AB55-L55 -> 0 | AZ55: =AQ55-AO55 -> 0
C56: 5.2.01.07.1.01.03 | J56: Honorarium Pengelola Keuangan SKPD | L56: 31200000 | M56: 7800000 | N56: 7800000 | Q56: =SUM(N56:P56) -> 7800000 | R56: =Q56/M56*100 -> 100 | S56: =M56-Q56 -> 0 | T56: 7800000 | U56: =T56+M56 -> 15600000 | V56: =T56+S56 -> 7800000 | W56: 5200000 | AA56: 7800000 | AB56: 31200000 | AC56: =AB56-L56 -> 0 | AD56: =AA56+T56+M56 -> 23400000 | AG56: =2600000+2600000+2600000 -> 7800000 | AJ56: 2600000 | AK56: =Z56+Y56+X56+W56+N56+AG56+AJ56+AI56+AH56 -> 23400000 | AL56: =AK56/AD56*100 -> 100 | AO56: 5200000 | AQ56: =AK56+AM56+AN56+AO56+AP56 -> 28600000 | AR56: =AQ56/AB56*100 -> 91.666667 | AS56: =AB56-AQ56 -> 2600000 | AT56: 3091500 | AU56: =AT56+U56 -> 18691500 | AV56: =AK56 -> 23400000 | AW56: =AV56/AU56*100 -> 125.19059 | AX56: =AU56-AV56 -> -4708500 | AY56: =AS56/AB56*100 -> 8.3333333 | AZ56: =AQ56-AO56 -> 23400000
C57: 5.2.01.07.1.03. | I57: Uang Lembur | AC57: =AB57-L57 -> 0 | AZ57: =AQ57-AO57 -> 0
C58: 5.2.01.07.1.03.01 | J58: Uang Lembur PNS | L58: 12064000 | M58: 2200000 | N58: 2069500 | Q58: =SUM(N58:P58) -> 2069500 | R58: =Q58/M58*100 -> 94.068182 | S58: =M58-Q58 -> 130500 | T58: 4600000 | U58: =T58+M58 -> 6800000 | V58: =T58+S58 -> 4730500 | W58: 2534000 | AA58: 3000000 | AB58: 12064000 | AC58: =AB58-L58 -> 0 | AD58: =AA58+T58+M58 -> 9800000 | AG58: =2196000+2944000 -> 5140000 | AK58: =Z58+Y58+X58+W58+N58+AG58+AJ58+AI58+AH58 -> 9743500 | AL58: =AK58/AD58*100 -> 99.423469 | AO58: 2298500 | AQ58: =AK58+AM58+AN58+AO58+AP58 -> 12042000 | AR58: =AQ58/AB58*100 -> 99.817639 | AS58: =AB58-AQ58 -> 22000 | AT58: 3091500 | AU58: =AT58+U58 -> 9891500 | AV58: =AK58 -> 9743500 | AW58: =AV58/AU58*100 -> 98.503766 | AX58: =AU58-AV58 -> 148000 | AY58: =AS58/AB58*100 -> 0.18236074 | AZ58: =AQ58-AO58 -> 9743500
C59: 5.2.01.07.2 | H59: BELANJA BARANG DAN JASA | AC59: =AB59-L59 -> 0 | AQ59: =AK59+AL59+AM59+AN59+AO59+AP59 -> 0 | AS59: =AB59-AQ59 -> 0 | AZ59: =AQ59-AO59 -> 0
C60: 5.2.01.07.2.01 | I60: Belanja Bahan Pakai Habis | AC60: =AB60-L60 -> 0 | AQ60: =AK60+AL60+AM60+AN60+AO60+AP60 -> 0 | AS60: =AB60-AQ60 -> 0 | AZ60: =AQ60-AO60 -> 0
C61: 5.2.01.07.2.01.01 | J61: Belanja alat tulis kantor | L61: 9146000 | M61: 3200000 | N61: 3196400 | Q61: =SUM(N61:P61) -> 3196400 | R61: =Q61/M61*100 -> 99.8875 | S61: =M61-Q61 -> 3600 | T61: 1446000 | U61: =T61+M61 -> 4646000 | V61: =T61+S61 -> 1449600 | AA61: 4500000 | AB61: 9146000 | AC61: =AB61-L61 -> 0 | AD61: =AA61+T61+M61 -> 9146000 | AG61: 3245400 | AJ61: =2344150+360000 -> 2704150 | AK61: =Z61+Y61+X61+W61+N61+AG61+AJ61+AI61+AH61 -> 9145950 | AL61: =AK61/AD61*100 -> 99.999453 | AQ61: =AK61+AM61+AN61+AO61+AP61 -> 9145950 | AR61: =AQ61/AB61*100 -> 99.999453 | AS61: =AB61-AQ61 -> 50 | AT61: 3091500 | AU61: =AT61+U61 -> 7737500 | AV61: =AK61 -> 9145950 | AW61: =AV61/AU61*100 -> 118.20291 | AX61: =AU61-AV61 -> -1408450 | AY61: =AS61/AB61*100 -> 0.00054668708 | AZ61: =AQ61-AO61 -> 9145950
C62: 5.2.01.07.2.01.04 | J62: Belanja perangko, materai dan benda pos lainnya | L62: 510000 | M62: 510000 | N62: 510000 | Q62: =SUM(N62:P62) -> 510000 | R62: =Q62/M62*100 -> 100 | S62: =M62-Q62 -> 0 | T62: 0 | U62: =T62+M62 -> 510000 | V62: =T62+S62 -> 0 | AA62: 0 | AB62: 510000 | AC62: =AB62-L62 -> 0 | AD62: =AA62+T62+M62 -> 510000 | AK62: =Z62+Y62+X62+W62+N62+AG62+AJ62+AI62+AH62 -> 510000 | AL62: =AK62/AD62*100 -> 100 | AQ62: =AK62+AM62+AN62+AO62+AP62 -> 510000 | AR62: =AQ62/AB62*100 -> 100 | AS62: =AB62-AQ62 -> 0 | AT62: 3091500 | AU62: =AT62+U62 -> 3601500 | AV62: =AK62 -> 510000 | AW62: =AV62/AU62*100 -> 14.160766 | AX62: =AU62-AV62 -> 3091500 | AY62: =AS62/AB62*100 -> 0 | AZ62: =AQ62-AO62 -> 510000
C63: 5.2.01.07.2.06 | I63: Belanja Cetak dan Penggandaan | AC63: =AB63-L63 -> 0 | AQ63: =AK63+AL63+AM63+AN63+AO63+AP63 -> 0 | AZ63: =AQ63-AO63 -> 0
C64: 5.2.01.07.2.06.02 | J64: Belanja Penggandaan | L64: 7000000 | M64: 2180000 | N64: 1429925 | Q64: =SUM(N64:P64) -> 1429925 | R64: =Q64/M64*100 -> 65.59289 | S64: =M64-Q64 -> 750075 | T64: 1800000 | U64: =T64+M64 -> 3980000 | V64: =T64+S64 -> 2550075 | W64: =910875+215250 -> 1126125 | AA64: 1470000 | AB64: 7000000 | AC64: =AB64-L64 -> 0 | AD64: =AA64+T64+M64 -> 5450000 | AG64: 1679125 | AK64: =Z64+Y64+X64+W64+N64+AG64+AJ64+AI64+AH64 -> 4235175 | AL64: =AK64/AD64*100 -> 77.709633 | AO64: 1848000 | AQ64: =AK64+AM64+AN64+AO64+AP64 -> 6083175 | AR64: =AQ64/AB64*100 -> 86.9025 | AS64: =AB64-AQ64 -> 916825 | AT64: 3091500 | AU64: =AT64+U64 -> 7071500 | AV64: =AK64 -> 4235175 | AW64: =AV64/AU64*100 -> 59.890759 | AX64: =AU64-AV64 -> 2836325 | AY64: =AS64/AB64*100 -> 13.0975 | AZ64: =AQ64-AO64 -> 4235175
C65: 5.2.01.07.2.11 | I65: Belanja Makanan dan Minuman | AC65: =AB65-L65 -> 0 | AQ65: =AK65+AL65+AM65+AN65+AO65+AP65 -> 0 | AS65: =AB65-AQ65 -> 0 | AZ65: =AQ65-AO65 -> 0
C66: 5.2.01.07.2.11.02 | J66: Belanja makanan dan minuman rapat | L66: 2500000 | M66: 1400000 | N66: 1400000 | Q66: =SUM(N66:P66) -> 1400000 | R66: =Q66/M66*100 -> 100 | S66: =M66-Q66 -> 0 | T66: 1100000 | U66: =T66+M66 -> 2500000 | V66: =T66+S66 -> 1100000 | AA66: 0 | AB66: 2500000 | AC66: =AB66-L66 -> 0 | AD66: =AA66+T66+M66 -> 2500000 | AJ66: 1050000 | AK66: =Z66+Y66+X66+W66+N66+AG66+AJ66+AI66+AH66 -> 2450000 | AL66: =AK66/AD66*100 -> 98 | AQ66: =AK66+AM66+AN66+AO66+AP66 -> 2450000 | AR66: =AQ66/AB66*100 -> 98 | AS66: =AB66-AQ66 -> 50000 | AT66: 3091500 | AU66: =AT66+U66 -> 5591500 | AV66: =AK66 -> 2450000 | AW66: =AV66/AU66*100 -> 43.816507 | AX66: =AU66-AV66 -> 3141500 | AY66: =AS66/AB66*100 -> 2 | AZ66: =AQ66-AO66 -> 2450000
C67: 5.2.01.07.2.15 | I67: Belanja Perjalanan Dinas | AC67: =AB67-L67 -> 0 | AQ67: =AK67+AL67+AM67+AN67+AO67+AP67 -> 0 | AS67: =AB67-AQ67 -> 0 | AZ67: =AQ67-AO67 -> 0
C68: 5.2.01.07.2.15.01 | J68: Belanja perjalanan dinas dalam daerah | L68: 7580000 | M68: 2300000 | N68: 960000 | Q68: =SUM(N68:P68) -> 960000 | R68: =Q68/M68*100 -> 41.73913 | S68: =M68-Q68 -> 1340000 | T68: 1900000 | U68: =T68+M68 -> 4200000 | V68: =T68+S68 -> 3240000 | W68: 1070000 | AA68: 2580000 | AB68: 7580000 | AC68: =AB68-L68 -> 0 | AD68: =AA68+T68+M68 -> 6780000 | AG68: 960000 | AJ68: 1020000 | AK68: =Z68+Y68+X68+W68+N68+AG68+AJ68+AI68+AH68 -> 4010000 | AL68: =AK68/AD68*100 -> 59.144543 | AO68: =480000+640000 -> 1120000 | AQ68: =AK68+AM68+AN68+AO68+AP68 -> 5130000 | AR68: =AQ68/AB68*100 -> 67.6781 | AS68: =AB68-AQ68 -> 2450000 | AT68: 3091500 | AU68: =AT68+U68 -> 7291500 | AV68: =AK68 -> 4010000 | AW68: =AV68/AU68*100 -> 54.995543 | AX68: =AU68-AV68 -> 3281500 | AY68: =AS68/AB68*100 -> 32.3219 | AZ68: =AQ68-AO68 -> 4010000
A69: 4 | C69: 5.2.01.18 | G69: Rapat-rapat koordinasi dan konsultasi ke luar daerah | L69: =SUM(L72:L76) -> 120000000 | M69: =SUM(M72:M76) -> 20876000 | N69: =SUM(N72:N76) -> 16476715 | O69: =SUM(O72:O76) -> 0 | P69: =SUM(P72:P76) -> 0 | Q69: =SUM(N69:P69) -> 16476715 | R69: =Q69/M69*100 -> 78.92659 | S69: =M69-Q69 -> 4399285 | T69: =SUM(T72:T76) -> 34816000 | U69: =T69+M69 -> 55692000 | V69: =T69+S69 -> 39215285 | W69: =SUM(W72:W76) -> 0 | X69: =SUM(X72:X76) -> 34887980 | Y69: =SUM(Y72:Y76) -> 0 | AA69: =SUM(AA72:AA76) -> 49308000 | AB69: =SUM(AB72:AB76) -> 120000000 | AC69: =AB69-L69 -> 0 | AD69: =AA69+T69+M69 -> 105000000 | AE69: =SUM(AE72:AE76) -> 3462400 | AF69: =SUM(AF72:AF76) -> 0 | AG69: =SUM(AG72:AG76) -> 889350 | AH69: =SUM(AH72:AH76) -> 0 | AI69: =SUM(AI72:AI76) -> 0 | AJ69: =SUM(AJ72:AJ76) -> 16145880 | AK69: =SUM(AK72:AK76) -> 71862325 | AL69: =AK69/AB69*100 -> 59.885271 | AM69: =SUM(AM72:AM76) -> 0 | AN69: =SUM(AN72:AN76) -> 0 | AO69: =SUM(AO72:AO76) -> 24647400 | AP69: =SUM(AP72:AP76) -> 0 | AQ69: =AK69+AM69+AN69+AO69+AP69 -> 96509725 | AR69: =AQ69/AB69*100 -> 80.424771 | AS69: =AB69-AQ69 -> 23490275 | AT69: =SUM(AT72:AT78) -> 21640500 | AU69: =AT69+U69 -> 77332500 | AV69: =AK69 -> 71862325 | AW69: =AV69/AU69*100 -> 92.926422 | AX69: =AU69-AV69 -> 5470175 | AY69: =AS69/AB69*100 -> 19.575229 | AZ69: =AQ69-AO69 -> 71862325
C70: 5.2.01.18.2 | H70: BELANJA BARANG DAN JASA | AC70: =AB70-L70 -> 0 | AZ70: =AQ70-AO70 -> 0
C71: 5.2.01.18.2.01 | I71: Belanja Bahan Pakai Habis | AC71: =AB71-L71 -> 0 | AZ71: =AQ71-AO71 -> 0
C72: 5.2.01.18.2.01.01 | J72: Belanja alat tulis kantor | L72: 476000 | M72: 476000 | N72: 475800 | Q72: =SUM(N72:P72) -> 475800 | R72: =Q72/M72*100 -> 99.957983 | S72: =M72-Q72 -> 200 | T72: 0 | U72: =T72+M72 -> 476000 | V72: =T72+S72 -> 200 | AA72: 0 | AB72: 476000 | AC72: =AB72-L72 -> 0 | AD72: =AA72+T72+M72 -> 476000 | AK72: =Z72+Y72+X72+W72+N72+AG72+AJ72+AI72+AH72 -> 475800 | AL72: =AK72/AD72*100 -> 99.957983 | AQ72: =AK72+AM72+AN72+AO72+AP72 -> 475800 | AR72: =AQ72/AB72*100 -> 99.957983 | AS72: =AB72-AQ72 -> 200 | AT72: 3091500 | AU72: =AT72+U72 -> 3567500 | AV72: =AK72 -> 475800 | AW72: =AV72/AU72*100 -> 13.337071 | AX72: =AU72-AV72 -> 3091700 | AY72: =AS72/AB72*100 -> 0.042016807 | AZ72: =AQ72-AO72 -> 475800
C73: 5.2.01.18.2.06 | I73: Belanja Cetak dan Penggandaan | AC73: =AB73-L73 -> 0 | AZ73: =AQ73-AO73 -> 0
C74: 5.2.01.18.2.06.02 | J74: Belanja Penggandaan | L74: 2116000 | M74: 400000 | N74: 399875 | Q74: =SUM(N74:P74) -> 399875 | R74: =Q74/M74*100 -> 99.96875 | S74: =M74-Q74 -> 125 | T74: 816000 | U74: =T74+M74 -> 1216000 | V74: =T74+S74 -> 816125 | AA74: 900000 | AB74: 2116000 | AC74: =AB74-L74 -> 0 | AD74: =AA74+T74+M74 -> 2116000 | AG74: 889350 | AJ74: 826700 | AK74: =Z74+Y74+X74+W74+N74+AG74+AJ74+AI74+AH74 -> 2115925 | AL74: =AK74/AD74*100 -> 99.996456 | AQ74: =AK74+AM74+AN74+AO74+AP74 -> 2115925 | AR74: =AQ74/AB74*100 -> 99.996456 | AS74: =AB74-AQ74 -> 75 | AT74: 3091500 | AU74: =AT74+U74 -> 4307500 | AV74: =AK74 -> 2115925 | AW74: =AV74/AU74*100 -> 49.12188 | AX74: =AU74-AV74 -> 2191575 | AY74: =AS74/AB74*100 -> 0.0035444234 | AZ74: =AQ74-AO74 -> 2115925
C75: 5.2.01.18.2.15 | I75: Belanja Perjalanan Dinas | AC75: =AB75-L75 -> 0 | AQ75: =AK75+AL75+AM75+AN75+AO75+AP75 -> 0 | AS75: =AB75-AQ75 -> 0 | AZ75: =AQ75-AO75 -> 0
C76: 5.2.01.18.2.15.02 | J76: Belanja perjalanan dinas luar daerah | L76: 117408000 | M76: 20000000 | N76: =14202240+1398800 -> 15601040 | Q76: =SUM(N76:P76) -> 15601040 | R76: =Q76/M76*100 -> 78.0052 | S76: =M76-Q76 -> 4398960 | T76: 34000000 | U76: =T76+M76 -> 54000000 | V76: =T76+S76 -> 38398960 | X76: 34887980 | AA76: 48408000 | AB76: 117408000 | AC76: =AB76-L76 -> 0 | AD76: =AA76+T76+M76 -> 102408000 | AE76: 3462400 | AF76: 0 | AJ76: =11369180+3950000 -> 15319180 | AK76: =Z76+Y76+X76+W76+N76+AG76+AJ76+AI76+AH76+3462400 -> 69270600 | AL76: =AK76/AD76*100 -> 67.641786 | AM76: 0 | AO76: 24647400 | AQ76: =AK76+AM76+AN76+AO76+AP76 -> 93918000 | AR76: =AQ76/AB76*100 -> 79.992845 | AS76: =AB76-AQ76 -> 23490000 | AT76: 3091500 | AU76: =AT76+U76 -> 57091500 | AV76: =AK76 -> 69270600 | AW76: =AV76/AU76*100 -> 121.3326 | AX76: =AU76-AV76 -> -12179100 | AY76: =AS76/AB76*100 -> 20.007155 | AZ76: =AQ76-AO76 -> 69270600 | BB76: =AS76 -> 23490000
A77: 5 | C77: 5.2.01.19 | G77: Rapat-rapat koordinasi dan konsultasi dalam daerah | L77: =SUM(L80:L86) -> 70000000 | M77: =SUM(M80:M86) -> 19200000 | N77: =SUM(N80:N86) -> 8207425 | O77: =SUM(O80:O86) -> 0 | P77: =SUM(P80:P86) -> 0 | Q77: =SUM(N77:P77) -> 8207425 | R77: =Q77/M77*100 -> 42.747005 | S77: =M77-Q77 -> 10992575 | T77: =SUM(T80:T86) -> 22140000 | U77: =T77+M77 -> 41340000 | V77: =T77+S77 -> 33132575 | W77: =SUM(W80:W86) -> 5487400 | X77: =SUM(X80:X86) -> 8540000 | Y77: =SUM(Y80:Y86) -> 0 | AA77: 18847000 | AB77: =SUM(AB80:AB86) -> 76000000 | AC77: =AB77-L77 -> 6000000 | AD77: =AA77+T77+M77 -> 60187000 | AE77: =SUM(AE80:AE86) -> 5230000 | AF77: =SUM(AF80:AF86) -> 0 | AG77: =SUM(AG80:AG86) -> 13530775 | AH77: =SUM(AH80:AH86) -> 0 | AI77: =SUM(AI80:AI86) -> 0 | AJ77: =SUM(AJ80:AJ86) -> 6035250 | AK77: =SUM(AK80:AK86) -> 47030850 | AL77: =AK77/AB77*100 -> 61.882697 | AM77: =SUM(AM80:AM86) -> 0 | AN77: =SUM(AN80:AN86) -> 0 | AO77: =SUM(AO80:AO86) -> 6713250 | AP77: =SUM(AP80:AP86) -> 0 | AQ77: =AK77+AM77+AN77+AO77+AP77 -> 53744100 | AR77: =AQ77/AB77*100 -> 70.715921 | AS77: =AB77-AQ77 -> 22255900 | AT77: =SUM(AT80:AT86) -> 12366000 | AU77: =AT77+U77 -> 53706000 | AV77: =AK77 -> 47030850 | AW77: =AV77/AU77*100 -> 87.570942 | AX77: =AU77-AV77 -> 6675150 | AY77: =AS77/AB77*100 -> 29.284079 | AZ77: =AQ77-AO77 -> 47030850
C78: 5.2.01.19.2 | H78: BELANJA BARANG DAN JASA | AC78: =AB78-L78 -> 0 | AQ78: =AK78+AL78+AM78+AN78+AO78+AP78 -> 0 | AS78: =AB78-AQ78 -> 0 | AZ78: =AQ78-AO78 -> 0
C79: 5.2.01.19.2.01 | I79: Belanja Bahan Pakai Habis | AC79: =AB79-L79 -> 0 | AQ79: =AK79+AL79+AM79+AN79+AO79+AP79 -> 0 | AS79: =AB79-AQ79 -> 0 | AZ79: =AQ79-AO79 -> 0
C80: 5.2.01.19.2.01.01 | J80: Belanja alat tulis kantor | L80: 3847000 | M80: 1500000 | N80: 1500000 | Q80: =SUM(N80:P80) -> 1500000 | R80: =Q80/M80*100 -> 100 | S80: =M80-Q80 -> 0 | T80: 1500000 | U80: =T80+M80 -> 3000000 | V80: =T80+S80 -> 1500000 | AA80: 847000 | AB80: 3847000 | AC80: =AB80-L80 -> 0 | AD80: =AA80+T80+M80 -> 3847000 | AG80: 1490800 | AJ80: 855300 | AK80: =Z80+Y80+X80+W80+N80+AG80+AJ80+AI80+AH80 -> 3846100 | AL80: =AK80/AD80*100 -> 99.976605 | AQ80: =AK80+AM80+AN80+AO80+AP80 -> 3846100 | AR80: =AQ80/AB80*100 -> 99.976605 | AS80: =AB80-AQ80 -> 900 | AT80: 3091500 | AU80: =AT80+U80 -> 6091500 | AV80: =AK80 -> 3846100 | AW80: =AV80/AU80*100 -> 63.1388 | AX80: =AU80-AV80 -> 2245400 | AY80: =AS80/AB80*100 -> 0.023394853 | AZ80: =AQ80-AO80 -> 3846100
C81: 5.2.01.19.2.06 | I81: Belanja Cetak dan Penggandaan | AC81: =AB81-L81 -> 0 | AQ81: =AK81+AL81+AM81+AN81+AO81+AP81 -> 0 | AS81: =AB81-AQ81 -> 0 | AZ81: =AQ81-AO81 -> 0
C82: 5.2.01.19.2.06.02 | J82: Belanja Penggandaan | L82: 6713000 | M82: 2500000 | N82: 1499925 | Q82: =SUM(N82:P82) -> 1499925 | R82: =Q82/M82*100 -> 59.997 | S82: =M82-Q82 -> 1000075 | T82: 1500000 | U82: =T82+M82 -> 4000000 | V82: =T82+S82 -> 2500075 | W82: 1999900 | AA82: 1000000 | AB82: 6838000 | AC82: =AB82-L82 -> 125000 | AD82: =AA82+T82+M82 -> 5000000 | AG82: 499975 | AJ82: 999950 | AK82: =Z82+Y82+X82+W82+N82+AG82+AJ82+AI82+AH82 -> 4999750 | AL82: =AK82/AD82*100 -> 99.995 | AO82: 1713250 | AQ82: =AK82+AM82+AN82+AO82+AP82 -> 6713000 | AR82: =AQ82/AB82*100 -> 98.17198 | AS82: =AB82-AQ82 -> 125000 | AT82: 3091500 | AU82: =AT82+U82 -> 7091500 | AV82: =AK82 -> 4999750 | AW82: =AV82/AU82*100 -> 70.50342 | AX82: =AU82-AV82 -> 2091750 | AY82: =AS82/AB82*100 -> 1.8280199 | AZ82: =AQ82-AO82 -> 4999750
C83: 5.2.01.19.2.11 | I83: Belanja Makanan dan Minuman | AC83: =AB83-L83 -> 0 | AQ83: =AK83+AL83+AM83+AN83+AO83+AP83 -> 0 | AS83: =AB83-AQ83 -> 0 | AZ83: =AQ83-AO83 -> 0
C84: 5.2.01.19.2.11.02 | J84: Belanja makanan dan minuman rapat | L84: 15000000 | M84: 4200000 | N84: 2937500 | Q84: =SUM(N84:P84) -> 2937500 | R84: =Q84/M84*100 -> 69.940476 | S84: =M84-Q84 -> 1262500 | T84: 5800000 | U84: =T84+M84 -> 10000000 | V84: =T84+S84 -> 7062500 | W84: =875000+2612500 -> 3487500 | AA84: 3000000 | AB84: 20875000 | AC84: =AB84-L84 -> 5875000 | AD84: =AA84+T84+M84 -> 13000000 | AG84: =3575000+2835000 -> 6410000 | AK84: =Z84+Y84+X84+W84+N84+AG84+AJ84+AI84+AH84 -> 12835000 | AL84: =AK84/AD84*100 -> 98.730769 | AO84: 5000000 | AQ84: =AK84+AM84+AN84+AO84+AP84 -> 17835000 | AR84: =AQ84/AB84*100 -> 85.437126 | AS84: =AB84-AQ84 -> 3040000 | AT84: 3091500 | AU84: =AT84+U84 -> 13091500 | AV84: =AK84 -> 12835000 | AW84: =AV84/AU84*100 -> 98.040713 | AX84: =AU84-AV84 -> 256500 | AY84: =AS84/AB84*100 -> 14.562874 | AZ84: =AQ84-AO84 -> 12835000
C85: 5.2.01.19.2.15 | I85: Belanja Perjalanan Dinas | AC85: =AB85-L85 -> 0 | AQ85: =AK85+AL85+AM85+AN85+AO85+AP85 -> 0 | AS85: =AB85-AQ85 -> 0 | AZ85: =AQ85-AO85 -> 0
C86: 5.2.01.19.2.15.01 | J86: Belanja perjalanan dinas dalam daerah | L86: 44440000 | M86: 11000000 | N86: 2270000 | Q86: =SUM(N86:P86) -> 2270000 | R86: =Q86/M86*100 -> 20.636364 | S86: =M86-Q86 -> 8730000 | T86: 13340000 | U86: =T86+M86 -> 24340000 | V86: =T86+S86 -> 22070000 | X86: 8540000 | AA86: 14000000 | AB86: 44440000 | AC86: =AB86-L86 -> 0 | AD86: =AA86+T86+M86 -> 38340000 | AE86: 5230000 | AF86: 0 | AG86: 5130000 | AJ86: 4180000 | AK86: =Z86+Y86+X86+W86+N86+AG86+AJ86+AI86+AH86+5230000 -> 25350000 | AL86: =AK86/AD86*100 -> 66.118936 | AM86: 0 | AQ86: =AK86+AM86+AN86+AO86+AP86 -> 25350000 | AR86: =AQ86/AB86*100 -> 57.043204 | AS86: =AB86-AQ86 -> 19090000 | AT86: 3091500 | AU86: =AT86+U86 -> 27431500 | AV86: =AK86 -> 25350000 | AW86: =AV86/AU86*100 -> 92.412008 | AX86: =AU86-AV86 -> 2081500 | AY86: =AS86/AB86*100 -> 42.956796 | AZ86: =AQ86-AO86 -> 25350000 | BB86: =AS86 -> 19090000
A87: II | C87: 5.2.02 | F87: Program Peningkatan Sarana dan Prasarana Aparatur | L87: =L88+L102+L110+L114+L118 -> 782990000 | M87: =M88+M102+M110+M114+M118 -> 152965500 | N87: =N88+N102+N110+N114+N118 -> 75620400 | O87: =O88+O102+O110+O114+O118 -> 0 | P87: =P88+P102+P110+P114+P118 -> 0 | Q87: =SUM(N87:P87) -> 75620400 | R87: =Q87/M87*100 -> 49.436245 | S87: =M87-Q87 -> 77345100 | T87: =T88+T102+T110+T114+T118 -> 152720500 | U87: =T87+M87 -> 305686000 | V87: =T87+S87 -> 230065600 | W87: =W88+W102+W110+W114+W118 -> 76068150 | X87: =X88+X102+X110+X114+X118 -> 9735000 | Y87: =Y88+Y102+Y110+Y114+Y118 -> 0 | AA87: 348681000 | AB87: =AB88+AB102+AB110+AB114+AB118 -> 740856000 | AC87: =AB87-L87 -> -42134000 | AD87: =AA87+T87+M87 -> 654367000 | AE87: =AE88+AE102+AE110+AE114+AE118 -> 21300000 | AF87: =AF88+AF102+AF110+AF114+AF118 -> 0 | AG87: =AG88+AG102+AG110+AG114+AG118 -> 76975100 | AH87: =AH88+AH102+AH110+AH114+AH118 -> 0 | AI87: =AI88+AI102+AI110+AI114+AI118 -> 0 | AJ87: =AJ88+AJ102+AJ110+AJ114+AJ118 -> 59687000 | AK87: =AK88+AK102+AK110+AK114+AK118 -> 319385650 | AL87: =AK87/AB87*100 -> 43.110355 | AM87: =AM88+AM102+AM110+AM114+AM118 -> 182561000 | AN87: =AN88+AN102+AN110+AN114+AN118 -> 0 | AO87: =AO88+AO102+AO110+AO114+AO118 -> 63573550 | AP87: =AP88+AP102+AP110+AP114+AP118 -> 0 | AQ87: =AK87+AM87+AN87+AO87+AP87 -> 565520200 | AR87: =AQ87/AB87*100 -> 76.33335 | AS87: =AB87-AQ87 -> 175335800 | AT87: 120767500 | AU87: =AT87+U87 -> 426453500 | AV87: =AK87 -> 319385650 | AW87: =AV87/AU87*100 -> 74.893429 | AX87: =AU87-AV87 -> 107067850 | AY87: =AS87/AB87*100 -> 23.66665 | AZ87: =AQ87-AO87 -> 501946650
A88: 6 | C88: 5.2.02.22 | G88: Pemeliharaan rutin/berkala gedung kantor | L88: =SUM(L91:L101) -> 165840000 | M88: =SUM(M91:M101) -> 39311500 | N88: =SUM(N91:N101) -> 26303500 | O88: =SUM(O91:O101) -> 0 | P88: =SUM(P91:P101) -> 0 | Q88: =SUM(N88:P88) -> 26303500 | R88: =Q88/M88*100 -> 66.910446 | S88: =M88-Q88 -> 13008000 | T88: =SUM(T91:T101) -> 39631500 | U88: =T88+M88 -> 78943000 | V88: =T88+S88 -> 52639500 | W88: =SUM(W91:W101) -> 23075000 | X88: =SUM(X91:X101) -> 0 | Y88: =SUM(Y91:Y101) -> 0 | AA88: =SUM(AA91:AA101) -> 47271500 | AB88: =SUM(AB91:AB101) -> 166200000 | AC88: =AB88-L88 -> 360000 | AD88: =AA88+T88+M88 -> 126214500 | AE88: =SUM(AE91:AE101) -> 21300000 | AF88: =SUM(AF91:AF101) -> 0 | AG88: =SUM(AG91:AG101) -> 18544800 | AH88: =SUM(AH91:AH101) -> 0 | AI88: =SUM(AI91:AI101) -> 0 | AJ88: =SUM(AJ91:AJ101) -> 34204850 | AK88: =SUM(AK91:AK101) -> 123428150 | AL88: =AK88/AB88*100 -> 74.264832 | AM88: =SUM(AM91:AM101) -> 0 | AN88: =SUM(AN91:AN101) -> 0 | AO88: =SUM(AO91:AO101) -> 16628300 | AP88: =SUM(AP91:AP101) -> 0 | AQ88: =AK88+AM88+AN88+AO88+AP88 -> 140056450 | AR88: =AQ88/AB88*100 -> 84.269826 | AS88: =AB88-AQ88 -> 26143550 | AT88: =SUM(AT91:AT97) -> 15457500 | AU88: =AT88+U88 -> 94400500 | AV88: =AK88 -> 123428150 | AW88: =AV88/AU88*100 -> 130.74947 | AX88: =AU88-AV88 -> -29027650 | AY88: =AS88/AB88*100 -> 15.730174 | AZ88: =AQ88-AO88 -> 123428150
C89: 5.2.02.22.2 | H89: BELANJA BARANG DAN JASA | AC89: =AB89-L89 -> 0 | AQ89: =AK89+AL89+AM89+AN89+AO89+AP89 -> 0 | AS89: =AB89-AQ89 -> 0 | AZ89: =AQ89-AO89 -> 0
C90: 5.2.02.22.2.01 | I90: Belanja Bahan Pakai Habis | AC90: =AB90-L90 -> 0 | AQ90: =AK90+AL90+AM90+AN90+AO90+AP90 -> 0 | AS90: =AB90-AQ90 -> 0 | AZ90: =AQ90-AO90 -> 0
C91: 5.2.02.22.2.01.03 | J91: Belanja alat listrik dan elektronik ( lampu pijar, battery kering) | L91: 6488000 | M91: 1622000 | N91: 1622000 | Q91: =SUM(N91:P91) -> 1622000 | R91: =Q91/M91*100 -> 100 | S91: =M91-Q91 -> 0 | T91: 1622000 | U91: =T91+M91 -> 3244000 | V91: =T91+S91 -> 1622000 | AA91: 1622000 | AB91: 6488000 | AC91: =AB91-L91 -> 0 | AD91: =AA91+T91+M91 -> 4866000 | AG91: 1622000 | AJ91: 1619500 | AK91: =Z91+Y91+X91+W91+N91+AG91+AJ91+AI91+AH91 -> 4863500 | AL91: =AK91/AD91*100 -> 99.948623 | AO91: 1624500 | AQ91: =AK91+AM91+AN91+AO91+AP91 -> 6488000 | AR91: =AQ91/AB91*100 -> 100 | AS91: =AB91-AQ91 -> 0 | AT91: 3091500 | AU91: =AT91+U91 -> 6335500 | AV91: =AK91 -> 4863500 | AW91: =AV91/AU91*100 -> 76.765843 | AX91: =AU91-AV91 -> 1472000 | AY91: =AS91/AB91*100 -> 0 | AZ91: =AQ91-AO91 -> 4863500
C92: 5.2.02.22.2.01.05 | J92: Belanja peralatan kebersihan dan bahan pembersih | L92: 12742000 | M92: 3185500 | N92: 3185500 | Q92: =SUM(N92:P92) -> 3185500 | R92: =Q92/M92*100 -> 100 | S92: =M92-Q92 -> 0 | T92: 3185500 | U92: =T92+M92 -> 6371000 | V92: =T92+S92 -> 3185500 | AA92: 3185500 | AB92: 12742000 | AC92: =AB92-L92 -> 0 | AD92: =AA92+T92+M92 -> 9556500 | AG92: =3181300+1440000 -> 4621300 | AJ92: 1746800 | AK92: =Z92+Y92+X92+W92+N92+AG92+AJ92+AI92+AH92 -> 9553600 | AL92: =AK92/AD92*100 -> 99.969654 | AO92: =2576900+610900 -> 3187800 | AQ92: =AK92+AM92+AN92+AO92+AP92 -> 12741400 | AR92: =AQ92/AB92*100 -> 99.995291 | AS92: =AB92-AQ92 -> 600 | AT92: 3091500 | AU92: =AT92+U92 -> 9462500 | AV92: =AK92 -> 9553600 | AW92: =AV92/AU92*100 -> 100.96275 | AX92: =AU92-AV92 -> -91100 | AY92: =AS92/AB92*100 -> 0.0047088369 | AZ92: =AQ92-AO92 -> 9553600
C93: 5.2.02.22.2.03 | I93: Belanja Jasa Kantor | AC93: =AB93-L93 -> 0 | AZ93: =AQ93-AO93 -> 0
C94: 5.2.02.22.2.03.14 | J94: Belanja Jasa Tenaga Kerja Non Pegawai | L94: 133000000 | M94: 33280000 | N94: =8300000+13100000 -> 21400000 | Q94: =SUM(N94:P94) -> 21400000 | R94: =Q94/M94*100 -> 64.302885 | S94: =M94-Q94 -> 11880000 | T94: 33240000 | U94: =T94+M94 -> 66520000 | V94: =T94+S94 -> 45120000 | W94: =8500000+13300000 -> 21800000 | AA94: 33240000 | AB94: 133000000 | AC94: =AB94-L94 -> 0 | AD94: =AA94+T94+M94 -> 99760000 | AE94: 21300000 | AF94: 0 | AG94: =4400000+7000000 -> 11400000 | AJ94: =4400000+6700000+4200000+6600000 -> 21900000 | AK94: =Z94+Y94+X94+W94+N94+AG94+AJ94+AI94+AH94+21300000 -> 97800000 | AL94: =AK94/AD94*100 -> 98.035285 | AO94: =4450000+7150000 -> 11600000 | AQ94: =AK94+AM94+AN94+AO94+AP94 -> 109400000 | AR94: =AQ94/AB94*100 -> 82.255639 | AS94: =AB94-AQ94 -> 23600000 | AT94: 3091500 | AU94: =AT94+U94 -> 69611500 | AV94: =AK94 -> 97800000 | AW94: =AV94/AU94*100 -> 140.49403 | AX94: =AU94-AV94 -> -28188500 | AY94: =AS94/AB94*100 -> 17.744361 | AZ94: =AQ94-AO94 -> 97800000
C95: 5.2.02.22.2.05 | I95: Belanja Perawatan Kendaraan Bermotor | AC95: =AB95-L95 -> 0 | AZ95: =AQ95-AO95 -> 0
C96: 5.2.02.22.2.05.01 | J96: Belanja Jasa Service dan Pelumas | L96: 720000 | M96: 0 | Q96: =SUM(N96:P96) -> 0 | S96: =M96-Q96 -> 0 | T96: 360000 | U96: =T96+M96 -> 360000 | V96: =T96+S96 -> 360000 | AA96: 0 | AB96: 720000 | AC96: =AB96-L96 -> 0 | AD96: =AA96+T96+M96 -> 360000 | AJ96: =120000+240000 -> 360000 | AK96: =Z96+Y96+X96+W96+N96+AG96+AJ96+AI96+AH96 -> 360000 | AL96: =AK96/AD96*100 -> 100 | AQ96: =AK96+AM96+AN96+AO96+AP96 -> 360000 | AR96: =AQ96/AB96*100 -> 50 | AS96: =AB96-AQ96 -> 360000 | AT96: 3091500 | AU96: =AT96+U96 -> 3451500 | AV96: =AK96 -> 360000 | AW96: =AV96/AU96*100 -> 10.430248 | AX96: =AU96-AV96 -> 3091500 | AY96: =AS96/AB96*100 -> 50 | AZ96: =AQ96-AO96 -> 360000
C97: 5.2.02.22.2.05.03 | J97: Belanja Bahan Bakar Minyak/Gas | L97: 4050000 | M97: 1014000 | Q97: =SUM(N97:P97) -> 0 | R97: =Q97/M97*100 -> 0 | S97: =M97-Q97 -> 1014000 | T97: 1014000 | U97: =T97+M97 -> 2028000 | V97: =T97+S97 -> 2028000 | W97: =235800+943200+96000 -> 1275000 | AA97: 1014000 | AB97: 4050000 | AC97: =AB97-L97 -> 0 | AD97: =AA97+T97+M97 -> 3042000 | AG97: =117900+471600-96000 -> 493500 | AJ97: =176850+353700 -> 530550 | AK97: =Z97+Y97+X97+W97+N97+AG97+AJ97+AI97+AH97 -> 2299050 | AL97: =AK97/AD97*100 -> 75.576923 | AQ97: =AK97+AM97+AN97+AO97+AP97 -> 2299050 | AR97: =AQ97/AB97*100 -> 56.766667 | AS97: =AB97-AQ97 -> 1750950 | AT97: 3091500 | AU97: =AT97+U97 -> 5119500 | AV97: =AK97 -> 2299050 | AW97: =AV97/AU97*100 -> 44.907706 | AX97: =AU97-AV97 -> 2820450 | AY97: =AS97/AB97*100 -> 43.233333 | AZ97: =AQ97-AO97 -> 2299050
C98: 5.2.02.22.2.20 | I98: Belanja Pemeliharaan | AC98: =AB98-L98 -> 0 | AZ98: =AQ98-AO98 -> 0
C99: 5.2.02.22.2.20.03 | J99: Belanja Pemeliharaan Gedung | L99: 8000000 | M99: 0 | Q99: =SUM(N99:P99) -> 0 | S99: =M99-Q99 -> 0 | T99: 0 | U99: =T99+M99 -> 0 | V99: =T99+S99 -> 0 | AA99: 8000000 | AB99: 8000000 | AC99: =AB99-L99 -> 0 | AD99: =AA99+T99+M99 -> 8000000 | AJ99: 8000000 | AK99: =Z99+Y99+X99+W99+N99+AG99+AJ99+AI99+AH99 -> 8000000 | AL99: =AK99/AD99*100 -> 100 | AQ99: =AK99+AM99+AN99+AO99+AP99 -> 8000000 | AR99: =AQ99/AB99*100 -> 100 | AS99: =AB99-AQ99 -> 0 | AT99: 3091500 | AU99: =AT99+U99 -> 3091500 | AV99: =AK99 -> 8000000 | AW99: =AV99/AU99*100 -> 258.77406 | AX99: =AU99-AV99 -> -4908500 | AY99: =AS99/AB99*100 -> 0 | AZ99: =AQ99-AO99 -> 8000000
C100: 5.2.02.22.2.25 | I100: Belanja Pajak / Retribusi | AC100: =AB100-L100 -> 0 | AZ100: =AQ100-AO100 -> 0
C101: 5.2.02.22.2.25.03 | J101: Belanja Jasa Retribusi Kebersihan Kantor | L101: 840000 | M101: 210000 | N101: 96000 | Q101: =SUM(N101:P101) -> 96000 | R101: =Q101/M101*100 -> 45.714286 | S101: =M101-Q101 -> 114000 | T101: 210000 | U101: =T101+M101 -> 420000 | V101: =T101+S101 -> 324000 | AA101: 210000 | AB101: 1200000 | AC101: =AB101-L101 -> 360000 | AD101: =AA101+T101+M101 -> 630000 | AG101: =216000+96000+96000 -> 408000 | AJ101: 48000 | AK101: =Z101+Y101+X101+W101+N101+AG101+AJ101+AI101+AH101 -> 552000 | AL101: =AK101/AD101*100 -> 87.619048 | AO101: 216000 | AQ101: =AK101+AM101+AN101+AO101+AP101 -> 768000 | AR101: =AQ101/AB101*100 -> 64 | AS101: =AB101-AQ101 -> 432000 | AT101: 3091500 | AU101: =AT101+U101 -> 3511500 | AV101: =AK101 -> 552000 | AW101: =AV101/AU101*100 -> 15.719778 | AX101: =AU101-AV101 -> 2959500 | AY101: =AS101/AB101*100 -> 36 | AZ101: =AQ101-AO101 -> 552000
A102: 7 | C102: 5.2.02.24 | G102: Pemeliharaan rutin/berkala kendaraan dinas/operasional | L102: =SUM(L105:L109) -> 355150000 | M102: =SUM(M105:M109) -> 87904000 | N102: =SUM(N105:N109) -> 40819900 | O102: =SUM(O105:O109) -> 0 | P102: =SUM(P105:P109) -> 0 | Q102: =SUM(N102:P102) -> 40819900 | R102: =Q102/M102*100 -> 46.436908 | S102: =M102-Q102 -> 47084100 | T102: =SUM(T105:T109) -> 96731000 | U102: =T102+M102 -> 184635000 | V102: =T102+S102 -> 143815100 | W102: =SUM(W105:W109) -> 33578150 | X102: =SUM(X105:X109) -> 0 | Y102: =SUM(Y105:Y109) -> 0 | AA102: =SUM(AA105:AA109) -> 81517500 | AB102: =SUM(AB105:AB109) -> 312656000 | AC102: =AB102-L102 -> -42494000 | AD102: =AA102+T102+M102 -> 266152500 | AE102: =SUM(AE105:AE109) -> 0 | AF102: =SUM(AF105:AF109) -> 0 | AG102: =SUM(AG105:AG109) -> 41225300 | AH102: =SUM(AH105:AH109) -> 0 | AI102: =SUM(AI105:AI109) -> 0 | AJ102: =SUM(AJ105:AJ109) -> 25482150 | AK102: =SUM(AK105:AK109) -> 141105500 | AL102: =AK102/AB102*100 -> 45.13123 | AM102: =SUM(AM105:AM109) -> 0 | AN102: =SUM(AN105:AN109) -> 0 | AO102: =SUM(AO105:AO109) -> 24227250 | AP102: =SUM(AP105:AP109) -> 0 | AQ102: =AK102+AM102+AN102+AO102+AP102 -> 165332750 | AR102: =AQ102/AB102*100 -> 52.880082 | AS102: =AB102-AQ102 -> 147323250 | AT102: =SUM(AT105:AT111) -> 430315500 | AU102: =AT102+U102 -> 614950500 | AV102: =AK102 -> 141105500 | AW102: =AV102/AU102*100 -> 22.945831 | AX102: =AU102-AV102 -> 473845000 | AY102: =AS102/AB102*100 -> 47.119918 | AZ102: =AQ102-AO102 -> 141105500
C103: 5.2.02.24.2 | H103: BELANJA BARANG DAN JASA | AC103: =AB103-L103 -> 0 | AQ103: =AK103+AL103+AM103+AN103+AO103+AP103 -> 0 | AS103: =AB103-AQ103 -> 0 | AZ103: =AQ103-AO103 -> 0
C104: 5.2.02.24.2.05 | I104: Belanja Perawatan Kendaraan Bermotor | AC104: =AB104-L104 -> 0 | AQ104: =AK104+AL104+AM104+AN104+AO104+AP104 -> 0 | AS104: =AB104-AQ104 -> 0 | AZ104: =AQ104-AO104 -> 0
...

Sheet rekapan 2019 tok
B1: REKAPITULASI ANGGARAN TAHUN 2019
B2: DINAS PRINDUSTRIAN DAN TENAGA KERJA
B3: KABUPATEN MAGELANG
A5: NO | B5: Kode Rekening | C5: Uraian | D5: Anggaran Tahun 2019
A6: 1 | B6: 2 | C6: 3
A7: A | B7: 201.2010101.00.000.4 | C7: PENDAPATAN | D7: 33000000
B8: 201.2010101.00.000.4.1 | C8: PENDAPATAN ASLI DAERAH | D8: 33000000
B9: 201.2010101.00.000.4.1.2 | C9: Hasil Retribusi Daerah | D9: 33000000
B10: 201.2010101.00.000.4.1.2.02 | C10: Retribusi Jasa Usaha | D10: 33000000
B11: 201.2010101.00.000.4.1.2.02.01 | C11: Retribusi Pemakaian Kekayaan Daerah | D11: 33000000
B12: 201.2010101.00.000.4.1.2.03.12 | C12: Pemberian Pinjaman IMTA Kepada Pemberi Kerja Tenaga Kerja Asing | D12: 0
A14: B | B14: 201.2010101.00.000.5.1 | C14: BELANJA TIDAK LANGSUNG | D14: 6341834000
B15: 201.2010101.00.000.5.1.1 | C15: BELANJA PEGAWAI | D15: 6341834000
B16: 201.2010101.00.000.5.1.1.01 | C16: Gaji dan Tunjangan | D16: 5314124000
B17: 201.2010101.00.000.5.1.1.01.01 | C17: Gaji Pokok PNS/Uang Representasi | D17: 4097850000
B18: 201.2010101.00.000.5.1.1.01.02 | C18: Tunjangan Keluarga | D18: 400368000
B19: 201.2010101.00.000.5.1.1.01.03 | C19: Tunjangan Jabatan 2) | D19: 178091000
B20: 201.2010101.00.000.5.1.1.01.04 | C20: Tunjangan Fungsional | D20: 245299000
B21: 201.2010101.00.000.5.1.1.01.05 | C21: Tunjangan Fungsional Umum | D21: 52496000
B22: 201.2010101.00.000.5.1.1.01.06 | C22: Tunjangan Beras 1) | D22: 173808000
B23: 201.2010101.00.000.5.1.1.01.07 | C23: Tunjangan PPh/Tunjangan Khusus | D23: 22817000
B24: 201.2010101.00.000.5.1.1.01.08 | C24: Pembulatan Gaji | D24: 70000
B25: 201.2010101.00.000.5.1.1.01.21 | C25: Tunjangan BPJS Kesehatan | D25: 111998000
B26: 201.2010101.00.000.5.1.1.01.22 | C26: Iuran Jaminan Kecelakaan Kerja dan Jaminan Kematian ( JKK JK) | D26: 31327000
... B30: 201.2010101.00.000.5.1.1.06.16 | C30: Insentif Pemungutan Retribusi Daerah - Pemakaian Kekayaan Daerah | D30: 1650000
A32: C | B32: 201.2010101.00.000.5.2 | C32: BELANJA LANGSUNG | D32: 5321184000
A33: I | B33: 201.2010101.01 | C33: Program Pelayanan Administrasi Perkantoran | D33: 386568000
A34: 1 | B34: 201.2010101.01.001 | C34: Penyediaan jasa surat menyurat | D34: 25387000
B35: 201.2010101.01.001.5.2.2 | C35: BELANJA BARANG DAN JASA
B36: 201.2010101.01.001.5.2.2.01 | C36: Belanja Bahan Pakai Habis
B37: 201.2010101.01.001.5.2.2.01.01 | C37: Belanja alat tulis kantor | D37: 12578000
B38: 201.2010101.01.001.5.2.2.06 | C38: Belanja Cetak dan Penggandaan
B39: 201.2010101.01.001.5.2.2.06.01 | C39: Belanja Cetak | D39: 4759000
B40: 201.2010101.01.001.5.2.2.06.02 | C40: Belanja Penggandaan | D40: 8050000
A41: 2 | B41: 201.2010101.01.002 | C41: Penyediaan jasa komunikasi, sumber daya air dan listrik | D41: 110000000
B42: 201.2010101.01.002.5.2.2 | C42: BELANJA BARANG DAN JASA
B43: 201.2010101.01.002.5.2.2.03 | C43: Belanja Jasa Kantor
B44: 201.2010101.01.002.5.2.2.03.01 | C44: Belanja telepon | D44: 14720000
B45: 201.2010101.01.002.5.2.2.03.02 | C45: Belanja air | D45: 10800000
B46: 201.2010101.01.002.5.2.2.03.03 | C46: Belanja listrik | D46: 58800000
B47: 201.2010101.01.002.5.2.2.03.05 | C47: Belanja surat kabar/majalah | D47: 2880000
B48: 201.2010101.01.002.5.2.2.03.06 | C48: Belanja kawat/faksimili/internet/TV Berbayar | D48: 22800000
A49: 3 | B49: 201.2010101.01.007 | C49: Penyediaan jasa administrasi keuangan | D49: 64481000
B50: 201.2010101.01.007.5.2.1 | C50: BELANJA PEGAWAI
B51: 201.2010101.01.007.5.2.1.01 | C51: Honorarium PNS
B52: 201.2010101.01.007.5.2.1.01.03 | C52: Honorarium Pengelola Keuangan SKPD | D52: 31200000
B53: 201.2010101.01.007.5.2.1.03 | C53: Uang Lembur
B54: 201.2010101.01.007.5.2.1.03.01 | C54: Uang Lembur PNS | D54: 4620000
B55: 201.2010101.01.007.5.2.2 | C55: BELANJA BARANG DAN JASA
B56: 201.2010101.01.007.5.2.2.01 | C56: Belanja Bahan Pakai Habis
B57: 201.2010101.01.007.5.2.2.01.01 | C57: Belanja alat tulis kantor | D57: 7192000
B58: 201.2010101.01.007.5.2.2.06 | C58: Belanja Cetak dan Penggandaan
B59: 201.2010101.01.007.5.2.2.06.02 | C59: Belanja Penggandaan | D59: 12549000
B60: 201.2010101.01.007.5.2.2.15 | C60: Belanja Perjalanan Dinas
B61: 201.2010101.01.007.5.2.2.15.01 | C61: Belanja perjalanan dinas dalam daerah | D61: 8920000
A62: 4 | B62: 201.2010101.01.018 | C62: Rapat-rapat koordinasi dan konsultasi ke luar daerah | D62: 117257000
B63: 201.2010101.01.018.5.2.2 | C63: BELANJA BARANG DAN JASA
B64: 201.2010101.01.018.5.2.2.01 | C64: Belanja Bahan Pakai Habis
B65: 201.2010101.01.018.5.2.2.01.01 | C65: Belanja alat tulis kantor | D65: 539000
B66: 201.2010101.01.018.5.2.2.06 | C66: Belanja Cetak dan Penggandaan
B67: 201.2010101.01.018.5.2.2.06.02 | C67: Belanja Penggandaan | D67: 1068000
B68: 201.2010101.01.018.5.2.2.15 | C68: Belanja Perjalanan Dinas
B69: 201.2010101.01.018.5.2.2.15.02 | C69: Belanja perjalanan dinas luar daerah | D69: 115650000
A70: 5 | B70: 201.2010101.01.019 | C70: Rapat-rapat koordinasi dan konsultasi dalam daerah | D70: 69443000
B71: 201.2010101.01.019.5.2.2 | C71: BELANJA BARANG DAN JASA
B72: 201.2010101.01.019.5.2.2.01 | C72: Belanja Bahan Pakai Habis
B73: 201.2010101.01.019.5.2.2.01.01 | C73: Belanja alat tulis kantor | D73: 2117000
B74: 201.2010101.01.019.5.2.2.06 | C74: Belanja Cetak dan Penggandaan
B75: 201.2010101.01.019.5.2.2.06.02 | C75: Belanja Penggandaan | D75: 2366000
B76: 201.2010101.01.019.5.2.2.11 | C76: Belanja Makanan dan Minuman
B77: 201.2010101.01.019.5.2.2.11.02 | C77: Belanja makanan dan minuman rapat | D77: 24750000
B78: 201.2010101.01.019.5.2.2.15 | C78: Belanja Perjalanan Dinas
B79: 201.2010101.01.019.5.2.2.15.01 | C79: Belanja perjalanan dinas dalam daerah | D79: 40210000
A80: II | B80: 201.2010101.02 | C80: Program Peningkatan Sarana dan Prasarana Aparatur | D80: 1010624000
A81: 6 | B81: 201.2010101.02.022 | C81: Pemeliharaan rutin/berkala gedung kantor | D81: 161880000
B82: 201.2010101.02.022.5.2.2 | C82: BELANJA BARANG DAN JASA
B83: 201.2010101.02.022.5.2.2.01 | C83: Belanja Bahan Pakai Habis
B84: 201.2010101.02.022.5.2.2.01.03 | C84: Belanja alat listrik dan elektronik ( lampu pijar, battery kering) | D84: 5480000
B85: 201.2010101.02.022.5.2.2.01.05 | C85: Belanja peralatan kebersihan dan bahan pembersih | D85: 12528000
B86: 201.2010101.02.022.5.2.2.03 | C86: Belanja Jasa Kantor
B87: 201.2010101.02.022.5.2.2.03.14 | C87: Belanja Jasa Tenaga Kerja Non Pegawai | D87: 133000000
B88: 201.2010101.02.022.5.2.2.05 | C88: Belanja Perawatan Kendaraan Bermotor
B89: 201.2010101.02.022.5.2.2.05.03 | C89: Belanja Bahan Bakar Minyak/Gas | D89: 9792000
B90: 201.2010101.02.022.5.2.2.25 | C90: Belanja Pajak / Retribusi
B91: 201.2010101.02.022.5.2.2.25.03 | C91: Belanja Jasa Retribusi Kebersihan Kantor | D91: 1080000
A92: 7 | B92: 201.2010101.02.024 | C92: Pemeliharaan rutin/berkala kendaraan dinas/operasional | D92: 344845000
B93: 201.2010101.02.024.5.2.2 | C93: BELANJA BARANG DAN JASA
B94: 201.2010101.02.024.5.2.2.05 | C94: Belanja Perawatan Kendaraan Bermotor
B95: 201.2010101.02.024.5.2.2.05.01 | C95: Belanja Jasa Service dan Pelumas | D95: 61860000
B96: 201.2010101.02.024.5.2.2.05.02 | C96: Belanja Penggantian Suku Cadang | D96: 48737000
B97: 201.2010101.02.024.5.2.2.05.03 | C97: Belanja Bahan Bakar Minyak/Gas | D97: 220292000
B98: 201.2010101.02.024.5.2.2.05.04 | C98: Belanja Jasa KIR | D98: 1903000
B99: 201.2010101.02.024.5.2.2.05.05 | C99: Belanja Surat Tanda Nomor Kendaraan | D99: 12053000
A100: 8 | B100: 201.2010101.02.028 | C100: Pemeliharaan rutin/berkala peralatan gedung kantor | D100: 43002000
B101: 201.2010101.02.028.5.2.2 | C101: BELANJA BARANG DAN JASA
B102: 201.2010101.02.028.5.2.2.20 | C102: Belanja Pemeliharaan
B103: 201.2010101.02.028.5.2.2.20.08 | C103: Belanja Pemeliharaan Alat-alat Kantor | D103: 43002000
A104: 9 | B104: 201.2010101.02.042 | C104: Rehabilitasi Sedang / Berat Gedung Kantor | D104: 460897000
B105: 201.2010101.02.042.5.2.3 | C105: BELANJA MODAL
B106: 201.2010101.02.042.5.2.3.49 | C106: Belanja Modal Gedung dan Bangunan - Pengadaan Bangunan Gedung Tempat Kerja
...
